Workbook

Sheet PAX - TOTAL SOMA
A1: Tabela 1: Total de passageiros mensal por forma de acesso e linha metroviária - 2013 - 2026
A2: Concessionária MetrôRio
A4: Ano Mês | B4: Total Geral | C4: Pré-Pago | D4: Fetranspor | E4: Jaé | F4: Metrô Na Superfície | G4: Unitário | H4: Estudantes | I4: Pessoas com Necessidades Especiais e Doentes Crônicos | J4: Maior de 65 anos | K4: Funcionário | L4: Força de Segurança | M4: Outros
B5: Total | C5: Total | D5: Total | E5: Total | F5: Total | G5: Total | H5: Total | I5: Total | J5: Total | K5: Total | L5: Total | M5: Total
A6: 2026 | B6: =SUM(B7:B9) -> 47514109 | C6: =SUM(C7:C9) -> 803290 | D6: =SUM(D7:D9) -> 22862387 | E6: =SUM(E7:E9) -> 9648799 | F6: =SUM(F7:F9) -> 0 | G6: =SUM(G7:G9) -> 8310444 | H6: =SUM(H7:H9) -> 109515 | I6: =SUM(I7:I9) -> 531861 | ... M6: =SUM(M7:M9) -> 111678
A7: Janeiro | B7: ='PAX - LINHA 4'!B7+'PAX - LINHA 1'!B7+'PAX - LINHA 2'!B7 -> 14719619 | C7: ='PAX - LINHA 4'!C7+'PAX - LINHA 1'!C7+'PAX - LINHA 2'!C7 -> 245212 | D7: ='PAX - LINHA 4'!D7+'PAX - LINHA 1'!D7+'PAX - LINHA 2'!D7 -> 7316212 | E7: ='PAX - LINHA 4'!E7+'PAX - LINHA 1'!E7+'PAX - LINHA 2'!E7 -> 2844329 | F7: ='PAX - LINHA 4'!F7+'PAX - LINHA 1'!F7+'PAX - LINHA 2'!F7 -> 0 | G7: ='PAX - LINHA 4'!G7+'PAX - LINHA 1'!G7+'PAX - LINHA 2'!G7 -> 2469679 | H7: ='PAX - LINHA 4'!H7+'PAX - LINHA 1'!H7+'PAX - LINHA 2'!H7 -> 1016 | I7: ='PAX - LINHA 4'!I7+'PAX - LINHA 1'!I7+'PAX - LINHA 2'!I7 -> 165885 | ... M7: ='PAX - LINHA 4'!M7+'PAX - LINHA 1'!M7+'PAX - LINHA 2'!M7 -> 36168
A8: Fevereiro | B8: ='PAX - LINHA 4'!B8+'PAX - LINHA 1'!B8+'PAX - LINHA 2'!B8 -> 15766328 | C8: ='PAX - LINHA 4'!C8+'PAX - LINHA 1'!C8+'PAX - LINHA 2'!C8 -> 261249 | D8: ='PAX - LINHA 4'!D8+'PAX - LINHA 1'!D8+'PAX - LINHA 2'!D8 -> 7260903 | E8: ='PAX - LINHA 4'!E8+'PAX - LINHA 1'!E8+'PAX - LINHA 2'!E8 -> 3266279 | F8: ='PAX - LINHA 4'!F8+'PAX - LINHA 1'!F8+'PAX - LINHA 2'!F8 -> 0 | G8: ='PAX - LINHA 4'!G8+'PAX - LINHA 1'!G8+'PAX - LINHA 2'!G8 -> 3196229 | H8: ='PAX - LINHA 4'!H8+'PAX - LINHA 1'!H8+'PAX - LINHA 2'!H8 -> 17509 | I8: ='PAX - LINHA 4'!I8+'PAX - LINHA 1'!I8+'PAX - LINHA 2'!I8 -> 162982 | ... M8: ='PAX - LINHA 4'!M8+'PAX - LINHA 1'!M8+'PAX - LINHA 2'!M8 -> 39588
A9: Março | B9: ='PAX - LINHA 4'!B9+'PAX - LINHA 1'!B9+'PAX - LINHA 2'!B9 -> 17028162 | C9: ='PAX - LINHA 4'!C9+'PAX - LINHA 1'!C9+'PAX - LINHA 2'!C9 -> 296829 | D9: ='PAX - LINHA 4'!D9+'PAX - LINHA 1'!D9+'PAX - LINHA 2'!D9 -> 8285272 | E9: ='PAX - LINHA 4'!E9+'PAX - LINHA 1'!E9+'PAX - LINHA 2'!E9 -> 3538191 | F9: ='PAX - LINHA 4'!F9+'PAX - LINHA 1'!F9+'PAX - LINHA 2'!F9 -> 0 | G9: ='PAX - LINHA 4'!G9+'PAX - LINHA 1'!G9+'PAX - LINHA 2'!G9 -> 2644536 | H9: ='PAX - LINHA 4'!H9+'PAX - LINHA 1'!H9+'PAX - LINHA 2'!H9 -> 90990 | I9: ='PAX - LINHA 4'!I9+'PAX - LINHA 1'!I9+'PAX - LINHA 2'!I9 -> 202994 | ... M9: ='PAX - LINHA 4'!M9+'PAX - LINHA 1'!M9+'PAX - LINHA 2'!M9 -> 35922
A11: 2025 | B11: ='PAX - LINHA 4'!B11+'PAX - LINHA 1'!B11+'PAX - LINHA 2'!B11 -> 186352018 | C11: ='PAX - LINHA 4'!C11+'PAX - LINHA 1'!C11+'PAX - LINHA 2'!C11 -> 3944993 | D11: ='PAX - LINHA 4'!D11+'PAX - LINHA 1'!D11+'PAX - LINHA 2'!D11 -> 115531504 | E11: ='PAX - LINHA 4'!E11+'PAX - LINHA 1'!E11+'PAX - LINHA 2'!E11 -> 12507530 | F11: ='PAX - LINHA 4'!F11+'PAX - LINHA 1'!F11+'PAX - LINHA 2'!F11 -> 0 | G11: ='PAX - LINHA 4'!G11+'PAX - LINHA 1'!G11+'PAX - LINHA 2'!G11 -> 30084400 | H11: ='PAX - LINHA 4'!H11+'PAX - LINHA 1'!H11+'PAX - LINHA 2'!H11 -> 945239 | I11: ='PAX - LINHA 4'!I11+'PAX - LINHA 1'!I11+'PAX - LINHA 2'!I11 -> 2055213 | ... M11: ='PAX - LINHA 4'!M11+'PAX - LINHA 1'!M11+'PAX - LINHA 2'!M11 -> 396854
A12: Janeiro | B12: ='PAX - LINHA 4'!B12+'PAX - LINHA 1'!B12+'PAX - LINHA 2'!B12 -> 14674108 | C12: ='PAX - LINHA 4'!C12+'PAX - LINHA 1'!C12+'PAX - LINHA 2'!C12 -> 336268 | D12: ='PAX - LINHA 4'!D12+'PAX - LINHA 1'!D12+'PAX - LINHA 2'!D12 -> 9972306 | E12: ='PAX - LINHA 4'!E12+'PAX - LINHA 1'!E12+'PAX - LINHA 2'!E12 -> 0 | F12: ='PAX - LINHA 4'!F12+'PAX - LINHA 1'!F12+'PAX - LINHA 2'!F12 -> 0 | G12: ='PAX - LINHA 4'!G12+'PAX - LINHA 1'!G12+'PAX - LINHA 2'!G12 -> 2512440 | H12: ='PAX - LINHA 4'!H12+'PAX - LINHA 1'!H12+'PAX - LINHA 2'!H12 -> 15401 | I12: ='PAX - LINHA 4'!I12+'PAX - LINHA 1'!I12+'PAX - LINHA 2'!I12 -> 168974 | ... M12: ='PAX - LINHA 4'!M12+'PAX - LINHA 1'!M12+'PAX - LINHA 2'!M12 -> 31797
A13: Fevereiro | B13: ='PAX - LINHA 4'!B13+'PAX - LINHA 1'!B13+'PAX - LINHA 2'!B13 -> 15132860 | C13: ='PAX - LINHA 4'!C13+'PAX - LINHA 1'!C13+'PAX - LINHA 2'!C13 -> 375119 | D13: ='PAX - LINHA 4'!D13+'PAX - LINHA 1'!D13+'PAX - LINHA 2'!D13 -> 10280496 | E13: ='PAX - LINHA 4'!E13+'PAX - LINHA 1'!E13+'PAX - LINHA 2'!E13 -> 0 | F13: ='PAX - LINHA 4'!F13+'PAX - LINHA 1'!F13+'PAX - LINHA 2'!F13 -> 0 | G13: ='PAX - LINHA 4'!G13+'PAX - LINHA 1'!G13+'PAX - LINHA 2'!G13 -> 2593043 | H13: ='PAX - LINHA 4'!H13+'PAX - LINHA 1'!H13+'PAX - LINHA 2'!H13 -> 52125 | I13: ='PAX - LINHA 4'!I13+'PAX - LINHA 1'!I13+'PAX - LINHA 2'!I13 -> 148905 | ... M13: ='PAX - LINHA 4'!M13+'PAX - LINHA 1'!M13+'PAX - LINHA 2'!M13 -> 29787
A14: Março | B14: ='PAX - LINHA 4'!B14+'PAX - LINHA 1'!B14+'PAX - LINHA 2'!B14 -> 16231440 | C14: ='PAX - LINHA 4'!C14+'PAX - LINHA 1'!C14+'PAX - LINHA 2'!C14 -> 375724 | D14: ='PAX - LINHA 4'!D14+'PAX - LINHA 1'!D14+'PAX - LINHA 2'!D14 -> 10698854 | E14: ='PAX - LINHA 4'!E14+'PAX - LINHA 1'!E14+'PAX - LINHA 2'!E14 -> 0 | F14: ='PAX - LINHA 4'!F14+'PAX - LINHA 1'!F14+'PAX - LINHA 2'!F14 -> 0 | G14: ='PAX - LINHA 4'!G14+'PAX - LINHA 1'!G14+'PAX - LINHA 2'!G14 -> 3229008 | H14: ='PAX - LINHA 4'!H14+'PAX - LINHA 1'!H14+'PAX - LINHA 2'!H14 -> 61191 | I14: ='PAX - LINHA 4'!I14+'PAX - LINHA 1'!I14+'PAX - LINHA 2'!I14 -> 153975 | ... M14: ='PAX - LINHA 4'!M14+'PAX - LINHA 1'!M14+'PAX - LINHA 2'!M14 -> 33651
A15: Abril | B15: ='PAX - LINHA 4'!B15+'PAX - LINHA 1'!B15+'PAX - LINHA 2'!B15 -> 14216386 | C15: ='PAX - LINHA 4'!C15+'PAX - LINHA 1'!C15+'PAX - LINHA 2'!C15 -> 328655 | D15: ='PAX - LINHA 4'!D15+'PAX - LINHA 1'!D15+'PAX - LINHA 2'!D15 -> 9790367 | E15: ='PAX - LINHA 4'!E15+'PAX - LINHA 1'!E15+'PAX - LINHA 2'!E15 -> 0 | F15: ='PAX - LINHA 4'!F15+'PAX - LINHA 1'!F15+'PAX - LINHA 2'!F15 -> 0 | G15: ='PAX - LINHA 4'!G15+'PAX - LINHA 1'!G15+'PAX - LINHA 2'!G15 -> 2202593 | H15: ='PAX - LINHA 4'!H15+'PAX - LINHA 1'!H15+'PAX - LINHA 2'!H15 -> 84061 | I15: ='PAX - LINHA 4'!I15+'PAX - LINHA 1'!I15+'PAX - LINHA 2'!I15 -> 149248 | ... M15: ='PAX - LINHA 4'!M15+'PAX - LINHA 1'!M15+'PAX - LINHA 2'!M15 -> 32152
A16: Maio | B16: ='PAX - LINHA 4'!B16+'PAX - LINHA 1'!B16+'PAX - LINHA 2'!B16 -> 16140148 | C16: ='PAX - LINHA 4'!C16+'PAX - LINHA 1'!C16+'PAX - LINHA 2'!C16 -> 365156 | D16: ='PAX - LINHA 4'!D16+'PAX - LINHA 1'!D16+'PAX - LINHA 2'!D16 -> 11005919 | E16: ='PAX - LINHA 4'!E16+'PAX - LINHA 1'!E16+'PAX - LINHA 2'!E16 -> 0 | F16: ='PAX - LINHA 4'!F16+'PAX - LINHA 1'!F16+'PAX - LINHA 2'!F16 -> 0 | G16: ='PAX - LINHA 4'!G16+'PAX - LINHA 1'!G16+'PAX - LINHA 2'!G16 -> 2654189 | H16: ='PAX - LINHA 4'!H16+'PAX - LINHA 1'!H16+'PAX - LINHA 2'!H16 -> 107902 | I16: ='PAX - LINHA 4'!I16+'PAX - LINHA 1'!I16+'PAX - LINHA 2'!I16 -> 173630 | ... M16: ='PAX - LINHA 4'!M16+'PAX - LINHA 1'!M16+'PAX - LINHA 2'!M16 -> 35673
A17: Junho | B17: ='PAX - LINHA 4'!B17+'PAX - LINHA 1'!B17+'PAX - LINHA 2'!B17 -> 14620247 | C17: ='PAX - LINHA 4'!C17+'PAX - LINHA 1'!C17+'PAX - LINHA 2'!C17 -> 320367 | D17: ='PAX - LINHA 4'!D17+'PAX - LINHA 1'!D17+'PAX - LINHA 2'!D17 -> 10107362 | E17: ='PAX - LINHA 4'!E17+'PAX - LINHA 1'!E17+'PAX - LINHA 2'!E17 -> 0 | F17: ='PAX - LINHA 4'!F17+'PAX - LINHA 1'!F17+'PAX - LINHA 2'!F17 -> 0 | G17: ='PAX - LINHA 4'!G17+'PAX - LINHA 1'!G17+'PAX - LINHA 2'!G17 -> 2208187 | H17: ='PAX - LINHA 4'!H17+'PAX - LINHA 1'!H17+'PAX - LINHA 2'!H17 -> 103425 | I17: ='PAX - LINHA 4'!I17+'PAX - LINHA 1'!I17+'PAX - LINHA 2'!I17 -> 163798 | ... M17: ='PAX - LINHA 4'!M17+'PAX - LINHA 1'!M17+'PAX - LINHA 2'!M17 -> 34633
A18: Julho | B18: ='PAX - LINHA 4'!B18+'PAX - LINHA 1'!B18+'PAX - LINHA 2'!B18 -> 15370604 | C18: ='PAX - LINHA 4'!C18+'PAX - LINHA 1'!C18+'PAX - LINHA 2'!C18 -> 331507 | D18: ='PAX - LINHA 4'!D18+'PAX - LINHA 1'!D18+'PAX - LINHA 2'!D18 -> 10538318 | E18: ='PAX - LINHA 4'!E18+'PAX - LINHA 1'!E18+'PAX - LINHA 2'!E18 -> 0 | F18: ='PAX - LINHA 4'!F18+'PAX - LINHA 1'!F18+'PAX - LINHA 2'!F18 -> 0 | G18: ='PAX - LINHA 4'!G18+'PAX - LINHA 1'!G18+'PAX - LINHA 2'!G18 -> 2393124 | H18: ='PAX - LINHA 4'!H18+'PAX - LINHA 1'!H18+'PAX - LINHA 2'!H18 -> 70642 | I18: ='PAX - LINHA 4'!I18+'PAX - LINHA 1'!I18+'PAX - LINHA 2'!I18 -> 174541 | ... M18: ='PAX - LINHA 4'!M18+'PAX - LINHA 1'!M18+'PAX - LINHA 2'!M18 -> 31978
A19: Agosto | B19: ='PAX - LINHA 4'!B19+'PAX - LINHA 1'!B19+'PAX - LINHA 2'!B19 -> 15913835 | C19: ='PAX - LINHA 4'!C19+'PAX - LINHA 1'!C19+'PAX - LINHA 2'!C19 -> 333330 | D19: ='PAX - LINHA 4'!D19+'PAX - LINHA 1'!D19+'PAX - LINHA 2'!D19 -> 9489183 | E19: ='PAX - LINHA 4'!E19+'PAX - LINHA 1'!E19+'PAX - LINHA 2'!E19 -> 1563393 | F19: ='PAX - LINHA 4'!F19+'PAX - LINHA 1'!F19+'PAX - LINHA 2'!F19 -> 0 | G19: ='PAX - LINHA 4'!G19+'PAX - LINHA 1'!G19+'PAX - LINHA 2'!G19 -> 2415968 | H19: ='PAX - LINHA 4'!H19+'PAX - LINHA 1'!H19+'PAX - LINHA 2'!H19 -> 92294 | I19: ='PAX - LINHA 4'!I19+'PAX - LINHA 1'!I19+'PAX - LINHA 2'!I19 -> 183259 | ... M19: ='PAX - LINHA 4'!M19+'PAX - LINHA 1'!M19+'PAX - LINHA 2'!M19 -> 31687
A20: Setembro | B20: ='PAX - LINHA 4'!B20+'PAX - LINHA 1'!B20+'PAX - LINHA 2'!B20 -> 16384809 | C20: ='PAX - LINHA 4'!C20+'PAX - LINHA 1'!C20+'PAX - LINHA 2'!C20 -> 326443 | D20: ='PAX - LINHA 4'!D20+'PAX - LINHA 1'!D20+'PAX - LINHA 2'!D20 -> 9041792 | E20: ='PAX - LINHA 4'!E20+'PAX - LINHA 1'!E20+'PAX - LINHA 2'!E20 -> 2403888 | F20: ='PAX - LINHA 4'!F20+'PAX - LINHA 1'!F20+'PAX - LINHA 2'!F20 -> 0 | G20: ='PAX - LINHA 4'!G20+'PAX - LINHA 1'!G20+'PAX - LINHA 2'!G20 -> 2437322 | H20: ='PAX - LINHA 4'!H20+'PAX - LINHA 1'!H20+'PAX - LINHA 2'!H20 -> 115322 | I20: ='PAX - LINHA 4'!I20+'PAX - LINHA 1'!I20+'PAX - LINHA 2'!I20 -> 187175 | ... M20: ='PAX - LINHA 4'!M20+'PAX - LINHA 1'!M20+'PAX - LINHA 2'!M20 -> 38351
A21: Outubro | B21: ='PAX - LINHA 4'!B21+'PAX - LINHA 1'!B21+'PAX - LINHA 2'!B21 -> 16632134 | C21: ='PAX - LINHA 4'!C21+'PAX - LINHA 1'!C21+'PAX - LINHA 2'!C21 -> 314415 | D21: ='PAX - LINHA 4'!D21+'PAX - LINHA 1'!D21+'PAX - LINHA 2'!D21 -> 8857149 | E21: ='PAX - LINHA 4'!E21+'PAX - LINHA 1'!E21+'PAX - LINHA 2'!E21 -> 2830990 | F21: ='PAX - LINHA 4'!F21+'PAX - LINHA 1'!F21+'PAX - LINHA 2'!F21 -> 0 | G21: ='PAX - LINHA 4'!G21+'PAX - LINHA 1'!G21+'PAX - LINHA 2'!G21 -> 2441625 | H21: ='PAX - LINHA 4'!H21+'PAX - LINHA 1'!H21+'PAX - LINHA 2'!H21 -> 104464 | I21: ='PAX - LINHA 4'!I21+'PAX - LINHA 1'!I21+'PAX - LINHA 2'!I21 -> 190378 | ... M21: ='PAX - LINHA 4'!M21+'PAX - LINHA 1'!M21+'PAX - LINHA 2'!M21 -> 30720
A22: Novembro | B22: ='PAX - LINHA 4'!B22+'PAX - LINHA 1'!B22+'PAX - LINHA 2'!B22 -> 15133608 | C22: ='PAX - LINHA 4'!C22+'PAX - LINHA 1'!C22+'PAX - LINHA 2'!C22 -> 272945 | D22: ='PAX - LINHA 4'!D22+'PAX - LINHA 1'!D22+'PAX - LINHA 2'!D22 -> 7813579 | E22: ='PAX - LINHA 4'!E22+'PAX - LINHA 1'!E22+'PAX - LINHA 2'!E22 -> 2735384 | F22: ='PAX - LINHA 4'!F22+'PAX - LINHA 1'!F22+'PAX - LINHA 2'!F22 -> 0 | G22: ='PAX - LINHA 4'!G22+'PAX - LINHA 1'!G22+'PAX - LINHA 2'!G22 -> 2280188 | H22: ='PAX - LINHA 4'!H22+'PAX - LINHA 1'!H22+'PAX - LINHA 2'!H22 -> 94753 | I22: ='PAX - LINHA 4'!I22+'PAX - LINHA 1'!I22+'PAX - LINHA 2'!I22 -> 180086 | ... M22: ='PAX - LINHA 4'!M22+'PAX - LINHA 1'!M22+'PAX - LINHA 2'!M22 -> 30210
A23: Dezembro | B23: ='PAX - LINHA 4'!B23+'PAX - LINHA 1'!B23+'PAX - LINHA 2'!B23 -> 15901839 | C23: ='PAX - LINHA 4'!C23+'PAX - LINHA 1'!C23+'PAX - LINHA 2'!C23 -> 265064 | D23: ='PAX - LINHA 4'!D23+'PAX - LINHA 1'!D23+'PAX - LINHA 2'!D23 -> 7936179 | E23: ='PAX - LINHA 4'!E23+'PAX - LINHA 1'!E23+'PAX - LINHA 2'!E23 -> 2973875 | F23: ='PAX - LINHA 4'!F23+'PAX - LINHA 1'!F23+'PAX - LINHA 2'!F23 -> 0 | G23: ='PAX - LINHA 4'!G23+'PAX - LINHA 1'!G23+'PAX - LINHA 2'!G23 -> 2716713 | H23: ='PAX - LINHA 4'!H23+'PAX - LINHA 1'!H23+'PAX - LINHA 2'!H23 -> 43659 | I23: ='PAX - LINHA 4'!I23+'PAX - LINHA 1'!I23+'PAX - LINHA 2'!I23 -> 181244 | ... M23: ='PAX - LINHA 4'!M23+'PAX - LINHA 1'!M23+'PAX - LINHA 2'!M23 -> 36215
A25: 2024 | B25: ='PAX - LINHA 4'!B25+'PAX - LINHA 1'!B25+'PAX - LINHA 2'!B25 -> 184031228 | C25: ='PAX - LINHA 4'!C25+'PAX - LINHA 1'!C25+'PAX - LINHA 2'!C25 -> 5597214 | D25: ='PAX - LINHA 4'!D25+'PAX - LINHA 1'!D25+'PAX - LINHA 2'!D25 -> 124035911 | E25: ='PAX - LINHA 4'!E25+'PAX - LINHA 1'!E25+'PAX - LINHA 2'!E25 -> 0 | F25: ='PAX - LINHA 4'!F25+'PAX - LINHA 1'!F25+'PAX - LINHA 2'!F25 -> 8187 | G25: ='PAX - LINHA 4'!G25+'PAX - LINHA 1'!G25+'PAX - LINHA 2'!G25 -> 30848194 | H25: ='PAX - LINHA 4'!H25+'PAX - LINHA 1'!H25+'PAX - LINHA 2'!H25 -> 893370 | I25: ='PAX - LINHA 4'!I25+'PAX - LINHA 1'!I25+'PAX - LINHA 2'!I25 -> 2050882 | ... M25: ='PAX - LINHA 4'!M25+'PAX - LINHA 1'!M25+'PAX - LINHA 2'!M25 -> 643504
A26: Janeiro | B26: ='PAX - LINHA 4'!B26+'PAX - LINHA 1'!B26+'PAX - LINHA 2'!B26 -> 14661886 | C26: ='PAX - LINHA 4'!C26+'PAX - LINHA 1'!C26+'PAX - LINHA 2'!C26 -> 541873 | D26: ='PAX - LINHA 4'!D26+'PAX - LINHA 1'!D26+'PAX - LINHA 2'!D26 -> 9746420 | E26: ='PAX - LINHA 4'!E26+'PAX - LINHA 1'!E26+'PAX - LINHA 2'!E26 -> 0 | F26: ='PAX - LINHA 4'!F26+'PAX - LINHA 1'!F26+'PAX - LINHA 2'!F26 -> 1176 | G26: ='PAX - LINHA 4'!G26+'PAX - LINHA 1'!G26+'PAX - LINHA 2'!G26 -> 2624879 | H26: ='PAX - LINHA 4'!H26+'PAX - LINHA 1'!H26+'PAX - LINHA 2'!H26 -> 31 | I26: ='PAX - LINHA 4'!I26+'PAX - LINHA 1'!I26+'PAX - LINHA 2'!I26 -> 146118 | ... M26: ='PAX - LINHA 4'!M26+'PAX - LINHA 1'!M26+'PAX - LINHA 2'!M26 -> 58790
A27: Fevereiro | B27: ='PAX - LINHA 4'!B27+'PAX - LINHA 1'!B27+'PAX - LINHA 2'!B27 -> 15610839 | C27: ='PAX - LINHA 4'!C27+'PAX - LINHA 1'!C27+'PAX - LINHA 2'!C27 -> 585790 | D27: ='PAX - LINHA 4'!D27+'PAX - LINHA 1'!D27+'PAX - LINHA 2'!D27 -> 9922383 | E27: ='PAX - LINHA 4'!E27+'PAX - LINHA 1'!E27+'PAX - LINHA 2'!E27 -> 0 | F27: ='PAX - LINHA 4'!F27+'PAX - LINHA 1'!F27+'PAX - LINHA 2'!F27 -> 1505 | G27: ='PAX - LINHA 4'!G27+'PAX - LINHA 1'!G27+'PAX - LINHA 2'!G27 -> 3356967 | H27: ='PAX - LINHA 4'!H27+'PAX - LINHA 1'!H27+'PAX - LINHA 2'!H27 -> 38036 | I27: ='PAX - LINHA 4'!I27+'PAX - LINHA 1'!I27+'PAX - LINHA 2'!I27 -> 150247 | ... M27: ='PAX - LINHA 4'!M27+'PAX - LINHA 1'!M27+'PAX - LINHA 2'!M27 -> 61309
A28: Março | B28: ='PAX - LINHA 4'!B28+'PAX - LINHA 1'!B28+'PAX - LINHA 2'!B28 -> 15347515 | C28: ='PAX - LINHA 4'!C28+'PAX - LINHA 1'!C28+'PAX - LINHA 2'!C28 -> 561213 | D28: ='PAX - LINHA 4'!D28+'PAX - LINHA 1'!D28+'PAX - LINHA 2'!D28 -> 10223835 | E28: ='PAX - LINHA 4'!E28+'PAX - LINHA 1'!E28+'PAX - LINHA 2'!E28 -> 0 | F28: ='PAX - LINHA 4'!F28+'PAX - LINHA 1'!F28+'PAX - LINHA 2'!F28 -> 1082 | G28: ='PAX - LINHA 4'!G28+'PAX - LINHA 1'!G28+'PAX - LINHA 2'!G28 -> 2632369 | H28: ='PAX - LINHA 4'!H28+'PAX - LINHA 1'!H28+'PAX - LINHA 2'!H28 -> 81973 | I28: ='PAX - LINHA 4'!I28+'PAX - LINHA 1'!I28+'PAX - LINHA 2'!I28 -> 166328 | ... M28: ='PAX - LINHA 4'!M28+'PAX - LINHA 1'!M28+'PAX - LINHA 2'!M28 -> 61987
A29: Abril | B29: ='PAX - LINHA 4'!B29+'PAX - LINHA 1'!B29+'PAX - LINHA 2'!B29 -> 15823042 | C29: ='PAX - LINHA 4'!C29+'PAX - LINHA 1'!C29+'PAX - LINHA 2'!C29 -> 546127 | D29: ='PAX - LINHA 4'!D29+'PAX - LINHA 1'!D29+'PAX - LINHA 2'!D29 -> 10644386 | E29: ='PAX - LINHA 4'!E29+'PAX - LINHA 1'!E29+'PAX - LINHA 2'!E29 -> 0 | F29: ='PAX - LINHA 4'!F29+'PAX - LINHA 1'!F29+'PAX - LINHA 2'!F29 -> 1520 | G29: ='PAX - LINHA 4'!G29+'PAX - LINHA 1'!G29+'PAX - LINHA 2'!G29 -> 2557470 | H29: ='PAX - LINHA 4'!H29+'PAX - LINHA 1'!H29+'PAX - LINHA 2'!H29 -> 84701 | I29: ='PAX - LINHA 4'!I29+'PAX - LINHA 1'!I29+'PAX - LINHA 2'!I29 -> 175143 | ... M29: ='PAX - LINHA 4'!M29+'PAX - LINHA 1'!M29+'PAX - LINHA 2'!M29 -> 79049
A30: Maio | B30: ='PAX - LINHA 4'!B30+'PAX - LINHA 1'!B30+'PAX - LINHA 2'!B30 -> 15872898 | C30: ='PAX - LINHA 4'!C30+'PAX - LINHA 1'!C30+'PAX - LINHA 2'!C30 -> 515975 | D30: ='PAX - LINHA 4'!D30+'PAX - LINHA 1'!D30+'PAX - LINHA 2'!D30 -> 10713608 | E30: ='PAX - LINHA 4'!E30+'PAX - LINHA 1'!E30+'PAX - LINHA 2'!E30 -> 0 | F30: ='PAX - LINHA 4'!F30+'PAX - LINHA 1'!F30+'PAX - LINHA 2'!F30 -> 1082 | G30: ='PAX - LINHA 4'!G30+'PAX - LINHA 1'!G30+'PAX - LINHA 2'!G30 -> 2621268 | H30: ='PAX - LINHA 4'!H30+'PAX - LINHA 1'!H30+'PAX - LINHA 2'!H30 -> 69385 | I30: ='PAX - LINHA 4'!I30+'PAX - LINHA 1'!I30+'PAX - LINHA 2'!I30 -> 173358 | ... M30: ='PAX - LINHA 4'!M30+'PAX - LINHA 1'!M30+'PAX - LINHA 2'!M30 -> 67934
A31: Junho | B31: ='PAX - LINHA 4'!B31+'PAX - LINHA 1'!B31+'PAX - LINHA 2'!B31 -> 15130530 | C31: ='PAX - LINHA 4'!C31+'PAX - LINHA 1'!C31+'PAX - LINHA 2'!C31 -> 466465 | D31: ='PAX - LINHA 4'!D31+'PAX - LINHA 1'!D31+'PAX - LINHA 2'!D31 -> 10289165 | E31: ='PAX - LINHA 4'!E31+'PAX - LINHA 1'!E31+'PAX - LINHA 2'!E31 -> 0 | F31: ='PAX - LINHA 4'!F31+'PAX - LINHA 1'!F31+'PAX - LINHA 2'!F31 -> 977 | G31: ='PAX - LINHA 4'!G31+'PAX - LINHA 1'!G31+'PAX - LINHA 2'!G31 -> 2384779 | H31: ='PAX - LINHA 4'!H31+'PAX - LINHA 1'!H31+'PAX - LINHA 2'!H31 -> 71247 | I31: ='PAX - LINHA 4'!I31+'PAX - LINHA 1'!I31+'PAX - LINHA 2'!I31 -> 170671 | ... M31: ='PAX - LINHA 4'!M31+'PAX - LINHA 1'!M31+'PAX - LINHA 2'!M31 -> 69278
A32: Julho | B32: ='PAX - LINHA 4'!B32+'PAX - LINHA 1'!B32+'PAX - LINHA 2'!B32 -> 15525364 | C32: ='PAX - LINHA 4'!C32+'PAX - LINHA 1'!C32+'PAX - LINHA 2'!C32 -> 453612 | D32: ='PAX - LINHA 4'!D32+'PAX - LINHA 1'!D32+'PAX - LINHA 2'!D32 -> 10641011 | E32: ='PAX - LINHA 4'!E32+'PAX - LINHA 1'!E32+'PAX - LINHA 2'!E32 -> 0 | F32: ='PAX - LINHA 4'!F32+'PAX - LINHA 1'!F32+'PAX - LINHA 2'!F32 -> 845 | G32: ='PAX - LINHA 4'!G32+'PAX - LINHA 1'!G32+'PAX - LINHA 2'!G32 -> 2385339 | H32: ='PAX - LINHA 4'!H32+'PAX - LINHA 1'!H32+'PAX - LINHA 2'!H32 -> 55615 | I32: ='PAX - LINHA 4'!I32+'PAX - LINHA 1'!I32+'PAX - LINHA 2'!I32 -> 175573 | ... M32: ='PAX - LINHA 4'!M32+'PAX - LINHA 1'!M32+'PAX - LINHA 2'!M32 -> 61657
A33: Agosto | B33: ='PAX - LINHA 4'!B33+'PAX - LINHA 1'!B33+'PAX - LINHA 2'!B33 -> 15667034 | C33: ='PAX - LINHA 4'!C33+'PAX - LINHA 1'!C33+'PAX - LINHA 2'!C33 -> 435513 | D33: ='PAX - LINHA 4'!D33+'PAX - LINHA 1'!D33+'PAX - LINHA 2'!D33 -> 10732279 | E33: ='PAX - LINHA 4'!E33+'PAX - LINHA 1'!E33+'PAX - LINHA 2'!E33 -> 0 | F33: ='PAX - LINHA 4'!F33+'PAX - LINHA 1'!F33+'PAX - LINHA 2'!F33 -> 0 | G33: ='PAX - LINHA 4'!G33+'PAX - LINHA 1'!G33+'PAX - LINHA 2'!G33 -> 2404589 | H33: ='PAX - LINHA 4'!H33+'PAX - LINHA 1'!H33+'PAX - LINHA 2'!H33 -> 127289 | I33: ='PAX - LINHA 4'!I33+'PAX - LINHA 1'!I33+'PAX - LINHA 2'!I33 -> 185218 | ... M33: ='PAX - LINHA 4'!M33+'PAX - LINHA 1'!M33+'PAX - LINHA 2'!M33 -> 35629
A34: Setembro | B34: ='PAX - LINHA 4'!B34+'PAX - LINHA 1'!B34+'PAX - LINHA 2'!B34 -> 15407258 | C34: ='PAX - LINHA 4'!C34+'PAX - LINHA 1'!C34+'PAX - LINHA 2'!C34 -> 402293 | D34: ='PAX - LINHA 4'!D34+'PAX - LINHA 1'!D34+'PAX - LINHA 2'!D34 -> 10516887 | E34: ='PAX - LINHA 4'!E34+'PAX - LINHA 1'!E34+'PAX - LINHA 2'!E34 -> 0 | F34: ='PAX - LINHA 4'!F34+'PAX - LINHA 1'!F34+'PAX - LINHA 2'!F34 -> 0 | G34: ='PAX - LINHA 4'!G34+'PAX - LINHA 1'!G34+'PAX - LINHA 2'!G34 -> 2470924 | H34: ='PAX - LINHA 4'!H34+'PAX - LINHA 1'!H34+'PAX - LINHA 2'!H34 -> 114106 | I34: ='PAX - LINHA 4'!I34+'PAX - LINHA 1'!I34+'PAX - LINHA 2'!I34 -> 183461 | ... M34: ='PAX - LINHA 4'!M34+'PAX - LINHA 1'!M34+'PAX - LINHA 2'!M34 -> 36577
A35: Outubro | B35: ='PAX - LINHA 4'!B35+'PAX - LINHA 1'!B35+'PAX - LINHA 2'!B35 -> 16240314 | C35: ='PAX - LINHA 4'!C35+'PAX - LINHA 1'!C35+'PAX - LINHA 2'!C35 -> 412008 | D35: ='PAX - LINHA 4'!D35+'PAX - LINHA 1'!D35+'PAX - LINHA 2'!D35 -> 10958206 | E35: ='PAX - LINHA 4'!E35+'PAX - LINHA 1'!E35+'PAX - LINHA 2'!E35 -> 0 | F35: ='PAX - LINHA 4'!F35+'PAX - LINHA 1'!F35+'PAX - LINHA 2'!F35 -> 0 | G35: ='PAX - LINHA 4'!G35+'PAX - LINHA 1'!G35+'PAX - LINHA 2'!G35 -> 2764435 | H35: ='PAX - LINHA 4'!H35+'PAX - LINHA 1'!H35+'PAX - LINHA 2'!H35 -> 112142 | I35: ='PAX - LINHA 4'!I35+'PAX - LINHA 1'!I35+'PAX - LINHA 2'!I35 -> 191417 | ... M35: ='PAX - LINHA 4'!M35+'PAX - LINHA 1'!M35+'PAX - LINHA 2'!M35 -> 43603
A36: Novembro | B36: ='PAX - LINHA 4'!B36+'PAX - LINHA 1'!B36+'PAX - LINHA 2'!B36 -> 14035436 | C36: ='PAX - LINHA 4'!C36+'PAX - LINHA 1'!C36+'PAX - LINHA 2'!C36 -> 339029 | D36: ='PAX - LINHA 4'!D36+'PAX - LINHA 1'!D36+'PAX - LINHA 2'!D36 -> 9691008 | E36: ='PAX - LINHA 4'!E36+'PAX - LINHA 1'!E36+'PAX - LINHA 2'!E36 -> 0 | F36: ='PAX - LINHA 4'!F36+'PAX - LINHA 1'!F36+'PAX - LINHA 2'!F36 -> 0 | G36: ='PAX - LINHA 4'!G36+'PAX - LINHA 1'!G36+'PAX - LINHA 2'!G36 -> 2133398 | H36: ='PAX - LINHA 4'!H36+'PAX - LINHA 1'!H36+'PAX - LINHA 2'!H36 -> 86863 | I36: ='PAX - LINHA 4'!I36+'PAX - LINHA 1'!I36+'PAX - LINHA 2'!I36 -> 165456 | ... M36: ='PAX - LINHA 4'!M36+'PAX - LINHA 1'!M36+'PAX - LINHA 2'!M36 -> 31240
A37: Dezembro | B37: ='PAX - LINHA 4'!B37+'PAX - LINHA 1'!B37+'PAX - LINHA 2'!B37 -> 14709112 | C37: ='PAX - LINHA 4'!C37+'PAX - LINHA 1'!C37+'PAX - LINHA 2'!C37 -> 337316 | D37: ='PAX - LINHA 4'!D37+'PAX - LINHA 1'!D37+'PAX - LINHA 2'!D37 -> 9956723 | E37: ='PAX - LINHA 4'!E37+'PAX - LINHA 1'!E37+'PAX - LINHA 2'!E37 -> 0 | F37: ='PAX - LINHA 4'!F37+'PAX - LINHA 1'!F37+'PAX - LINHA 2'!F37 -> 0 | G37: ='PAX - LINHA 4'!G37+'PAX - LINHA 1'!G37+'PAX - LINHA 2'!G37 -> 2511777 | H37: ='PAX - LINHA 4'!H37+'PAX - LINHA 1'!H37+'PAX - LINHA 2'!H37 -> 51982 | I37: ='PAX - LINHA 4'!I37+'PAX - LINHA 1'!I37+'PAX - LINHA 2'!I37 -> 167892 | ... M37: ='PAX - LINHA 4'!M37+'PAX - LINHA 1'!M37+'PAX - LINHA 2'!M37 -> 36451
A39: 2023 | B39: ='PAX - LINHA 4'!B39+'PAX - LINHA 1'!B39+'PAX - LINHA 2'!B39 -> 188983036 | C39: ='PAX - LINHA 4'!C39+'PAX - LINHA 1'!C39+'PAX - LINHA 2'!C39 -> 10218441 | D39: ='PAX - LINHA 4'!D39+'PAX - LINHA 1'!D39+'PAX - LINHA 2'!D39 -> 121033002 | E39: ='PAX - LINHA 4'!E39+'PAX - LINHA 1'!E39+'PAX - LINHA 2'!E39 -> 0 | F39: ='PAX - LINHA 4'!F39+'PAX - LINHA 1'!F39+'PAX - LINHA 2'!F39 -> 28352 | G39: ='PAX - LINHA 4'!G39+'PAX - LINHA 1'!G39+'PAX - LINHA 2'!G39 -> 35283843 | H39: ='PAX - LINHA 4'!H39+'PAX - LINHA 1'!H39+'PAX - LINHA 2'!H39 -> 1072912 | I39: ='PAX - LINHA 4'!I39+'PAX - LINHA 1'!I39+'PAX - LINHA 2'!I39 -> 1875889 | ... M39: ='PAX - LINHA 4'!M39+'PAX - LINHA 1'!M39+'PAX - LINHA 2'!M39 -> 835041
A40: Janeiro | B40: ='PAX - LINHA 4'!B40+'PAX - LINHA 1'!B40+'PAX - LINHA 2'!B40 -> 14946426 | C40: ='PAX - LINHA 4'!C40+'PAX - LINHA 1'!C40+'PAX - LINHA 2'!C40 -> 1095107 | D40: ='PAX - LINHA 4'!D40+'PAX - LINHA 1'!D40+'PAX - LINHA 2'!D40 -> 8948602 | E40: ='PAX - LINHA 4'!E40+'PAX - LINHA 1'!E40+'PAX - LINHA 2'!E40 -> 0 | F40: ='PAX - LINHA 4'!F40+'PAX - LINHA 1'!F40+'PAX - LINHA 2'!F40 -> 3269 | G40: ='PAX - LINHA 4'!G40+'PAX - LINHA 1'!G40+'PAX - LINHA 2'!G40 -> 3312324 | H40: ='PAX - LINHA 4'!H40+'PAX - LINHA 1'!H40+'PAX - LINHA 2'!H40 -> 11142 | I40: ='PAX - LINHA 4'!I40+'PAX - LINHA 1'!I40+'PAX - LINHA 2'!I40 -> 138982 | ... M40: ='PAX - LINHA 4'!M40+'PAX - LINHA 1'!M40+'PAX - LINHA 2'!M40 -> 54469
A41: Fevereiro | B41: ='PAX - LINHA 4'!B41+'PAX - LINHA 1'!B41+'PAX - LINHA 2'!B41 -> 15555637 | C41: ='PAX - LINHA 4'!C41+'PAX - LINHA 1'!C41+'PAX - LINHA 2'!C41 -> 1115746 | D41: ='PAX - LINHA 4'!D41+'PAX - LINHA 1'!D41+'PAX - LINHA 2'!D41 -> 8920311 | E41: ='PAX - LINHA 4'!E41+'PAX - LINHA 1'!E41+'PAX - LINHA 2'!E41 -> 0 | F41: ='PAX - LINHA 4'!F41+'PAX - LINHA 1'!F41+'PAX - LINHA 2'!F41 -> 4002 | G41: ='PAX - LINHA 4'!G41+'PAX - LINHA 1'!G41+'PAX - LINHA 2'!G41 -> 3959821 | H41: ='PAX - LINHA 4'!H41+'PAX - LINHA 1'!H41+'PAX - LINHA 2'!H41 -> 25508 | I41: ='PAX - LINHA 4'!I41+'PAX - LINHA 1'!I41+'PAX - LINHA 2'!I41 -> 139578 | ... M41: ='PAX - LINHA 4'!M41+'PAX - LINHA 1'!M41+'PAX - LINHA 2'!M41 -> 61649
A42: Março | B42: ='PAX - LINHA 4'!B42+'PAX - LINHA 1'!B42+'PAX - LINHA 2'!B42 -> 17119747 | C42: ='PAX - LINHA 4'!C42+'PAX - LINHA 1'!C42+'PAX - LINHA 2'!C42 -> 1301227 | D42: ='PAX - LINHA 4'!D42+'PAX - LINHA 1'!D42+'PAX - LINHA 2'!D42 -> 10279569 | E42: ='PAX - LINHA 4'!E42+'PAX - LINHA 1'!E42+'PAX - LINHA 2'!E42 -> 0 | F42: ='PAX - LINHA 4'!F42+'PAX - LINHA 1'!F42+'PAX - LINHA 2'!F42 -> 4000 | G42: ='PAX - LINHA 4'!G42+'PAX - LINHA 1'!G42+'PAX - LINHA 2'!G42 -> 3501945 | H42: ='PAX - LINHA 4'!H42+'PAX - LINHA 1'!H42+'PAX - LINHA 2'!H42 -> 105828 | I42: ='PAX - LINHA 4'!I42+'PAX - LINHA 1'!I42+'PAX - LINHA 2'!I42 -> 176705 | ... M42: ='PAX - LINHA 4'!M42+'PAX - LINHA 1'!M42+'PAX - LINHA 2'!M42 -> 79164
A43: Abril | B43: ='PAX - LINHA 4'!B43+'PAX - LINHA 1'!B43+'PAX - LINHA 2'!B43 -> 14604508 | C43: ='PAX - LINHA 4'!C43+'PAX - LINHA 1'!C43+'PAX - LINHA 2'!C43 -> 900791 | D43: ='PAX - LINHA 4'!D43+'PAX - LINHA 1'!D43+'PAX - LINHA 2'!D43 -> 9243141 | E43: ='PAX - LINHA 4'!E43+'PAX - LINHA 1'!E43+'PAX - LINHA 2'!E43 -> 0 | F43: ='PAX - LINHA 4'!F43+'PAX - LINHA 1'!F43+'PAX - LINHA 2'!F43 -> 2691 | G43: ='PAX - LINHA 4'!G43+'PAX - LINHA 1'!G43+'PAX - LINHA 2'!G43 -> 2709825 | H43: ='PAX - LINHA 4'!H43+'PAX - LINHA 1'!H43+'PAX - LINHA 2'!H43 -> 89087 | I43: ='PAX - LINHA 4'!I43+'PAX - LINHA 1'!I43+'PAX - LINHA 2'!I43 -> 149254 | ... M43: ='PAX - LINHA 4'!M43+'PAX - LINHA 1'!M43+'PAX - LINHA 2'!M43 -> 62405
A44: Maio | B44: ='PAX - LINHA 4'!B44+'PAX - LINHA 1'!B44+'PAX - LINHA 2'!B44 -> 16559465 | C44: ='PAX - LINHA 4'!C44+'PAX - LINHA 1'!C44+'PAX - LINHA 2'!C44 -> 882472 | D44: ='PAX - LINHA 4'!D44+'PAX - LINHA 1'!D44+'PAX - LINHA 2'!D44 -> 10890120 | E44: ='PAX - LINHA 4'!E44+'PAX - LINHA 1'!E44+'PAX - LINHA 2'!E44 -> 0 | F44: ='PAX - LINHA 4'!F44+'PAX - LINHA 1'!F44+'PAX - LINHA 2'!F44 -> 2515 | G44: ='PAX - LINHA 4'!G44+'PAX - LINHA 1'!G44+'PAX - LINHA 2'!G44 -> 2770122 | H44: ='PAX - LINHA 4'!H44+'PAX - LINHA 1'!H44+'PAX - LINHA 2'!H44 -> 129980 | I44: ='PAX - LINHA 4'!I44+'PAX - LINHA 1'!I44+'PAX - LINHA 2'!I44 -> 168932 | ... M44: ='PAX - LINHA 4'!M44+'PAX - LINHA 1'!M44+'PAX - LINHA 2'!M44 -> 72708
...

Sheet PAX - LINHA 1
A1: Tabela 1: Total de passageiros mensal por forma de acesso e linha metroviária - 2013 - 2026
A2: Concessionária MetrôRio - Linha 1
A4: Ano Mês | B4: Total Geral | C4: Pré-Pago | D4: Fetranspor | E4: Jaé | F4: Metrô Na Superfície | G4: Unitário | H4: Estudantes | I4: Pessoas com Necessidades Especiais e Doentes Crônicos | J4: Maior de 65 anos | K4: Funcionário | L4: Força de Segurança | M4: Outros
B5: Linha 1 | C5: Linha 1 | D5: Linha 1 | E5: Linha 1 | F5: Linha 1 | G5: Linha 1 | H5: Linha 1 | I5: Linha 1 | J5: Linha 1 | K5: Linha 1 | L5: Linha 1 | M5: Linha 1
A6: 2026 | B6: =SUM(B7:B9) -> 28174270 | C6: =SUM(C7:C9) -> 589012 | D6: =SUM(D7:D9) -> 13208618 | E6: =SUM(E7:E9) -> 4995542 | F6: =SUM(F7:F9) -> 0 | G6: =SUM(G7:G9) -> 5529037 | H6: =SUM(H7:H9) -> 27999 | I6: =SUM(I7:I9) -> 310643 | ... M6: =SUM(M7:M9) -> 69017
A7: Janeiro | B7: =C7+D7+E7+F7+G7+H7+I7+J7+K7+L7+M7 -> 8716123 | C7: 179137 | D7: 4204969 | E7: 1475255 | F7: 0 | G7: 1637946 | H7: 95 | I7: 96996 | J7: 992919 | K7: 70393 | L7: 36317 | M7: 22096 | N7: 8716123
A8: Fevereiro | B8: =C8+D8+E8+F8+G8+H8+I8+J8+K8+L8+M8 -> 9540529 | C8: 194513 | D8: 4229024 | E8: 1753944 | F8: 0 | G8: 2191636 | H8: 7173 | I8: 94856 | J8: 929975 | K8: 75648 | L8: 38944 | M8: 24816 | N8: 9540529
A9: Março | B9: =C9+D9+E9+F9+G9+H9+I9+J9+K9+L9+M9 -> 9917618 | C9: 215362 | D9: 4774625 | E9: 1766343 | F9: 0 | G9: 1699455 | H9: 20731 | I9: 118791 | J9: 1185735 | K9: 69251 | L9: 45220 | M9: 22105 | N9: 9917618
A11: 2025 | B11: =SUM(B12:B23) -> 103065746 | C11: =SUM(C12:C23) -> 2866999 | D11: =SUM(D12:D23) -> 60718759 | E11: =SUM(E12:E23) -> 6280964 | F11: =SUM(F12:F23) -> 0 | G11: =SUM(G12:G23) -> 18136873 | H11: =SUM(H12:H23) -> 256943 | I11: =SUM(I12:I23) -> 1124945 | ... M11: =SUM(M12:M23) -> 228056
A12: Janeiro | B12: =C12+D12+E12+F12+G12+H12+I12+J12+K12+L12+M12 -> 7305715 | C12: 244102 | D12: 4632090 | E12: 0 | F12: 0 | G12: 1380647 | H12: 653 | I12: 81736 | J12: 851787 | K12: 65238 | L12: 33298 | M12: 16164
A13: Fevereiro | B13: =C13+D13+E13+F13+G13+H13+I13+J13+K13+L13+M13 -> 7529362 | C13: 273821 | D13: 4794613 | E13: 0 | F13: 0 | G13: 1395345 | H13: 14540 | I13: 72166 | J13: 865416 | K13: 62038 | L13: 36897 | M13: 14526
A14: Março | B14: =C14+D14+E14+F14+G14+H14+I14+J14+K14+L14+M14 -> 8169922 | C14: 276441 | D14: 5006276 | E14: 0 | F14: 0 | G14: 1807451 | H14: 16746 | I14: 73593 | J14: 865579 | K14: 69651 | L14: 37333 | M14: 16852
A15: Abril | B15: =C15+D15+E15+F15+G15+H15+I15+J15+K15+L15+M15 -> 6957942 | C15: 237375 | D15: 4518600 | E15: 0 | F15: 0 | G15: 1156517 | H15: 12712 | I15: 70805 | J15: 852585 | K15: 58271 | L15: 36629 | M15: 14448
A16: Maio | B16: =C16+D16+E16+F16+G16+H16+I16+J16+K16+L16+M16 -> 9251059 | C16: 264577 | D16: 5932152 | E16: 0 | F16: 0 | G16: 1698164 | H16: 27687 | I16: 98461 | J16: 1091620 | K16: 74892 | L16: 40890 | M16: 22616
A17: Junho | B17: =C17+D17+E17+F17+G17+H17+I17+J17+K17+L17+M17 -> 8336421 | C17: 232364 | D17: 5410731 | E17: 0 | F17: 0 | G17: 1416656 | H17: 29614 | I17: 92932 | J17: 1019802 | K17: 71972 | L17: 40102 | M17: 22248
A18: Julho | B18: =C18+D18+E18+F18+G18+H18+I18+J18+K18+L18+M18 -> 8968952 | C18: 242184 | D18: 5830687 | E18: 0 | F18: 0 | G18: 1520911 | H18: 18164 | I18: 100546 | J18: 1114819 | K18: 77162 | L18: 44385 | M18: 20094
A19: Agosto | B19: =C19+D19+E19+F19+G19+H19+I19+J19+K19+L19+M19 -> 9287846 | C19: 243056 | D19: 5372494 | E19: 775838 | F19: 0 | G19: 1526895 | H19: 31025 | I19: 105720 | J19: 1097833 | K19: 74547 | L19: 40378 | M19: 20060
A20: Setembro | B20: =C20+D20+E20+F20+G20+H20+I20+J20+K20+L20+M20 -> 9584194 | C20: 237666 | D20: 5180717 | E20: 1206479 | F20: 0 | G20: 1557159 | H20: 32870 | I20: 109380 | J20: 1121195 | K20: 72415 | L20: 44024 | M20: 22289
A21: Outubro | B21: =C21+D21+E21+F21+G21+H21+I21+J21+K21+L21+M21 -> 9716662 | C21: 227919 | D21: 5072731 | E21: 1445024 | F21: 0 | G21: 1556108 | H21: 31020 | I21: 111211 | J21: 1134601 | K21: 76042 | L21: 43139 | M21: 18867
A22: Novembro | B22: =C22+D22+E22+F22+G22+H22+I22+J22+K22+L22+M22 -> 8796614 | C22: 197743 | D22: 4451656 | E22: 1390321 | F22: 0 | G22: 1448467 | H22: 28272 | I22: 104397 | J22: 1050076 | K22: 69165 | L22: 38304 | M22: 18213
A23: Dezembro | B23: =C23+D23+E23+F23+G23+H23+I23+J23+K23+L23+M23 -> 9161057 | C23: 189751 | D23: 4516012 | E23: 1463302 | F23: 0 | G23: 1672553 | H23: 13640 | I23: 103998 | J23: 1072137 | K23: 69567 | L23: 38418 | M23: 21679
A25: 2024 | B25: =SUM(B26:B37) -> 89742296 | C25: =SUM(C26:C37) -> 4022076 | D25: =SUM(D26:D37) -> 56832571 | E25: =SUM(E26:E37) -> 0 | F25: =SUM(F26:F37) -> 8187 | G25: =SUM(G26:G37) -> 15741213 | H25: =SUM(H26:H37) -> 198366 | I25: =SUM(I26:I37) -> 978879 | ... M25: =SUM(M26:M37) -> 364819
A26: Janeiro | B26: =C26+D26+E26+F26+G26+H26+I26+J26+K26+L26+M26 -> 7235430 | C26: 387223 | D26: 4471625 | E26: 0 | F26: 1176 | G26: 1367651 | H26: 14 | I26: 69430 | J26: 802900 | K26: 72898 | L26: 27788 | M26: 34725
A27: Fevereiro | B27: =C27+D27+E27+F27+G27+H27+I27+J27+K27+L27+M27 -> 7676956 | C27: 427791 | D27: 4486306 | E27: 0 | F27: 1505 | G27: 1777684 | H27: 9091 | I27: 71042 | J27: 759362 | K27: 75989 | L27: 30053 | M27: 38133
A28: Março | B28: =C28+D28+E28+F28+G28+H28+I28+J28+K28+L28+M28 -> 7395935 | C28: 397867 | D28: 4632711 | E28: 0 | F28: 1082 | G28: 1292968 | H28: 15069 | I28: 79716 | J28: 835834 | K28: 72421 | L28: 30593 | M28: 37674
A29: Abril | B29: =C29+D29+E29+F29+G29+H29+I29+J29+K29+L29+M29 -> 7640794 | C29: 388735 | D29: 4821524 | E29: 0 | F29: 1520 | G29: 1266844 | H29: 15417 | I29: 83476 | J29: 909020 | K29: 69215 | L29: 33162 | M29: 51881
A30: Maio | B30: =C30+D30+E30+F30+G30+H30+I30+J30+K30+L30+M30 -> 7794832 | C30: 370967 | D30: 4955687 | E30: 0 | F30: 1082 | G30: 1324005 | H30: 17429 | I30: 83267 | J30: 891530 | K30: 71575 | L30: 35300 | M30: 43990
A31: Junho | B31: =C31+D31+E31+F31+G31+H31+I31+J31+K31+L31+M31 -> 7390770 | C31: 333476 | D31: 4739399 | E31: 0 | F31: 977 | G31: 1199627 | H31: 17722 | I31: 81903 | J31: 871756 | K31: 66069 | L31: 35998 | M31: 43843
A32: Julho | B32: =C32+D32+E32+F32+G32+H32+I32+J32+K32+L32+M32 -> 7636088 | C32: 327140 | D32: 4933379 | E32: 0 | F32: 845 | G32: 1219050 | H32: 11362 | I32: 84833 | J32: 916400 | K32: 70309 | L32: 35449 | M32: 37321
A33: Agosto | B33: =C33+D33+E33+F33+G33+H33+I33+J33+K33+L33+M33 -> 7633523 | C33: 313346 | D33: 4947327 | E33: 0 | F33: 0 | G33: 1227393 | H33: 29025 | I33: 89526 | J33: 907344 | K33: 67977 | L33: 37960 | M33: 13625
A34: Setembro | B34: =C34+D34+E34+F34+G34+H34+I34+J34+K34+L34+M34 -> 7553652 | C34: 289796 | D34: 4902730 | E34: 0 | F34: 0 | G34: 1260636 | H34: 27474 | I34: 88415 | J34: 868568 | K34: 65016 | L34: 36715 | M34: 14302
A35: Outubro | B35: =C35+D35+E35+F35+G35+H35+I35+J35+K35+L35+M35 -> 8017554 | C35: 299986 | D35: 5119079 | E35: 0 | F35: 0 | G35: 1429674 | H35: 25499 | I35: 93163 | J35: 923388 | K35: 68337 | L35: 39116 | M35: 19312
A36: Novembro | B36: =C36+D36+E36+F36+G36+H36+I36+J36+K36+L36+M36 -> 6707198 | C36: 244231 | D36: 4332199 | E36: 0 | F36: 0 | G36: 1102451 | H36: 19405 | I36: 76615 | J36: 819743 | K36: 62242 | L36: 36138 | M36: 14174
A37: Dezembro | B37: =C37+D37+E37+F37+G37+H37+I37+J37+K37+L37+M37 -> 7059564 | C37: 241518 | D37: 4490605 | E37: 0 | F37: 0 | G37: 1273230 | H37: 10859 | I37: 77493 | J37: 852637 | K37: 62786 | L37: 34597 | M37: 15839
A39: 2023 | B39: =SUM(B40:B51) -> 91578764 | C39: =SUM(C40:C51) -> 7016540 | D39: =SUM(D40:D51) -> 55124984 | E39: =SUM(E40:E51) -> 0 | F39: =SUM(F40:F51) -> 28352 | G39: =SUM(G40:G51) -> 16895506 | H39: =SUM(H40:H51) -> 271456 | I39: =SUM(I40:I51) -> 879610 | ... M39: =SUM(M40:M51) -> 523304
A40: Janeiro | B40: =C40+D40+E40+F40+G40+H40+I40+J40+K40+L40+M40 -> 7325547 | C40: 731874 | D40: 4077930 | E40: 0 | F40: 3269 | G40: 1597577 | H40: 928 | I40: 66778 | J40: 735866 | K40: 67540 | L40: 12782 | M40: 31003
A41: Fevereiro | B41: =C41+D41+E41+F41+G41+H41+I41+J41+K41+L41+M41 -> 7822538 | C41: 767247 | D41: 4196824 | E41: 0 | F41: 4002 | G41: 1973754 | H41: 12762 | I41: 65527 | J41: 676032 | K41: 74830 | L41: 15616 | M41: 35944
A42: Março | B42: =C42+D42+E42+F42+G42+H42+I42+J42+K42+L42+M42 -> 8336190 | C42: 871894 | D42: 4707740 | E42: 0 | F42: 4000 | G42: 1618628 | H42: 25219 | I42: 83745 | J42: 882833 | K42: 76245 | L42: 14415 | M42: 51471
A43: Abril | B43: =C43+D43+E43+F43+G43+H43+I43+J43+K43+L43+M43 -> 6993816 | C43: 607240 | D43: 4187126 | E43: 0 | F43: 2691 | G43: 1237679 | H43: 16454 | I43: 69479 | J43: 755778 | K43: 66833 | L43: 12799 | M43: 37737
A44: Maio | B44: =C44+D44+E44+F44+G44+H44+I44+J44+K44+L44+M44 -> 8009485 | C44: 607182 | D44: 4985203 | E44: 0 | F44: 2515 | G44: 1300170 | H44: 30676 | I44: 79672 | J44: 868371 | K44: 73909 | L44: 14373 | M44: 47414
...

Sheet PAX - LINHA 2
A1: Tabela 1: Total de passageiros mensal por forma de acesso e linha metroviária - 2013 - 2026
A2: Concessionária MetrôRio - Linha 2
A4: Ano Mês | B4: Total Geral | C4: Pré-Pago | D4: Fetranspor | E4: Jaé | F4: Metrô Na Superfície | G4: Unitário | H4: Estudantes | I4: Pessoas com Necessidades Especiais e Doentes Crônicos | J4: Maior de 65 anos | K4: Funcionário | L4: Força de Segurança | M4: Outros
B5: Linha 2 | C5: Linha 2 | D5: Linha 2 | E5: Linha 2 | F5: Linha 2 | G5: Linha 2 | H5: Linha 2 | I5: Linha 2 | J5: Linha 2 | K5: Linha 2 | L5: Linha 2 | M5: Linha 2
A6: 2026 | B6: =SUM(B7:B9) -> 11933979 | C6: =SUM(C7:C9) -> 91470 | D6: =SUM(D7:D9) -> 6684532 | E6: =SUM(E7:E9) -> 2607591 | F6: =SUM(F7:F9) -> 0 | G6: =SUM(G7:G9) -> 1325937 | H6: =SUM(H7:H9) -> 75703 | I6: =SUM(I7:I9) -> 168938 | ... M6: =SUM(M7:M9) -> 26547
A7: Janeiro | B7: =C7+D7+E7+F7+G7+H7+I7+J7+K7+L7+M7 -> 3708700 | C7: 27770 | D7: 2163495 | E7: 753153 | F7: 0 | G7: 397225 | H7: 896 | I7: 53199 | J7: 241577 | K7: 51431 | L7: 11165 | M7: 8789 | N7: 3708700
A8: Fevereiro | B8: =C8+D8+E8+F8+G8+H8+I8+J8+K8+L8+M8 -> 3809298 | C8: 28224 | D8: 2097330 | E8: 853561 | F8: 0 | G8: 465086 | H8: 9064 | I8: 52009 | J8: 229598 | K8: 53541 | L8: 11674 | M8: 9211 | N8: 3809298
A9: Março | B9: =C9+D9+E9+F9+G9+H9+I9+J9+K9+L9+M9 -> 4415981 | C9: 35476 | D9: 2423707 | E9: 1000877 | F9: 0 | G9: 463626 | H9: 65743 | I9: 63730 | J9: 284926 | K9: 55797 | L9: 13552 | M9: 8547 | N9: 4415981
A11: 2025 | B11: =SUM(B12:B23) -> 48943680 | C11: =SUM(C12:C23) -> 469655 | D11: =SUM(D12:D23) -> 34234191 | E11: =SUM(E12:E23) -> 3366202 | F11: =SUM(F12:F23) -> 0 | G11: =SUM(G12:G23) -> 5573407 | H11: =SUM(H12:H23) -> 622611 | I11: =SUM(I12:I23) -> 680083 | ... M11: =SUM(M12:M23) -> 93167
A12: Janeiro | B12: =C12+D12+E12+F12+G12+H12+I12+J12+K12+L12+M12 -> 3748018 | C12: 39546 | D12: 2886077 | E12: 0 | F12: 0 | G12: 438916 | H12: 13135 | I12: 53913 | J12: 244297 | K12: 55252 | L12: 10007 | M12: 6875
A13: Fevereiro | B13: =C13+D13+E13+F13+G13+H13+I13+J13+K13+L13+M13 -> 3921752 | C13: 43147 | D13: 3006079 | E13: 0 | F13: 0 | G13: 477811 | H13: 30245 | I13: 48793 | J13: 245116 | K13: 53004 | L13: 11035 | M13: 6522
A14: Março | B14: =C14+D14+E14+F14+G14+H14+I14+J14+K14+L14+M14 -> 4140793 | C14: 44545 | D14: 3120174 | E14: 0 | F14: 0 | G14: 559738 | H14: 35465 | I14: 52007 | J14: 250355 | K14: 60189 | L14: 11508 | M14: 6812
A15: Abril | B15: =C15+D15+E15+F15+G15+H15+I15+J15+K15+L15+M15 -> 3777013 | C15: 41047 | D15: 2871270 | E15: 0 | F15: 0 | G15: 438062 | H15: 59773 | I15: 50369 | J15: 244150 | K15: 53724 | L15: 10930 | M15: 7688
A16: Maio | B16: =C16+D16+E16+F16+G16+H16+I16+J16+K16+L16+M16 -> 4405807 | C16: 44887 | D16: 3381661 | E16: 0 | F16: 0 | G16: 497758 | H16: 75382 | I16: 59764 | J16: 271236 | K16: 55330 | L16: 11887 | M16: 7902
A17: Junho | B17: =C17+D17+E17+F17+G17+H17+I17+J17+K17+L17+M17 -> 4033319 | C17: 38756 | D17: 3147670 | E17: 0 | F17: 0 | G17: 400019 | H17: 68945 | I17: 56344 | J17: 251311 | K17: 51764 | L17: 11392 | M17: 7118
A18: Julho | B18: =C18+D18+E18+F18+G18+H18+I18+J18+K18+L18+M18 -> 4006798 | C18: 38753 | D18: 3070855 | E18: 0 | F18: 0 | G18: 443927 | H18: 49847 | I18: 58440 | J18: 268891 | K18: 56852 | L18: 12203 | M18: 7030
A19: Agosto | B19: =C19+D19+E19+F19+G19+H19+I19+J19+K19+L19+M19 -> 4157775 | C19: 38742 | D19: 2792862 | E19: 407034 | F19: 0 | G19: 460004 | H19: 55970 | I19: 60545 | J19: 266734 | K19: 56327 | L19: 12563 | M19: 6994
A20: Setembro | B20: =C20+D20+E20+F20+G20+H20+I20+J20+K20+L20+M20 -> 4250983 | C20: 38376 | D20: 2651717 | E20: 630653 | F20: 0 | G20: 444898 | H20: 76586 | I20: 60508 | J20: 267497 | K20: 55939 | L20: 13483 | M20: 11326
A21: Outubro | B21: =C21+D21+E21+F21+G21+H21+I21+J21+K21+L21+M21 -> 4350001 | C21: 37256 | D21: 2622236 | E21: 760197 | F21: 0 | G21: 450368 | H21: 67974 | I21: 61486 | J21: 272139 | K21: 57211 | L21: 13334 | M21: 7800
A22: Novembro | B22: =C22+D22+E22+F22+G22+H22+I22+J22+K22+L22+M22 -> 3983123 | C22: 32637 | D22: 2332267 | E22: 747034 | F22: 0 | G22: 424359 | H22: 61327 | I22: 58740 | J22: 255933 | K22: 51383 | L22: 11636 | M22: 7807
A23: Dezembro | B23: =C23+D23+E23+F23+G23+H23+I23+J23+K23+L23+M23 -> 4168298 | C23: 31963 | D23: 2351323 | E23: 821284 | F23: 0 | G23: 537547 | H23: 27962 | I23: 59174 | J23: 263721 | K23: 54201 | L23: 11830 | M23: 9293
A25: 2024 | B25: =SUM(B26:B37) -> 49731641 | C25: =SUM(C26:C37) -> 733337 | D25: =SUM(D26:D37) -> 36963517 | E25: =SUM(E26:E37) -> 0 | F25: =SUM(F26:F37) -> 0 | G25: =SUM(G26:G37) -> 6836203 | H25: =SUM(H26:H37) -> 572012 | I25: =SUM(I26:I37) -> 671578 | ... M25: =SUM(M26:M37) -> 118097
A26: Janeiro | B26: =C26+D26+E26+F26+G26+H26+I26+J26+K26+L26+M26 -> 3879315 | C26: 75880 | D26: 2880788 | E26: 0 | F26: 0 | G26: 567531 | H26: 6 | I26: 46317 | J26: 231639 | K26: 58682 | L26: 8107 | M26: 10365
A27: Fevereiro | B27: =C27+D27+E27+F27+G27+H27+I27+J27+K27+L27+M27 -> 4277182 | C27: 78249 | D27: 3096192 | E27: 0 | F27: 0 | G27: 722172 | H27: 23535 | I27: 49072 | J27: 227091 | K27: 62294 | L27: 8815 | M27: 9762
A28: Março | B28: =C28+D28+E28+F28+G28+H28+I28+J28+K28+L28+M28 -> 4216577 | C28: 78495 | D28: 3061200 | E28: 0 | F28: 0 | G28: 638443 | H28: 55892 | I28: 55135 | J28: 247757 | K28: 60465 | L28: 9268 | M28: 9922
A29: Abril | B29: =C29+D29+E29+F29+G29+H29+I29+J29+K29+L29+M29 -> 4364432 | C29: 74997 | D29: 3222278 | E29: 0 | F29: 0 | G29: 605194 | H29: 57701 | I29: 58448 | J29: 264323 | K29: 60182 | L29: 10369 | M29: 10940
A30: Maio | B30: =C30+D30+E30+F30+G30+H30+I30+J30+K30+L30+M30 -> 4279997 | C30: 68476 | D30: 3169988 | E30: 0 | F30: 0 | G30: 604921 | H30: 41442 | I30: 56622 | J30: 259267 | K30: 59706 | L30: 10553 | M30: 9022
A31: Junho | B31: =C31+D31+E31+F31+G31+H31+I31+J31+K31+L31+M31 -> 4090727 | C31: 60792 | D31: 3046862 | E31: 0 | F31: 0 | G31: 552920 | H31: 42894 | I31: 55615 | J31: 253808 | K31: 57843 | L31: 10422 | M31: 9571
A32: Julho | B32: =C32+D32+E32+F32+G32+H32+I32+J32+K32+L32+M32 -> 4149363 | C32: 58691 | D32: 3122399 | E32: 0 | F32: 0 | G32: 532175 | H32: 36862 | I32: 57250 | J32: 261478 | K32: 60342 | L32: 10563 | M32: 9603
A33: Agosto | B33: =C33+D33+E33+F33+G33+H33+I33+J33+K33+L33+M33 -> 4202120 | C33: 53665 | D33: 3140454 | E33: 0 | F33: 0 | G33: 525293 | H33: 81114 | I33: 60136 | J33: 261693 | K33: 58703 | L33: 11017 | M33: 10045
A34: Setembro | B34: =C34+D34+E34+F34+G34+H34+I34+J34+K34+L34+M34 -> 4009574 | C34: 48525 | D34: 2990898 | E34: 0 | F34: 0 | G34: 510155 | H34: 71131 | I34: 58750 | J34: 250289 | K34: 57496 | L34: 10813 | M34: 11517
A35: Outubro | B35: =C35+D35+E35+F35+G35+H35+I35+J35+K35+L35+M35 -> 4353591 | C35: 50740 | D35: 3235076 | E35: 0 | F35: 0 | G35: 592987 | H35: 71524 | I35: 61509 | J35: 260387 | K35: 58438 | L35: 11309 | M35: 11621
A36: Novembro | B36: =C36+D36+E36+F36+G36+H36+I36+J36+K36+L36+M36 -> 3890533 | C36: 42444 | D36: 2980096 | E36: 0 | F36: 0 | G36: 442705 | H36: 55596 | I36: 56312 | J36: 240893 | K36: 55601 | L36: 9713 | M36: 7173
A37: Dezembro | B37: =C37+D37+E37+F37+G37+H37+I37+J37+K37+L37+M37 -> 4018230 | C37: 42383 | D37: 3017286 | E37: 0 | F37: 0 | G37: 541707 | H37: 34315 | I37: 56412 | J37: 249494 | K37: 58346 | L37: 9731 | M37: 8556
A39: 2023 | B39: =SUM(B40:B51) -> 52062209 | C39: =SUM(C40:C51) -> 1725825 | D39: =SUM(D40:D51) -> 36187368 | E39: =SUM(E40:E51) -> 0 | F39: =SUM(F40:F51) -> 0 | G39: =SUM(G40:G51) -> 9030476 | H39: =SUM(H40:H51) -> 658453 | I39: =SUM(I40:I51) -> 630985 | ... M39: =SUM(M40:M51) -> 138433
A40: Janeiro | B40: =C40+D40+E40+F40+G40+H40+I40+J40+K40+L40+M40 -> 4034054 | C40: 208828 | D40: 2637628 | E40: 0 | F40: 0 | G40: 842762 | H40: 8925 | I40: 47275 | J40: 218415 | K40: 57464 | L40: 1740 | M40: 11017
A41: Fevereiro | B41: =C41+D41+E41+F41+G41+H41+I41+J41+K41+L41+M41 -> 4049378 | C41: 197584 | D41: 2556279 | E41: 0 | F41: 0 | G41: 957419 | H41: 8933 | I41: 47135 | J41: 206216 | K41: 62054 | L41: 2624 | M41: 11134
A42: Março | B42: =C42+D42+E42+F42+G42+H42+I42+J42+K42+L42+M42 -> 4701781 | C42: 241247 | D42: 3062472 | E42: 0 | F42: 0 | G42: 933242 | H42: 66372 | I42: 59546 | J42: 258509 | K42: 65915 | L42: 2229 | M42: 12249
A43: Abril | B43: =C43+D43+E43+F43+G43+H43+I43+J43+K43+L43+M43 -> 4087334 | C43: 164321 | D43: 2758312 | E43: 0 | F43: 0 | G43: 750189 | H43: 61006 | I43: 51262 | J43: 230845 | K43: 58790 | L43: 1836 | M43: 10773
A44: Maio | B44: =C44+D44+E44+F44+G44+H44+I44+J44+K44+L44+M44 -> 4593795 | C44: 146876 | D44: 3239093 | E44: 0 | F44: 0 | G44: 732898 | H44: 82278 | I44: 57499 | J44: 258789 | K44: 63219 | L44: 2042 | M44: 11101
...

Sheet PAX - LINHA 4
A1: Tabela 1: Total de passageiros mensal por forma de acesso e linha metroviária - 2016 - 2026
A2: Concessionária MetrôRio - Linha 4
A4: Ano Mês | B4: Total Geral | C4: Pré-Pago | D4: Fetranspor | E4: Jaé | F4: Metrô Na Superfície | G4: Unitário | H4: Estudantes | I4: Pessoas com Necessidades Especiais e Doentes Crônicos | J4: Maior de 65 anos | K4: Funcionário | L4: Força de Segurança | M4: Outros
B5: Linha 4 | C5: Linha 4 | D5: Linha 4 | E5: Linha 4 | F5: Linha 4 | G5: Linha 4 | H5: Linha 4 | I5: Linha 4 | J5: Linha 4 | K5: Linha 4 | L5: Linha 4 | M5: Linha 4
A6: 2026 | B6: =SUM(B7:B9) -> 7405860 | C6: =SUM(C7:C9) -> 122808 | D6: =SUM(D7:D9) -> 2969237 | E6: =SUM(E7:E9) -> 2045666 | F6: =SUM(F7:F9) -> 0 | G6: =SUM(G7:G9) -> 1455470 | H6: =SUM(H7:H9) -> 5813 | I6: =SUM(I7:I9) -> 52280 | ... M6: =SUM(M7:M9) -> 16114
A7: Janeiro | B7: =C7+D7+E7+F7+G7+H7+I7+J7+K7+L7+M7 -> 2294796 | C7: 38305 | D7: 947748 | E7: 615921 | F7: 0 | G7: 434508 | H7: 25 | I7: 15690 | J7: 215432 | K7: 14651 | L7: 7233 | M7: 5283 | N7: 2294796
A8: Fevereiro | B8: =C8+D8+E8+F8+G8+H8+I8+J8+K8+L8+M8 -> 2416501 | C8: 38512 | D8: 934549 | E8: 658774 | F8: 0 | G8: 539507 | H8: 1272 | I8: 16117 | J8: 200284 | K8: 14366 | L8: 7559 | M8: 5561 | N8: 2416501
A9: Março | B9: =C9+D9+E9+F9+G9+H9+I9+J9+K9+L9+M9 -> 2694563 | C9: 45991 | D9: 1086940 | E9: 770971 | F9: 0 | G9: 481455 | H9: 4516 | I9: 20473 | J9: 255268 | K9: 13345 | L9: 10334 | M9: 5270 | N9: 2694563
A11: 2025 | B11: =SUM(B12:B23) -> 34342592 | C11: =SUM(C12:C23) -> 608339 | D11: =SUM(D12:D23) -> 20578554 | E11: =SUM(E12:E23) -> 2860364 | F11: =SUM(F12:F23) -> 0 | G11: =SUM(G12:G23) -> 6374120 | H11: =SUM(H12:H23) -> 65685 | I11: =SUM(I12:I23) -> 250185 | ... M11: =SUM(M12:M23) -> 75631
A12: Janeiro | B12: =C12+D12+E12+F12+G12+H12+I12+J12+K12+L12+M12 -> 3620375 | C12: 52620 | D12: 2454139 | E12: 0 | F12: 0 | G12: 692877 | H12: 1613 | I12: 33325 | J12: 340619 | K12: 29902 | L12: 6522 | M12: 8758
A13: Fevereiro | B13: =C13+D13+E13+F13+G13+H13+I13+J13+K13+L13+M13 -> 3681746 | C13: 58151 | D13: 2479804 | E13: 0 | F13: 0 | G13: 719887 | H13: 7340 | I13: 27946 | J13: 345655 | K13: 26919 | L13: 7305 | M13: 8739
A14: Março | B14: =C14+D14+E14+F14+G14+H14+I14+J14+K14+L14+M14 -> 3920725 | C14: 54738 | D14: 2572404 | E14: 0 | F14: 0 | G14: 861819 | H14: 8980 | I14: 28375 | J14: 346521 | K14: 30440 | L14: 7461 | M14: 9987
A15: Abril | B15: =C15+D15+E15+F15+G15+H15+I15+J15+K15+L15+M15 -> 3481431 | C15: 50233 | D15: 2400497 | E15: 0 | F15: 0 | G15: 608014 | H15: 11576 | I15: 28074 | J15: 339536 | K15: 26368 | L15: 7117 | M15: 10016
A16: Maio | B16: =C16+D16+E16+F16+G16+H16+I16+J16+K16+L16+M16 -> 2483282 | C16: 55692 | D16: 1692106 | E16: 0 | F16: 0 | G16: 458267 | H16: 4833 | I16: 15405 | J16: 229714 | K16: 14507 | L16: 7603 | M16: 5155
A17: Junho | B17: =C17+D17+E17+F17+G17+H17+I17+J17+K17+L17+M17 -> 2250507 | C17: 49247 | D17: 1548961 | E17: 0 | F17: 0 | G17: 391512 | H17: 4866 | I17: 14522 | J17: 215198 | K17: 13861 | L17: 7073 | M17: 5267
A18: Julho | B18: =C18+D18+E18+F18+G18+H18+I18+J18+K18+L18+M18 -> 2394854 | C18: 50570 | D18: 1636776 | E18: 0 | F18: 0 | G18: 428286 | H18: 2631 | I18: 15555 | J18: 234712 | K18: 13756 | L18: 7714 | M18: 4854
A19: Agosto | B19: =C19+D19+E19+F19+G19+H19+I19+J19+K19+L19+M19 -> 2468214 | C19: 51532 | D19: 1323827 | E19: 380521 | F19: 0 | G19: 429069 | H19: 5299 | I19: 16994 | J19: 234966 | K19: 13947 | L19: 7426 | M19: 4633
A20: Setembro | B20: =C20+D20+E20+F20+G20+H20+I20+J20+K20+L20+M20 -> 2549632 | C20: 50401 | D20: 1209358 | E20: 566756 | F20: 0 | G20: 435265 | H20: 5866 | I20: 17287 | J20: 238274 | K20: 13603 | L20: 8086 | M20: 4736
A21: Outubro | B21: =C21+D21+E21+F21+G21+H21+I21+J21+K21+L21+M21 -> 2565471 | C21: 49240 | D21: 1162182 | E21: 625769 | F21: 0 | G21: 435149 | H21: 5470 | I21: 17681 | J21: 244450 | K21: 13672 | L21: 7805 | M21: 4053
A22: Novembro | B22: =C22+D22+E22+F22+G22+H22+I22+J22+K22+L22+M22 -> 2353871 | C22: 42565 | D22: 1029656 | E22: 598029 | F22: 0 | G22: 407362 | H22: 5154 | I22: 16949 | J22: 230135 | K22: 12553 | L22: 7278 | M22: 4190
A23: Dezembro | B23: =C23+D23+E23+F23+G23+H23+I23+J23+K23+L23+M23 -> 2572484 | C23: 43350 | D23: 1068844 | E23: 689289 | F23: 0 | G23: 506613 | H23: 2057 | I23: 18072 | J23: 219356 | K23: 13164 | L23: 6496 | M23: 5243
A25: 2024 | B25: =SUM(B26:B37) -> 44557291 | C25: =SUM(C26:C37) -> 841801 | D25: =SUM(D26:D37) -> 30239823 | E25: =SUM(E26:E37) -> 0 | F25: =SUM(F26:F37) -> 0 | G25: =SUM(G26:G37) -> 8270778 | H25: =SUM(H26:H37) -> 122992 | I25: =SUM(I26:I37) -> 400425 | ... M25: =SUM(M26:M37) -> 160588
A26: Janeiro | B26: =C26+D26+E26+F26+G26+H26+I26+J26+K26+L26+M26 -> 3547141 | C26: 78770 | D26: 2394007 | E26: 0 | F26: 0 | G26: 689697 | H26: 11 | I26: 30371 | J26: 304951 | K26: 30446 | L26: 5188 | M26: 13700
A27: Fevereiro | B27: =C27+D27+E27+F27+G27+H27+I27+J27+K27+L27+M27 -> 3656701 | C27: 79750 | D27: 2339885 | E27: 0 | F27: 0 | G27: 857111 | H27: 5410 | I27: 30133 | J27: 292756 | K27: 32138 | L27: 6104 | M27: 13414
A28: Março | B28: =C28+D28+E28+F28+G28+H28+I28+J28+K28+L28+M28 -> 3735003 | C28: 84851 | D28: 2529924 | E28: 0 | F28: 0 | G28: 700958 | H28: 11012 | I28: 31477 | J28: 325627 | K28: 30450 | L28: 6313 | M28: 14391
A29: Abril | B29: =C29+D29+E29+F29+G29+H29+I29+J29+K29+L29+M29 -> 3817816 | C29: 82395 | D29: 2600584 | E29: 0 | F29: 0 | G29: 685432 | H29: 11583 | I29: 33219 | J29: 352421 | K29: 29583 | L29: 6371 | M29: 16228
A30: Maio | B30: =C30+D30+E30+F30+G30+H30+I30+J30+K30+L30+M30 -> 3798069 | C30: 76532 | D30: 2587933 | E30: 0 | F30: 0 | G30: 692342 | H30: 10514 | I30: 33469 | J30: 346331 | K30: 29362 | L30: 6664 | M30: 14922
A31: Junho | B31: =C31+D31+E31+F31+G31+H31+I31+J31+K31+L31+M31 -> 3649033 | C31: 72197 | D31: 2502904 | E31: 0 | F31: 0 | G31: 632232 | H31: 10631 | I31: 33153 | J31: 346031 | K31: 29297 | L31: 6724 | M31: 15864
A32: Julho | B32: =C32+D32+E32+F32+G32+H32+I32+J32+K32+L32+M32 -> 3739913 | C32: 67781 | D32: 2585233 | E32: 0 | F32: 0 | G32: 634114 | H32: 7391 | I32: 33490 | J32: 360090 | K32: 30651 | L32: 6430 | M32: 14733
A33: Agosto | B33: =C33+D33+E33+F33+G33+H33+I33+J33+K33+L33+M33 -> 3831391 | C33: 68502 | D33: 2644498 | E33: 0 | F33: 0 | G33: 651903 | H33: 17150 | I33: 35556 | J33: 364941 | K33: 30442 | L33: 6440 | M33: 11959
A34: Setembro | B34: =C34+D34+E34+F34+G34+H34+I34+J34+K34+L34+M34 -> 3844032 | C34: 63972 | D34: 2623259 | E34: 0 | F34: 0 | G34: 700133 | H34: 15501 | I34: 36296 | J34: 354858 | K34: 32413 | L34: 6842 | M34: 10758
A35: Outubro | B35: =C35+D35+E35+F35+G35+H35+I35+J35+K35+L35+M35 -> 3869169 | C35: 61282 | D35: 2604051 | E35: 0 | F35: 0 | G35: 741774 | H35: 15119 | I35: 36745 | J35: 361284 | K35: 29885 | L35: 6359 | M35: 12670
A36: Novembro | B36: =C36+D36+E36+F36+G36+H36+I36+J36+K36+L36+M36 -> 3437705 | C36: 52354 | D36: 2378713 | E36: 0 | F36: 0 | G36: 588242 | H36: 11862 | I36: 32529 | J36: 329537 | K36: 28092 | L36: 6483 | M36: 9893
A37: Dezembro | B37: =C37+D37+E37+F37+G37+H37+I37+J37+K37+L37+M37 -> 3631318 | C37: 53415 | D37: 2448832 | E37: 0 | F37: 0 | G37: 696840 | H37: 6808 | I37: 33987 | J37: 343738 | K37: 28937 | L37: 6705 | M37: 12056
A39: 2023 | B39: =SUM(B40:B51) -> 45342063 | C39: =SUM(C40:C51) -> 1476076 | D39: =SUM(D40:D51) -> 29720650 | E39: =SUM(E40:E51) -> 0 | F39: =SUM(F40:F51) -> 0 | G39: =SUM(G40:G51) -> 9357861 | H39: =SUM(H40:H51) -> 143003 | I39: =SUM(I40:I51) -> 365294 | ... M39: =SUM(M40:M51) -> 173304
A40: Janeiro | B40: =C40+D40+E40+F40+G40+H40+I40+J40+K40+L40+M40 -> 3586825 | C40: 154405 | D40: 2233044 | E40: 0 | F40: 0 | G40: 871985 | H40: 1289 | I40: 24929 | J40: 256186 | K40: 29390 | L40: 3148 | M40: 12449
A41: Fevereiro | B41: =C41+D41+E41+F41+G41+H41+I41+J41+K41+L41+M41 -> 3683721 | C41: 150915 | D41: 2167208 | E41: 0 | F41: 0 | G41: 1028648 | H41: 3813 | I41: 26916 | J41: 254469 | K41: 33010 | L41: 4171 | M41: 14571
A42: Março | B42: =C42+D42+E42+F42+G42+H42+I42+J42+K42+L42+M42 -> 4081776 | C42: 188086 | D42: 2509357 | E42: 0 | F42: 0 | G42: 950075 | H42: 14237 | I42: 33414 | J42: 334777 | K42: 32951 | L42: 3435 | M42: 15444
A43: Abril | B43: =C43+D43+E43+F43+G43+H43+I43+J43+K43+L43+M43 -> 3523358 | C43: 129230 | D43: 2297703 | E43: 0 | F43: 0 | G43: 721957 | H43: 11627 | I43: 28513 | J43: 288123 | K43: 29476 | L43: 2834 | M43: 13895
A44: Maio | B44: =C44+D44+E44+F44+G44+H44+I44+J44+K44+L44+M44 -> 3956185 | C44: 128414 | D44: 2665824 | E44: 0 | F44: 0 | G44: 737054 | H44: 17026 | I44: 31761 | J44: 327880 | K44: 30980 | L44: 3053 | M44: 14193
...
