Workbook

Sheet PAX - TOTAL SOMA
A1: Tabela 1: Total de passageiros mensal por forma de acesso e linha metroviária - 2013 - 2026
A2: Concessionária MetrôRio
A4: Ano Mês | B4: Total Geral | C4: Pré-Pago | D4: Fetranspor | E4: Jaé | F4: Metrô Na Superfície | G4: Unitário | H4: Estudantes | I4: Pessoas com Necessidades Especiais e Doentes Crônicos | J4: Maior de 65 anos | K4: Funcionário | L4: Força de Segurança | M4: Outros
B5: Total | C5: Total | D5: Total | E5: Total | F5: Total | G5: Total | H5: Total | I5: Total | J5: Total | K5: Total | L5: Total | M5: Total
A6: 2026 | B6: =SUM(B7:B9) -> 47514109 | C6: =SUM(C7:C9) -> 803290 | D6: =SUM(D7:D9) -> 22862387 | E6: =SUM(E7:E9) -> 9648799 | F6: =SUM(F7:F9) -> 0 | G6: =SUM(G7:G9) -> 8310444 | H6: =SUM(H7:H9) -> 109515 | I6: =SUM(I7:I9) -> 531861 | ... M6: =SUM(M7:M9) -> 111678
A7: Janeiro | B7: ='PAX - LINHA 4'!B7+'PAX - LINHA 1'!B7+'PAX - LINHA 2'!B7 -> 14719619 | C7: ='PAX - LINHA 4'!C7+'PAX - LINHA 1'!C7+'PAX - LINHA 2'!C7 -> 245212 | D7: ='PAX - LINHA 4'!D7+'PAX - LINHA 1'!D7+'PAX - LINHA 2'!D7 -> 7316212 | E7: ='PAX - LINHA 4'!E7+'PAX - LINHA 1'!E7+'PAX - LINHA 2'!E7 -> 2844329 | F7: ='PAX - LINHA 4'!F7+'PAX - LINHA 1'!F7+'PAX - LINHA 2'!F7 -> 0 | G7: ='PAX - LINHA 4'!G7+'PAX - LINHA 1'!G7+'PAX - LINHA 2'!G7 -> 2469679 | H7: ='PAX - LINHA 4'!H7+'PAX - LINHA 1'!H7+'PAX - LINHA 2'!H7 -> 1016 | I7: ='PAX - LINHA 4'!I7+'PAX - LINHA 1'!I7+'PAX - LINHA 2'!I7 -> 165885 | ... M7: ='PAX - LINHA 4'!M7+'PAX - LINHA 1'!M7+'PAX - LINHA 2'!M7 -> 36168
A8: Fevereiro | B8: ='PAX - LINHA 4'!B8+'PAX - LINHA 1'!B8+'PAX - LINHA 2'!B8 -> 15766328 | C8: ='PAX - LINHA 4'!C8+'PAX - LINHA 1'!C8+'PAX - LINHA 2'!C8 -> 261249 | D8: ='PAX - LINHA 4'!D8+'PAX - LINHA 1'!D8+'PAX - LINHA 2'!D8 -> 7260903 | E8: ='PAX - LINHA 4'!E8+'PAX - LINHA 1'!E8+'PAX - LINHA 2'!E8 -> 3266279 | F8: ='PAX - LINHA 4'!F8+'PAX - LINHA 1'!F8+'PAX - LINHA 2'!F8 -> 0 | G8: ='PAX - LINHA 4'!G8+'PAX - LINHA 1'!G8+'PAX - LINHA 2'!G8 -> 3196229 | H8: ='PAX - LINHA 4'!H8+'PAX - LINHA 1'!H8+'PAX - LINHA 2'!H8 -> 17509 | I8: ='PAX - LINHA 4'!I8+'PAX - LINHA 1'!I8+'PAX - LINHA 2'!I8 -> 162982 | ... M8: ='PAX - LINHA 4'!M8+'PAX - LINHA 1'!M8+'PAX - LINHA 2'!M8 -> 39588
A9: Março | B9: ='PAX - LINHA 4'!B9+'PAX - LINHA 1'!B9+'PAX - LINHA 2'!B9 -> 17028162 | C9: ='PAX - LINHA 4'!C9+'PAX - LINHA 1'!C9+'PAX - LINHA 2'!C9 -> 296829 | D9: ='PAX - LINHA 4'!D9+'PAX - LINHA 1'!D9+'PAX - LINHA 2'!D9 -> 8285272 | E9: ='PAX - LINHA 4'!E9+'PAX - LINHA 1'!E9+'PAX - LINHA 2'!E9 -> 3538191 | F9: ='PAX - LINHA 4'!F9+'PAX - LINHA 1'!F9+'PAX - LINHA 2'!F9 -> 0 | G9: ='PAX - LINHA 4'!G9+'PAX - LINHA 1'!G9+'PAX - LINHA 2'!G9 -> 2644536 | H9: ='PAX - LINHA 4'!H9+'PAX - LINHA 1'!H9+'PAX - LINHA 2'!H9 -> 90990 | I9: ='PAX - LINHA 4'!I9+'PAX - LINHA 1'!I9+'PAX - LINHA 2'!I9 -> 202994 | ... M9: ='PAX - LINHA 4'!M9+'PAX - LINHA 1'!M9+'PAX - LINHA 2'!M9 -> 35922
A11: 2025 | B11: ='PAX - LINHA 4'!B11+'PAX - LINHA 1'!B11+'PAX - LINHA 2'!B11 -> 186352018 | C11: ='PAX - LINHA 4'!C11+'PAX - LINHA 1'!C11+'PAX - LINHA 2'!C11 -> 3944993 | D11: ='PAX - LINHA 4'!D11+'PAX - LINHA 1'!D11+'PAX - LINHA 2'!D11 -> 115531504 | E11: ='PAX - LINHA 4'!E11+'PAX - LINHA 1'!E11+'PAX - LINHA 2'!E11 -> 12507530 | F11: ='PAX - LINHA 4'!F11+'PAX - LINHA 1'!F11+'PAX - LINHA 2'!F11 -> 0 | G11: ='PAX - LINHA 4'!G11+'PAX - LINHA 1'!G11+'PAX - LINHA 2'!G11 -> 30084400 | H11: ='PAX - LINHA 4'!H11+'PAX - LINHA 1'!H11+'PAX - LINHA 2'!H11 -> 945239 | I11: ='PAX - LINHA 4'!I11+'PAX - LINHA 1'!I11+'PAX - LINHA 2'!I11 -> 2055213 | ... M11: ='PAX - LINHA 4'!M11+'PAX - LINHA 1'!M11+'PAX - LINHA 2'!M11 -> 396854
A12: Janeiro | B12: ='PAX - LINHA 4'!B12+'PAX - LINHA 1'!B12+'PAX - LINHA 2'!B12 -> 14674108 | C12: ='PAX - LINHA 4'!C12+'PAX - LINHA 1'!C12+'PAX - LINHA 2'!C12 -> 336268 | D12: ='PAX - LINHA 4'!D12+'PAX - LINHA 1'!D12+'PAX - LINHA 2'!D12 -> 9972306 | E12: ='PAX - LINHA 4'!E12+'PAX - LINHA 1'!E12+'PAX - LINHA 2'!E12 -> 0 | F12: ='PAX - LINHA 4'!F12+'PAX - LINHA 1'!F12+'PAX - LINHA 2'!F12 -> 0 | G12: ='PAX - LINHA 4'!G12+'PAX - LINHA 1'!G12+'PAX - LINHA 2'!G12 -> 2512440 | H12: ='PAX - LINHA 4'!H12+'PAX - LINHA 1'!H12+'PAX - LINHA 2'!H12 -> 15401 | I12: ='PAX - LINHA 4'!I12+'PAX - LINHA 1'!I12+'PAX - LINHA 2'!I12 -> 168974 | ... M12: ='PAX - LINHA 4'!M12+'PAX - LINHA 1'!M12+'PAX - LINHA 2'!M12 -> 31797
A13: Fevereiro | B13: ='PAX - LINHA 4'!B13+'PAX - LINHA 1'!B13+'PAX - LINHA 2'!B13 -> 15132860 | C13: ='PAX - LINHA 4'!C13+'PAX - LINHA 1'!C13+'PAX - LINHA 2'!C13 -> 375119 | D13: ='PAX - LINHA 4'!D13+'PAX - LINHA 1'!D13+'PAX - LINHA 2'!D13 -> 10280496 | E13: ='PAX - LINHA 4'!E13+'PAX - LINHA 1'!E13+'PAX - LINHA 2'!E13 -> 0 | F13: ='PAX - LINHA 4'!F13+'PAX - LINHA 1'!F13+'PAX - LINHA 2'!F13 -> 0 | G13: ='PAX - LINHA 4'!G13+'PAX - LINHA 1'!G13+'PAX - LINHA 2'!G13 -> 2593043 | H13: ='PAX - LINHA 4'!H13+'PAX - LINHA 1'!H13+'PAX - LINHA 2'!H13 -> 52125 | I13: ='PAX - LINHA 4'!I13+'PAX - LINHA 1'!I13+'PAX - LINHA 2'!I13 -> 148905 | ... M13: ='PAX - LINHA 4'!M13+'PAX - LINHA 1'!M13+'PAX - LINHA 2'!M13 -> 29787
A14: Março | B14: ='PAX - LINHA 4'!B14+'PAX - LINHA 1'!B14+'PAX - LINHA 2'!B14 -> 16231440 | C14: ='PAX - LINHA 4'!C14+'PAX - LINHA 1'!C14+'PAX - LINHA 2'!C14 -> 375724 | D14: ='PAX - LINHA 4'!D14+'PAX - LINHA 1'!D14+'PAX - LINHA 2'!D14 -> 10698854 | E14: ='PAX - LINHA 4'!E14+'PAX - LINHA 1'!E14+'PAX - LINHA 2'!E14 -> 0 | F14: ='PAX - LINHA 4'!F14+'PAX - LINHA 1'!F14+'PAX - LINHA 2'!F14 -> 0 | G14: ='PAX - LINHA 4'!G14+'PAX - LINHA 1'!G14+'PAX - LINHA 2'!G14 -> 3229008 | H14: ='PAX - LINHA 4'!H14+'PAX - LINHA 1'!H14+'PAX - LINHA 2'!H14 -> 61191 | I14: ='PAX - LINHA 4'!I14+'PAX - LINHA 1'!I14+'PAX - LINHA 2'!I14 -> 153975 | ... M14: ='PAX - LINHA 4'!M14+'PAX - LINHA 1'!M14+'PAX - LINHA 2'!M14 -> 33651
A15: Abril | B15: ='PAX - LINHA 4'!B15+'PAX - LINHA 1'!B15+'PAX - LINHA 2'!B15 -> 14216386 | C15: ='PAX - LINHA 4'!C15+'PAX - LINHA 1'!C15+'PAX - LINHA 2'!C15 -> 328655 | D15: ='PAX - LINHA 4'!D15+'PAX - LINHA 1'!D15+'PAX - LINHA 2'!D15 -> 9790367 | E15: ='PAX - LINHA 4'!E15+'PAX - LINHA 1'!E15+'PAX - LINHA 2'!E15 -> 0 | F15: ='PAX - LINHA 4'!F15+'PAX - LINHA 1'!F15+'PAX - LINHA 2'!F15 -> 0 | G15: ='PAX - LINHA 4'!G15+'PAX - LINHA 1'!G15+'PAX - LINHA 2'!G15 -> 2202593 | H15: ='PAX - LINHA 4'!H15+'PAX - LINHA 1'!H15+'PAX - LINHA 2'!H15 -> 84061 | I15: ='PAX - LINHA 4'!I15+'PAX - LINHA 1'!I15+'PAX - LINHA 2'!I15 -> 149248 | ... M15: ='PAX - LINHA 4'!M15+'PAX - LINHA 1'!M15+'PAX - LINHA 2'!M15 -> 32152
A16: Maio | B16: ='PAX - LINHA 4'!B16+'PAX - LINHA 1'!B16+'PAX - LINHA 2'!B16 -> 16140148 | C16: ='PAX - LINHA 4'!C16+'PAX - LINHA 1'!C16+'PAX - LINHA 2'!C16 -> 365156 | D16: ='PAX - LINHA 4'!D16+'PAX - LINHA 1'!D16+'PAX - LINHA 2'!D16 -> 11005919 | E16: ='PAX - LINHA 4'!E16+'PAX - LINHA 1'!E16+'PAX - LINHA 2'!E16 -> 0 | F16: ='PAX - LINHA 4'!F16+'PAX - LINHA 1'!F16+'PAX - LINHA 2'!F16 -> 0 | G16: ='PAX - LINHA 4'!G16+'PAX - LINHA 1'!G16+'PAX - LINHA 2'!G16 -> 2654189 | H16: ='PAX - LINHA 4'!H16+'PAX - LINHA 1'!H16+'PAX - LINHA 2'!H16 -> 107902 | I16: ='PAX - LINHA 4'!I16+'PAX - LINHA 1'!I16+'PAX - LINHA 2'!I16 -> 173630 | ... M16: ='PAX - LINHA 4'!M16+'PAX - LINHA 1'!M16+'PAX - LINHA 2'!M16 -> 35673
A17: Junho | B17: ='PAX - LINHA 4'!B17+'PAX - LINHA 1'!B17+'PAX - LINHA 2'!B17 -> 14620247 | C17: ='PAX - LINHA 4'!C17+'PAX - LINHA 1'!C17+'PAX - LINHA 2'!C17 -> 320367 | D17: ='PAX - LINHA 4'!D17+'PAX - LINHA 1'!D17+'PAX - LINHA 2'!D17 -> 10107362 | E17: ='PAX - LINHA 4'!E17+'PAX - LINHA 1'!E17+'PAX - LINHA 2'!E17 -> 0 | F17: ='PAX - LINHA 4'!F17+'PAX - LINHA 1'!F17+'PAX - LINHA 2'!F17 -> 0 | G17: ='PAX - LINHA 4'!G17+'PAX - LINHA 1'!G17+'PAX - LINHA 2'!G17 -> 2208187 | H17: ='PAX - LINHA 4'!H17+'PAX - LINHA 1'!H17+'PAX - LINHA 2'!H17 -> 103425 | I17: ='PAX - LINHA 4'!I17+'PAX - LINHA 1'!I17+'PAX - LINHA 2'!I17 -> 163798 | ... M17: ='PAX - LINHA 4'!M17+'PAX - LINHA 1'!M17+'PAX - LINHA 2'!M17 -> 34633
A18: Julho | B18: ='PAX - LINHA 4'!B18+'PAX - LINHA 1'!B18+'PAX - LINHA 2'!B18 -> 15370604 | C18: ='PAX - LINHA 4'!C18+'PAX - LINHA 1'!C18+'PAX - LINHA 2'!C18 -> 331507 | D18: ='PAX - LINHA 4'!D18+'PAX - LINHA 1'!D18+'PAX - LINHA 2'!D18 -> 10538318 | E18: ='PAX - LINHA 4'!E18+'PAX - LINHA 1'!E18+'PAX - LINHA 2'!E18 -> 0 | F18: ='PAX - LINHA 4'!F18+'PAX - LINHA 1'!F18+'PAX - LINHA 2'!F18 -> 0 | G18: ='PAX - LINHA 4'!G18+'PAX - LINHA 1'!G18+'PAX - LINHA 2'!G18 -> 2393124 | H18: ='PAX - LINHA 4'!H18+'PAX - LINHA 1'!H18+'PAX - LINHA 2'!H18 -> 70642 | I18: ='PAX - LINHA 4'!I18+'PAX - LINHA 1'!I18+'PAX - LINHA 2'!I18 -> 174541 | ... M18: ='PAX - LINHA 4'!M18+'PAX - LINHA 1'!M18+'PAX - LINHA 2'!M18 -> 31978
A19: Agosto | B19: ='PAX - LINHA 4'!B19+'PAX - LINHA 1'!B19+'PAX - LINHA 2'!B19 -> 15913835 | C19: ='PAX - LINHA 4'!C19+'PAX - LINHA 1'!C19+'PAX - LINHA 2'!C19 -> 333330 | D19: ='PAX - LINHA 4'!D19+'PAX - LINHA 1'!D19+'PAX - LINHA 2'!D19 -> 9489183 | E19: ='PAX - LINHA 4'!E19+'PAX - LINHA 1'!E19+'PAX - LINHA 2'!E19 -> 1563393 | F19: ='PAX - LINHA 4'!F19+'PAX - LINHA 1'!F19+'PAX - LINHA 2'!F19 -> 0 | G19: ='PAX - LINHA 4'!G19+'PAX - LINHA 1'!G19+'PAX - LINHA 2'!G19 -> 2415968 | H19: ='PAX - LINHA 4'!H19+'PAX - LINHA 1'!H19+'PAX - LINHA 2'!H19 -> 92294 | I19: ='PAX - LINHA 4'!I19+'PAX - LINHA 1'!I19+'PAX - LINHA 2'!I19 -> 183259 | ... M19: ='PAX - LINHA 4'!M19+'PAX - LINHA 1'!M19+'PAX - LINHA 2'!M19 -> 31687
A20: Setembro | B20: ='PAX - LINHA 4'!B20+'PAX - LINHA 1'!B20+'PAX - LINHA 2'!B20 -> 16384809 | C20: ='PAX - LINHA 4'!C20+'PAX - LINHA 1'!C20+'PAX - LINHA 2'!C20 -> 326443 | D20: ='PAX - LINHA 4'!D20+'PAX - LINHA 1'!D20+'PAX - LINHA 2'!D20 -> 9041792 | E20: ='PAX - LINHA 4'!E20+'PAX - LINHA 1'!E20+'PAX - LINHA 2'!E20 -> 2403888 | F20: ='PAX - LINHA 4'!F20+'PAX - LINHA 1'!F20+'PAX - LINHA 2'!F20 -> 0 | G20: ='PAX - LINHA 4'!G20+'PAX - LINHA 1'!G20+'PAX - LINHA 2'!G20 -> 2437322 | H20: ='PAX - LINHA 4'!H20+'PAX - LINHA 1'!H20+'PAX - LINHA 2'!H20 -> 115322 | I20: ='PAX - LINHA 4'!I20+'PAX - LINHA 1'!I20+'PAX - LINHA 2'!I20 -> 187175 | ... M20: ='PAX - LINHA 4'!M20+'PAX - LINHA 1'!M20+'PAX - LINHA 2'!M20 -> 38351
A21: Outubro | B21: ='PAX - LINHA 4'!B21+'PAX - LINHA 1'!B21+'PAX - LINHA 2'!B21 -> 16632134 | C21: ='PAX - LINHA 4'!C21+'PAX - LINHA 1'!C21+'PAX - LINHA 2'!C21 -> 314415 | D21: ='PAX - LINHA 4'!D21+'PAX - LINHA 1'!D21+'PAX - LINHA 2'!D21 -> 8857149 | E21: ='PAX - LINHA 4'!E21+'PAX - LINHA 1'!E21+'PAX - LINHA 2'!E21 -> 2830990 | F21: ='PAX - LINHA 4'!F21+'PAX - LINHA 1'!F21+'PAX - LINHA 2'!F21 -> 0 | G21: ='PAX - LINHA 4'!G21+'PAX - LINHA 1'!G21+'PAX - LINHA 2'!G21 -> 2441625 | H21: ='PAX - LINHA 4'!H21+'PAX - LINHA 1'!H21+'PAX - LINHA 2'!H21 -> 104464 | I21: ='PAX - LINHA 4'!I21+'PAX - LINHA 1'!I21+'PAX - LINHA 2'!I21 -> 190378 | ... M21: ='PAX - LINHA 4'!M21+'PAX - LINHA 1'!M21+'PAX - LINHA 2'!M21 -> 30720
A22: Novembro | B22: ='PAX - LINHA 4'!B22+'PAX - LINHA 1'!B22+'PAX - LINHA 2'!B22 -> 15133608 | C22: ='PAX - LINHA 4'!C22+'PAX - LINHA 1'!C22+'PAX - LINHA 2'!C22 -> 272945 | D22: ='PAX - LINHA 4'!D22+'PAX - LINHA 1'!D22+'PAX - LINHA 2'!D22 -> 7813579 | E22: ='PAX - LINHA 4'!E22+'PAX - LINHA 1'!E22+'PAX - LINHA 2'!E22 -> 2735384 | F22: ='PAX - LINHA 4'!F22+'PAX - LINHA 1'!F22+'PAX - LINHA 2'!F22 -> 0 | G22: ='PAX - LINHA 4'!G22+'PAX - LINHA 1'!G22+'PAX - LINHA 2'!G22 -> 2280188 | H22: ='PAX - LINHA 4'!H22+'PAX - LINHA 1'!H22+'PAX - LINHA 2'!H22 -> 94753 | I22: ='PAX - LINHA 4'!I22+'PAX - LINHA 1'!I22+'PAX - LINHA 2'!I22 -> 180086 | ... M22: ='PAX - LINHA 4'!M22+'PAX - LINHA 1'!M22+'PAX - LINHA 2'!M22 -> 30210
A23: Dezembro | B23: ='PAX - LINHA 4'!B23+'PAX - LINHA 1'!B23+'PAX - LINHA 2'!B23 -> 15901839 | C23: ='PAX - LINHA 4'!C23+'PAX - LINHA 1'!C23+'PAX - LINHA 2'!C23 -> 265064 | D23: ='PAX - LINHA 4'!D23+'PAX - LINHA 1'!D23+'PAX - LINHA 2'!D23 -> 7936179 | E23: ='PAX - LINHA 4'!E23+'PAX - LINHA 1'!E23+'PAX - LINHA 2'!E23 -> 2973875 | F23: ='PAX - LINHA 4'!F23+'PAX - LINHA 1'!F23+'PAX - LINHA 2'!F23 -> 0 | G23: ='PAX - LINHA 4'!G23+'PAX - LINHA 1'!G23+'PAX - LINHA 2'!G23 -> 2716713 | H23: ='PAX - LINHA 4'!H23+'PAX - LINHA 1'!H23+'PAX - LINHA 2'!H23 -> 43659 | I23: ='PAX - LINHA 4'!I23+'PAX - LINHA 1'!I23+'PAX - LINHA 2'!I23 -> 181244 | ... M23: ='PAX - LINHA 4'!M23+'PAX - LINHA 1'!M23+'PAX - LINHA 2'!M23 -> 36215
A25: 2024 | B25: ='PAX - LINHA 4'!B25+'PAX - LINHA 1'!B25+'PAX - LINHA 2'!B25 -> 184031228 | C25: ='PAX - LINHA 4'!C25+'PAX - LINHA 1'!C25+'PAX - LINHA 2'!C25 -> 5597214 | D25: ='PAX - LINHA 4'!D25+'PAX - LINHA 1'!D25+'PAX - LINHA 2'!D25 -> 124035911 | E25: ='PAX - LINHA 4'!E25+'PAX - LINHA 1'!E25+'PAX - LINHA 2'!E25 -> 0 | F25: ='PAX - LINHA 4'!F25+'PAX - LINHA 1'!F25+'PAX - LINHA 2'!F25 -> 8187 | G25: ='PAX - LINHA 4'!G25+'PAX - LINHA 1'!G25+'PAX - LINHA 2'!G25 -> 30848194 | H25: ='PAX - LINHA 4'!H25+'PAX - LINHA 1'!H25+'PAX - LINHA 2'!H25 -> 893370 | I25: ='PAX - LINHA 4'!I25+'PAX - LINHA 1'!I25+'PAX - LINHA 2'!I25 -> 2050882 | ... M25: ='PAX - LINHA 4'!M25+'PAX - LINHA 1'!M25+'PAX - LINHA 2'!M25 -> 643504
A26: Janeiro | B26: ='PAX - LINHA 4'!B26+'PAX - LINHA 1'!B26+'PAX - LINHA 2'!B26 -> 14661886 | C26: ='PAX - LINHA 4'!C26+'PAX - LINHA 1'!C26+'PAX - LINHA 2'!C26 -> 541873 | D26: ='PAX - LINHA 4'!D26+'PAX - LINHA 1'!D26+'PAX - LINHA 2'!D26 -> 9746420 | E26: ='PAX - LINHA 4'!E26+'PAX - LINHA 1'!E26+'PAX - LINHA 2'!E26 -> 0 | F26: ='PAX - LINHA 4'!F26+'PAX - LINHA 1'!F26+'PAX - LINHA 2'!F26 -> 1176 | G26: ='PAX - LINHA 4'!G26+'PAX - LINHA 1'!G26+'PAX - LINHA 2'!G26 -> 2624879 | H26: ='PAX - LINHA 4'!H26+'PAX - LINHA 1'!H26+'PAX - LINHA 2'!H26 -> 31 | I26: ='PAX - LINHA 4'!I26+'PAX - LINHA 1'!I26+'PAX - LINHA 2'!I26 -> 146118 | ... M26: ='PAX - LINHA 4'!M26+'PAX - LINHA 1'!M26+'PAX - LINHA 2'!M26 -> 58790
A27: Fevereiro | B27: ='PAX - LINHA 4'!B27+'PAX - LINHA 1'!B27+'PAX - LINHA 2'!B27 -> 15610839 | C27: ='PAX - LINHA 4'!C27+'PAX - LINHA 1'!C27+'PAX - LINHA 2'!C27 -> 585790 | D27: ='PAX - LINHA 4'!D27+'PAX - LINHA 1'!D27+'PAX - LINHA 2'!D27 -> 9922383 | E27: ='PAX - LINHA 4'!E27+'PAX - LINHA 1'!E27+'PAX - LINHA 2'!E27 -> 0 | F27: ='PAX - LINHA 4'!F27+'PAX - LINHA 1'!F27+'PAX - LINHA 2'!F27 -> 1505 | G27: ='PAX - LINHA 4'!G27+'PAX - LINHA 1'!G27+'PAX - LINHA 2'!G27 -> 3356967 | H27: ='PAX - LINHA 4'!H27+'PAX - LINHA 1'!H27+'PAX - LINHA 2'!H27 -> 38036 | I27: ='PAX - LINHA 4'!I27+'PAX - LINHA 1'!I27+'PAX - LINHA 2'!I27 -> 150247 | ... M27: ='PAX - LINHA 4'!M27+'PAX - LINHA 1'!M27+'PAX - LINHA 2'!M27 -> 61309
A28: Março | B28: ='PAX - LINHA 4'!B28+'PAX - LINHA 1'!B28+'PAX - LINHA 2'!B28 -> 15347515 | C28: ='PAX - LINHA 4'!C28+'PAX - LINHA 1'!C28+'PAX - LINHA 2'!C28 -> 561213 | D28: ='PAX - LINHA 4'!D28+'PAX - LINHA 1'!D28+'PAX - LINHA 2'!D28 -> 10223835 | E28: ='PAX - LINHA 4'!E28+'PAX - LINHA 1'!E28+'PAX - LINHA 2'!E28 -> 0 | F28: ='PAX - LINHA 4'!F28+'PAX - LINHA 1'!F28+'PAX - LINHA 2'!F28 -> 1082 | G28: ='PAX - LINHA 4'!G28+'PAX - LINHA 1'!G28+'PAX - LINHA 2'!G28 -> 2632369 | H28: ='PAX - LINHA 4'!H28+'PAX - LINHA 1'!H28+'PAX - LINHA 2'!H28 -> 81973 | I28: ='PAX - LINHA 4'!I28+'PAX - LINHA 1'!I28+'PAX - LINHA 2'!I28 -> 166328 | ... M28: ='PAX - LINHA 4'!M28+'PAX - LINHA 1'!M28+'PAX - LINHA 2'!M28 -> 61987
A29: Abril | B29: ='PAX - LINHA 4'!B29+'PAX - LINHA 1'!B29+'PAX - LINHA 2'!B29 -> 15823042 | C29: ='PAX - LINHA 4'!C29+'PAX - LINHA 1'!C29+'PAX - LINHA 2'!C29 -> 546127 | D29: ='PAX - LINHA 4'!D29+'PAX - LINHA 1'!D29+'PAX - LINHA 2'!D29 -> 10644386 | E29: ='PAX - LINHA 4'!E29+'PAX - LINHA 1'!E29+'PAX - LINHA 2'!E29 -> 0 | F29: ='PAX - LINHA 4'!F29+'PAX - LINHA 1'!F29+'PAX - LINHA 2'!F29 -> 1520 | G29: ='PAX - LINHA 4'!G29+'PAX - LINHA 1'!G29+'PAX - LINHA 2'!G29 -> 2557470 | H29: ='PAX - LINHA 4'!H29+'PAX - LINHA 1'!H29+'PAX - LINHA 2'!H29 -> 84701 | I29: ='PAX - LINHA 4'!I29+'PAX - LINHA 1'!I29+'PAX - LINHA 2'!I29 -> 175143 | ... M29: ='PAX - LINHA 4'!M29+'PAX - LINHA 1'!M29+'PAX - LINHA 2'!M29 -> 79049
A30: Maio | B30: ='PAX - LINHA 4'!B30+'PAX - LINHA 1'!B30+'PAX - LINHA 2'!B30 -> 15872898 | C30: ='PAX - LINHA 4'!C30+'PAX - LINHA 1'!C30+'PAX - LINHA 2'!C30 -> 515975 | D30: ='PAX - LINHA 4'!D30+'PAX - LINHA 1'!D30+'PAX - LINHA 2'!D30 -> 10713608 | E30: ='PAX - LINHA 4'!E30+'PAX - LINHA 1'!E30+'PAX - LINHA 2'!E30 -> 0 | F30: ='PAX - LINHA 4'!F30+'PAX - LINHA 1'!F30+'PAX - LINHA 2'!F30 -> 1082 | G30: ='PAX - LINHA 4'!G30+'PAX - LINHA 1'!G30+'PAX - LINHA 2'!G30 -> 2621268 | H30: ='PAX - LINHA 4'!H30+'PAX - LINHA 1'!H30+'PAX - LINHA 2'!H30 -> 69385 | I30: ='PAX - LINHA 4'!I30+'PAX - LINHA 1'!I30+'PAX - LINHA 2'!I30 -> 173358 | ... M30: ='PAX - LINHA 4'!M30+'PAX - LINHA 1'!M30+'PAX - LINHA 2'!M30 -> 67934
A31: Junho | B31: ='PAX - LINHA 4'!B31+'PAX - LINHA 1'!B31+'PAX - LINHA 2'!B31 -> 15130530 | C31: ='PAX - LINHA 4'!C31+'PAX - LINHA 1'!C31+'PAX - LINHA 2'!C31 -> 466465 | D31: ='PAX - LINHA 4'!D31+'PAX - LINHA 1'!D31+'PAX - LINHA 2'!D31 -> 10289165 | E31: ='PAX - LINHA 4'!E31+'PAX - LINHA 1'!E31+'PAX - LINHA 2'!E31 -> 0 | F31: ='PAX - LINHA 4'!F31+'PAX - LINHA 1'!F31+'PAX - LINHA 2'!F31 -> 977 | G31: ='PAX - LINHA 4'!G31+'PAX - LINHA 1'!G31+'PAX - LINHA 2'!G31 -> 2384779 | H31: ='PAX - LINHA 4'!H31+'PAX - LINHA 1'!H31+'PAX - LINHA 2'!H31 -> 71247 | I31: ='PAX - LINHA 4'!I31+'PAX - LINHA 1'!I31+'PAX - LINHA 2'!I31 -> 170671 | ... M31: ='PAX - LINHA 4'!M31+'PAX - LINHA 1'!M31+'PAX - LINHA 2'!M31 -> 69278
A32: Julho | B32: ='PAX - LINHA 4'!B32+'PAX - LINHA 1'!B32+'PAX - LINHA 2'!B32 -> 15525364 | C32: ='PAX - LINHA 4'!C32+'PAX - LINHA 1'!C32+'PAX - LINHA 2'!C32 -> 453612 | D32: ='PAX - LINHA 4'!D32+'PAX - LINHA 1'!D32+'PAX - LINHA 2'!D32 -> 10641011 | E32: ='PAX - LINHA 4'!E32+'PAX - LINHA 1'!E32+'PAX - LINHA 2'!E32 -> 0 | F32: ='PAX - LINHA 4'!F32+'PAX - LINHA 1'!F32+'PAX - LINHA 2'!F32 -> 845 | G32: ='PAX - LINHA 4'!G32+'PAX - LINHA 1'!G32+'PAX - LINHA 2'!G32 -> 2385339 | H32: ='PAX - LINHA 4'!H32+'PAX - LINHA 1'!H32+'PAX - LINHA 2'!H32 -> 55615 | I32: ='PAX - LINHA 4'!I32+'PAX - LINHA 1'!I32+'PAX - LINHA 2'!I32 -> 175573 | ... M32: ='PAX - LINHA 4'!M32+'PAX - LINHA 1'!M32+'PAX - LINHA 2'!M32 -> 61657
A33: Agosto | B33: ='PAX - LINHA 4'!B33+'PAX - LINHA 1'!B33+'PAX - LINHA 2'!B33 -> 15667034 | C33: ='PAX - LINHA 4'!C33+'PAX - LINHA 1'!C33+'PAX - LINHA 2'!C33 -> 435513 | D33: ='PAX - LINHA 4'!D33+'PAX - LINHA 1'!D33+'PAX - LINHA 2'!D33 -> 10732279 | E33: ='PAX - LINHA 4'!E33+'PAX - LINHA 1'!E33+'PAX - LINHA 2'!E33 -> 0 | F33: ='PAX - LINHA 4'!F33+'PAX - LINHA 1'!F33+'PAX - LINHA 2'!F33 -> 0 | G33: ='PAX - LINHA 4'!G33+'PAX - LINHA 1'!G33+'PAX - LINHA 2'!G33 -> 2404589 | H33: ='PAX - LINHA 4'!H33+'PAX - LINHA 1'!H33+'PAX - LINHA 2'!H33 -> 127289 | I33: ='PAX - LINHA 4'!I33+'PAX - LINHA 1'!I33+'PAX - LINHA 2'!I33 -> 185218 | ... M33: ='PAX - LINHA 4'!M33+'PAX - LINHA 1'!M33+'PAX - LINHA 2'!M33 -> 35629
A34: Setembro | B34: ='PAX - LINHA 4'!B34+'PAX - LINHA 1'!B34+'PAX - LINHA 2'!B34 -> 15407258 | C34: ='PAX - LINHA 4'!C34+'PAX - LINHA 1'!C34+'PAX - LINHA 2'!C34 -> 402293 | D34: ='PAX - LINHA 4'!D34+'PAX - LINHA 1'!D34+'PAX - LINHA 2'!D34 -> 10516887 | E34: ='PAX - LINHA 4'!E34+'PAX - LINHA 1'!E34+'PAX - LINHA 2'!E34 -> 0 | F34: ='PAX - LINHA 4'!F34+'PAX - LINHA 1'!F34+'PAX - LINHA 2'!F34 -> 0 | G34: ='PAX - LINHA 4'!G34+'PAX - LINHA 1'!G34+'PAX - LINHA 2'!G34 -> 2470924 | H34: ='PAX - LINHA 4'!H34+'PAX - LINHA 1'!H34+'PAX - LINHA 2'!H34 -> 114106 | I34: ='PAX - LINHA 4'!I34+'PAX - LINHA 1'!I34+'PAX - LINHA 2'!I34 -> 183461 | ... M34: ='PAX - LINHA 4'!M34+'PAX - LINHA 1'!M34+'PAX - LINHA 2'!M34 -> 36577
A35: Outubro | B35: ='PAX - LINHA 4'!B35+'PAX - LINHA 1'!B35+'PAX - LINHA 2'!B35 -> 16240314 | C35: ='PAX - LINHA 4'!C35+'PAX - LINHA 1'!C35+'PAX - LINHA 2'!C35 -> 412008 | D35: ='PAX - LINHA 4'!D35+'PAX - LINHA 1'!D35+'PAX - LINHA 2'!D35 -> 10958206 | E35: ='PAX - LINHA 4'!E35+'PAX - LINHA 1'!E35+'PAX - LINHA 2'!E35 -> 0 | F35: ='PAX - LINHA 4'!F35+'PAX - LINHA 1'!F35+'PAX - LINHA 2'!F35 -> 0 | G35: ='PAX - LINHA 4'!G35+'PAX - LINHA 1'!G35+'PAX - LINHA 2'!G35 -> 2764435 | H35: ='PAX - LINHA 4'!H35+'PAX - LINHA 1'!H35+'PAX - LINHA 2'!H35 -> 112142 | I35: ='PAX - LINHA 4'!I35+'PAX - LINHA 1'!I35+'PAX - LINHA 2'!I35 -> 191417 | ... M35: ='PAX - LINHA 4'!M35+'PAX - LINHA 1'!M35+'PAX - LINHA 2'!M35 -> 43603
A36: Novembro | B36: ='PAX - LINHA 4'!B36+'PAX - LINHA 1'!B36+'PAX - LINHA 2'!B36 -> 14035436 | C36: ='PAX - LINHA 4'!C36+'PAX - LINHA 1'!C36+'PAX - LINHA 2'!C36 -> 339029 | D36: ='PAX - LINHA 4'!D36+'PAX - LINHA 1'!D36+'PAX - LINHA 2'!D36 -> 9691008 | E36: ='PAX - LINHA 4'!E36+'PAX - LINHA 1'!E36+'PAX - LINHA 2'!E36 -> 0 | F36: ='PAX - LINHA 4'!F36+'PAX - LINHA 1'!F36+'PAX - LINHA 2'!F36 -> 0 | G36: ='PAX - LINHA 4'!G36+'PAX - LINHA 1'!G36+'PAX - LINHA 2'!G36 -> 2133398 | H36: ='PAX - LINHA 4'!H36+'PAX - LINHA 1'!H36+'PAX - LINHA 2'!H36 -> 86863 | I36: ='PAX - LINHA 4'!I36+'PAX - LINHA 1'!I36+'PAX - LINHA 2'!I36 -> 165456 | ... M36: ='PAX - LINHA 4'!M36+'PAX - LINHA 1'!M36+'PAX - LINHA 2'!M36 -> 31240
A37: Dezembro | B37: ='PAX - LINHA 4'!B37+'PAX - LINHA 1'!B37+'PAX - LINHA 2'!B37 -> 14709112 | C37: ='PAX - LINHA 4'!C37+'PAX - LINHA 1'!C37+'PAX - LINHA 2'!C37 -> 337316 | D37: ='PAX - LINHA 4'!D37+'PAX - LINHA 1'!D37+'PAX - LINHA 2'!D37 -> 9956723 | E37: ='PAX - LINHA 4'!E37+'PAX - LINHA 1'!E37+'PAX - LINHA 2'!E37 -> 0 | F37: ='PAX - LINHA 4'!F37+'PAX - LINHA 1'!F37+'PAX - LINHA 2'!F37 -> 0 | G37: ='PAX - LINHA 4'!G37+'PAX - LINHA 1'!G37+'PAX - LINHA 2'!G37 -> 2511777 | H37: ='PAX - LINHA 4'!H37+'PAX - LINHA 1'!H37+'PAX - LINHA 2'!H37 -> 51982 | I37: ='PAX - LINHA 4'!I37+'PAX - LINHA 1'!I37+'PAX - LINHA 2'!I37 -> 167892 | ... M37: ='PAX - LINHA 4'!M37+'PAX - LINHA 1'!M37+'PAX - LINHA 2'!M37 -> 36451
A39: 2023 | B39: ='PAX - LINHA 4'!B39+'PAX - LINHA 1'!B39+'PAX - LINHA 2'!B39 -> 188983036 | C39: ='PAX - LINHA 4'!C39+'PAX - LINHA 1'!C39+'PAX - LINHA 2'!C39 -> 10218441 | D39: ='PAX - LINHA 4'!D39+'PAX - LINHA 1'!D39+'PAX - LINHA 2'!D39 -> 121033002 | E39: ='PAX - LINHA 4'!E39+'PAX - LINHA 1'!E39+'PAX - LINHA 2'!E39 -> 0 | F39: ='PAX - LINHA 4'!F39+'PAX - LINHA 1'!F39+'PAX - LINHA 2'!F39 -> 28352 | G39: ='PAX - LINHA 4'!G39+'PAX - LINHA 1'!G39+'PAX - LINHA 2'!G39 -> 35283843 | H39: ='PAX - LINHA 4'!H39+'PAX - LINHA 1'!H39+'PAX - LINHA 2'!H39 -> 1072912 | I39: ='PAX - LINHA 4'!I39+'PAX - LINHA 1'!I39+'PAX - LINHA 2'!I39 -> 1875889 | ... M39: ='PAX - LINHA 4'!M39+'PAX - LINHA 1'!M39+'PAX - LINHA 2'!M39 -> 835041
A40: Janeiro | B40: ='PAX - LINHA 4'!B40+'PAX - LINHA 1'!B40+'PAX - LINHA 2'!B40 -> 14946426 | C40: ='PAX - LINHA 4'!C40+'PAX - LINHA 1'!C40+'PAX - LINHA 2'!C40 -> 1095107 | D40: ='PAX - LINHA 4'!D40+'PAX - LINHA 1'!D40+'PAX - LINHA 2'!D40 -> 8948602 | E40: ='PAX - LINHA 4'!E40+'PAX - LINHA 1'!E40+'PAX - LINHA 2'!E40 -> 0 | F40: ='PAX - LINHA 4'!F40+'PAX - LINHA 1'!F40+'PAX - LINHA 2'!F40 -> 3269 | G40: ='PAX - LINHA 4'!G40+'PAX - LINHA 1'!G40+'PAX - LINHA 2'!G40 -> 3312324 | H40: ='PAX - LINHA 4'!H40+'PAX - LINHA 1'!H40+'PAX - LINHA 2'!H40 -> 11142 | I40: ='PAX - LINHA 4'!I40+'PAX - LINHA 1'!I40+'PAX - LINHA 2'!I40 -> 138982 | ... M40: ='PAX - LINHA 4'!M40+'PAX - LINHA 1'!M40+'PAX - LINHA 2'!M40 -> 54469
A41: Fevereiro | B41: ='PAX - LINHA 4'!B41+'PAX - LINHA 1'!B41+'PAX - LINHA 2'!B41 -> 15555637 | C41: ='PAX - LINHA 4'!C41+'PAX - LINHA 1'!C41+'PAX - LINHA 2'!C41 -> 1115746 | D41: ='PAX - LINHA 4'!D41+'PAX - LINHA 1'!D41+'PAX - LINHA 2'!D41 -> 8920311 | E41: ='PAX - LINHA 4'!E41+'PAX - LINHA 1'!E41+'PAX - LINHA 2'!E41 -> 0 | F41: ='PAX - LINHA 4'!F41+'PAX - LINHA 1'!F41+'PAX - LINHA 2'!F41 -> 4002 | G41: ='PAX - LINHA 4'!G41+'PAX - LINHA 1'!G41+'PAX - LINHA 2'!G41 -> 3959821 | H41: ='PAX - LINHA 4'!H41+'PAX - LINHA 1'!H41+'PAX - LINHA 2'!H41 -> 25508 | I41: ='PAX - LINHA 4'!I41+'PAX - LINHA 1'!I41+'PAX - LINHA 2'!I41 -> 139578 | ... M41: ='PAX - LINHA 4'!M41+'PAX - LINHA 1'!M41+'PAX - LINHA 2'!M41 -> 61649
A42: Março | B42: ='PAX - LINHA 4'!B42+'PAX - LINHA 1'!B42+'PAX - LINHA 2'!B42 -> 17119747 | C42: ='PAX - LINHA 4'!C42+'PAX - LINHA 1'!C42+'PAX - LINHA 2'!C42 -> 1301227 | D42: ='PAX - LINHA 4'!D42+'PAX - LINHA 1'!D42+'PAX - LINHA 2'!D42 -> 10279569 | E42: ='PAX - LINHA 4'!E42+'PAX - LINHA 1'!E42+'PAX - LINHA 2'!E42 -> 0 | F42: ='PAX - LINHA 4'!F42+'PAX - LINHA 1'!F42+'PAX - LINHA 2'!F42 -> 4000 | G42: ='PAX - LINHA 4'!G42+'PAX - LINHA 1'!G42+'PAX - LINHA 2'!G42 -> 3501945 | H42: ='PAX - LINHA 4'!H42+'PAX - LINHA 1'!H42+'PAX - LINHA 2'!H42 -> 105828 | I42: ='PAX - LINHA 4'!I42+'PAX - LINHA 1'!I42+'PAX - LINHA 2'!I42 -> 176705 | ... M42: ='PAX - LINHA 4'!M42+'PAX - LINHA 1'!M42+'PAX - LINHA 2'!M42 -> 79164
A43: Abril | B43: ='PAX - LINHA 4'!B43+'PAX - LINHA 1'!B43+'PAX - LINHA 2'!B43 -> 14604508 | C43: ='PAX - LINHA 4'!C43+'PAX - LINHA 1'!C43+'PAX - LINHA 2'!C43 -> 900791 | D43: ='PAX - LINHA 4'!D43+'PAX - LINHA 1'!D43+'PAX - LINHA 2'!D43 -> 9243141 | E43: ='PAX - LINHA 4'!E43+'PAX - LINHA 1'!E43+'PAX - LINHA 2'!E43 -> 0 | F43: ='PAX - LINHA 4'!F43+'PAX - LINHA 1'!F43+'PAX - LINHA 2'!F43 -> 2691 | G43: ='PAX - LINHA 4'!G43+'PAX - LINHA 1'!G43+'PAX - LINHA 2'!G43 -> 2709825 | H43: ='PAX - LINHA 4'!H43+'PAX - LINHA 1'!H43+'PAX - LINHA 2'!H43 -> 89087 | I43: ='PAX - LINHA 4'!I43+'PAX - LINHA 1'!I43+'PAX - LINHA 2'!I43 -> 149254 | ... M43: ='PAX - LINHA 4'!M43+'PAX - LINHA 1'!M43+'PAX - LINHA 2'!M43 -> 62405
A44: Maio | B44: ='PAX - LINHA 4'!B44+'PAX - LINHA 1'!B44+'PAX - LINHA 2'!B44 -> 16559465 | C44: ='PAX - LINHA 4'!C44+'PAX - LINHA 1'!C44+'PAX - LINHA 2'!C44 -> 882472 | D44: ='PAX - LINHA 4'!D44+'PAX - LINHA 1'!D44+'PAX - LINHA 2'!D44 -> 10890120 | E44: ='PAX - LINHA 4'!E44+'PAX - LINHA 1'!E44+'PAX - LINHA 2'!E44 -> 0 | F44: ='PAX - LINHA 4'!F44+'PAX - LINHA 1'!F44+'PAX - LINHA 2'!F44 -> 2515 | G44: ='PAX - LINHA 4'!G44+'PAX - LINHA 1'!G44+'PAX - LINHA 2'!G44 -> 2770122 | H44: ='PAX - LINHA 4'!H44+'PAX - LINHA 1'!H44+'PAX - LINHA 2'!H44 -> 129980 | I44: ='PAX - LINHA 4'!I44+'PAX - LINHA 1'!I44+'PAX - LINHA 2'!I44 -> 168932 | ... M44: ='PAX - LINHA 4'!M44+'PAX - LINHA 1'!M44+'PAX - LINHA 2'!M44 -> 72708
A45: Junho | B45: ='PAX - LINHA 4'!B45+'PAX - LINHA 1'!B45+'PAX - LINHA 2'!B45 -> 15890382 | C45: ='PAX - LINHA 4'!C45+'PAX - LINHA 1'!C45+'PAX - LINHA 2'!C45 -> 801056 | D45: ='PAX - LINHA 4'!D45+'PAX - LINHA 1'!D45+'PAX - LINHA 2'!D45 -> 10476061 | E45: ='PAX - LINHA 4'!E45+'PAX - LINHA 1'!E45+'PAX - LINHA 2'!E45 -> 0 | F45: ='PAX - LINHA 4'!F45+'PAX - LINHA 1'!F45+'PAX - LINHA 2'!F45 -> 2044 | G45: ='PAX - LINHA 4'!G45+'PAX - LINHA 1'!G45+'PAX - LINHA 2'!G45 -> 2644119 | H45: ='PAX - LINHA 4'!H45+'PAX - LINHA 1'!H45+'PAX - LINHA 2'!H45 -> 128019 | I45: ='PAX - LINHA 4'!I45+'PAX - LINHA 1'!I45+'PAX - LINHA 2'!I45 -> 161849 | ... M45: ='PAX - LINHA 4'!M45+'PAX - LINHA 1'!M45+'PAX - LINHA 2'!M45 -> 83900
A46: Julho | B46: ='PAX - LINHA 4'!B46+'PAX - LINHA 1'!B46+'PAX - LINHA 2'!B46 -> 15292807 | C46: ='PAX - LINHA 4'!C46+'PAX - LINHA 1'!C46+'PAX - LINHA 2'!C46 -> 731447 | D46: ='PAX - LINHA 4'!D46+'PAX - LINHA 1'!D46+'PAX - LINHA 2'!D46 -> 10104542 | E46: ='PAX - LINHA 4'!E46+'PAX - LINHA 1'!E46+'PAX - LINHA 2'!E46 -> 0 | F46: ='PAX - LINHA 4'!F46+'PAX - LINHA 1'!F46+'PAX - LINHA 2'!F46 -> 1809 | G46: ='PAX - LINHA 4'!G46+'PAX - LINHA 1'!G46+'PAX - LINHA 2'!G46 -> 2616628 | H46: ='PAX - LINHA 4'!H46+'PAX - LINHA 1'!H46+'PAX - LINHA 2'!H46 -> 53501 | I46: ='PAX - LINHA 4'!I46+'PAX - LINHA 1'!I46+'PAX - LINHA 2'!I46 -> 149637 | ... M46: ='PAX - LINHA 4'!M46+'PAX - LINHA 1'!M46+'PAX - LINHA 2'!M46 -> 67356
A47: Agosto | B47: ='PAX - LINHA 4'!B47+'PAX - LINHA 1'!B47+'PAX - LINHA 2'!B47 -> 16976722 | C47: ='PAX - LINHA 4'!C47+'PAX - LINHA 1'!C47+'PAX - LINHA 2'!C47 -> 797634 | D47: ='PAX - LINHA 4'!D47+'PAX - LINHA 1'!D47+'PAX - LINHA 2'!D47 -> 11314944 | E47: ='PAX - LINHA 4'!E47+'PAX - LINHA 1'!E47+'PAX - LINHA 2'!E47 -> 0 | F47: ='PAX - LINHA 4'!F47+'PAX - LINHA 1'!F47+'PAX - LINHA 2'!F47 -> 2317 | G47: ='PAX - LINHA 4'!G47+'PAX - LINHA 1'!G47+'PAX - LINHA 2'!G47 -> 2791966 | H47: ='PAX - LINHA 4'!H47+'PAX - LINHA 1'!H47+'PAX - LINHA 2'!H47 -> 135509 | I47: ='PAX - LINHA 4'!I47+'PAX - LINHA 1'!I47+'PAX - LINHA 2'!I47 -> 168086 | ... M47: ='PAX - LINHA 4'!M47+'PAX - LINHA 1'!M47+'PAX - LINHA 2'!M47 -> 75139
A48: Setembro | B48: ='PAX - LINHA 4'!B48+'PAX - LINHA 1'!B48+'PAX - LINHA 2'!B48 -> 15647858 | C48: ='PAX - LINHA 4'!C48+'PAX - LINHA 1'!C48+'PAX - LINHA 2'!C48 -> 683661 | D48: ='PAX - LINHA 4'!D48+'PAX - LINHA 1'!D48+'PAX - LINHA 2'!D48 -> 10376320 | E48: ='PAX - LINHA 4'!E48+'PAX - LINHA 1'!E48+'PAX - LINHA 2'!E48 -> 0 | F48: ='PAX - LINHA 4'!F48+'PAX - LINHA 1'!F48+'PAX - LINHA 2'!F48 -> 1802 | G48: ='PAX - LINHA 4'!G48+'PAX - LINHA 1'!G48+'PAX - LINHA 2'!G48 -> 2691960 | H48: ='PAX - LINHA 4'!H48+'PAX - LINHA 1'!H48+'PAX - LINHA 2'!H48 -> 122758 | I48: ='PAX - LINHA 4'!I48+'PAX - LINHA 1'!I48+'PAX - LINHA 2'!I48 -> 157570 | ... M48: ='PAX - LINHA 4'!M48+'PAX - LINHA 1'!M48+'PAX - LINHA 2'!M48 -> 70136
A49: Outubro | B49: ='PAX - LINHA 4'!B49+'PAX - LINHA 1'!B49+'PAX - LINHA 2'!B49 -> 15574620 | C49: ='PAX - LINHA 4'!C49+'PAX - LINHA 1'!C49+'PAX - LINHA 2'!C49 -> 672501 | D49: ='PAX - LINHA 4'!D49+'PAX - LINHA 1'!D49+'PAX - LINHA 2'!D49 -> 10439355 | E49: ='PAX - LINHA 4'!E49+'PAX - LINHA 1'!E49+'PAX - LINHA 2'!E49 -> 0 | F49: ='PAX - LINHA 4'!F49+'PAX - LINHA 1'!F49+'PAX - LINHA 2'!F49 -> 1278 | G49: ='PAX - LINHA 4'!G49+'PAX - LINHA 1'!G49+'PAX - LINHA 2'!G49 -> 2530099 | H49: ='PAX - LINHA 4'!H49+'PAX - LINHA 1'!H49+'PAX - LINHA 2'!H49 -> 117343 | I49: ='PAX - LINHA 4'!I49+'PAX - LINHA 1'!I49+'PAX - LINHA 2'!I49 -> 157912 | ... M49: ='PAX - LINHA 4'!M49+'PAX - LINHA 1'!M49+'PAX - LINHA 2'!M49 -> 71084
A50: Novembro | B50: ='PAX - LINHA 4'!B50+'PAX - LINHA 1'!B50+'PAX - LINHA 2'!B50 -> 15714890 | C50: ='PAX - LINHA 4'!C50+'PAX - LINHA 1'!C50+'PAX - LINHA 2'!C50 -> 650441 | D50: ='PAX - LINHA 4'!D50+'PAX - LINHA 1'!D50+'PAX - LINHA 2'!D50 -> 10203625 | E50: ='PAX - LINHA 4'!E50+'PAX - LINHA 1'!E50+'PAX - LINHA 2'!E50 -> 0 | F50: ='PAX - LINHA 4'!F50+'PAX - LINHA 1'!F50+'PAX - LINHA 2'!F50 -> 1318 | G50: ='PAX - LINHA 4'!G50+'PAX - LINHA 1'!G50+'PAX - LINHA 2'!G50 -> 2934297 | H50: ='PAX - LINHA 4'!H50+'PAX - LINHA 1'!H50+'PAX - LINHA 2'!H50 -> 108275 | I50: ='PAX - LINHA 4'!I50+'PAX - LINHA 1'!I50+'PAX - LINHA 2'!I50 -> 157455 | ... M50: ='PAX - LINHA 4'!M50+'PAX - LINHA 1'!M50+'PAX - LINHA 2'!M50 -> 71715
A51: Dezembro | B51: ='PAX - LINHA 4'!B51+'PAX - LINHA 1'!B51+'PAX - LINHA 2'!B51 -> 15099974 | C51: ='PAX - LINHA 4'!C51+'PAX - LINHA 1'!C51+'PAX - LINHA 2'!C51 -> 586358 | D51: ='PAX - LINHA 4'!D51+'PAX - LINHA 1'!D51+'PAX - LINHA 2'!D51 -> 9836412 | E51: ='PAX - LINHA 4'!E51+'PAX - LINHA 1'!E51+'PAX - LINHA 2'!E51 -> 0 | F51: ='PAX - LINHA 4'!F51+'PAX - LINHA 1'!F51+'PAX - LINHA 2'!F51 -> 1307 | G51: ='PAX - LINHA 4'!G51+'PAX - LINHA 1'!G51+'PAX - LINHA 2'!G51 -> 2820737 | H51: ='PAX - LINHA 4'!H51+'PAX - LINHA 1'!H51+'PAX - LINHA 2'!H51 -> 45962 | I51: ='PAX - LINHA 4'!I51+'PAX - LINHA 1'!I51+'PAX - LINHA 2'!I51 -> 149929 | ... M51: ='PAX - LINHA 4'!M51+'PAX - LINHA 1'!M51+'PAX - LINHA 2'!M51 -> 65316
A53: 2022 | B53: ='PAX - LINHA 4'!B53+'PAX - LINHA 1'!B53+'PAX - LINHA 2'!B53 -> 170108253 | C53: ='PAX - LINHA 4'!C53+'PAX - LINHA 1'!C53+'PAX - LINHA 2'!C53 -> 15834567 | D53: ='PAX - LINHA 4'!D53+'PAX - LINHA 1'!D53+'PAX - LINHA 2'!D53 -> 101938677 | E53: ='PAX - LINHA 4'!E53+'PAX - LINHA 1'!E53+'PAX - LINHA 2'!E53 -> 0 | F53: ='PAX - LINHA 4'!F53+'PAX - LINHA 1'!F53+'PAX - LINHA 2'!F53 -> 20821 | G53: ='PAX - LINHA 4'!G53+'PAX - LINHA 1'!G53+'PAX - LINHA 2'!G53 -> 33179612 | H53: ='PAX - LINHA 4'!H53+'PAX - LINHA 1'!H53+'PAX - LINHA 2'!H53 -> 1043998 | I53: ='PAX - LINHA 4'!I53+'PAX - LINHA 1'!I53+'PAX - LINHA 2'!I53 -> 1636146 | ... M53: ='PAX - LINHA 4'!M53+'PAX - LINHA 1'!M53+'PAX - LINHA 2'!M53 -> 613631
A54: Janeiro | B54: ='PAX - LINHA 4'!B54+'PAX - LINHA 1'!B54+'PAX - LINHA 2'!B54 -> 10797130 | C54: ='PAX - LINHA 4'!C54+'PAX - LINHA 1'!C54+'PAX - LINHA 2'!C54 -> 999280 | D54: ='PAX - LINHA 4'!D54+'PAX - LINHA 1'!D54+'PAX - LINHA 2'!D54 -> 6465296 | E54: ='PAX - LINHA 4'!E54+'PAX - LINHA 1'!E54+'PAX - LINHA 2'!E54 -> 0 | F54: ='PAX - LINHA 4'!F54+'PAX - LINHA 1'!F54+'PAX - LINHA 2'!F54 -> 173 | G54: ='PAX - LINHA 4'!G54+'PAX - LINHA 1'!G54+'PAX - LINHA 2'!G54 -> 2240070 | H54: ='PAX - LINHA 4'!H54+'PAX - LINHA 1'!H54+'PAX - LINHA 2'!H54 -> 72 | I54: ='PAX - LINHA 4'!I54+'PAX - LINHA 1'!I54+'PAX - LINHA 2'!I54 -> 95753 | ... M54: ='PAX - LINHA 4'!M54+'PAX - LINHA 1'!M54+'PAX - LINHA 2'!M54 -> 36304
A55: Fevereiro | B55: ='PAX - LINHA 4'!B55+'PAX - LINHA 1'!B55+'PAX - LINHA 2'!B55 -> 11657351 | C55: ='PAX - LINHA 4'!C55+'PAX - LINHA 1'!C55+'PAX - LINHA 2'!C55 -> 1189620 | D55: ='PAX - LINHA 4'!D55+'PAX - LINHA 1'!D55+'PAX - LINHA 2'!D55 -> 6950763 | E55: ='PAX - LINHA 4'!E55+'PAX - LINHA 1'!E55+'PAX - LINHA 2'!E55 -> 0 | F55: ='PAX - LINHA 4'!F55+'PAX - LINHA 1'!F55+'PAX - LINHA 2'!F55 -> 116 | G55: ='PAX - LINHA 4'!G55+'PAX - LINHA 1'!G55+'PAX - LINHA 2'!G55 -> 2253303 | H55: ='PAX - LINHA 4'!H55+'PAX - LINHA 1'!H55+'PAX - LINHA 2'!H55 -> 26775 | I55: ='PAX - LINHA 4'!I55+'PAX - LINHA 1'!I55+'PAX - LINHA 2'!I55 -> 108042 | ... M55: ='PAX - LINHA 4'!M55+'PAX - LINHA 1'!M55+'PAX - LINHA 2'!M55 -> 58028
A56: Março | B56: ='PAX - LINHA 4'!B56+'PAX - LINHA 1'!B56+'PAX - LINHA 2'!B56 -> 14335330 | C56: ='PAX - LINHA 4'!C56+'PAX - LINHA 1'!C56+'PAX - LINHA 2'!C56 -> 1493946 | D56: ='PAX - LINHA 4'!D56+'PAX - LINHA 1'!D56+'PAX - LINHA 2'!D56 -> 8442870 | E56: ='PAX - LINHA 4'!E56+'PAX - LINHA 1'!E56+'PAX - LINHA 2'!E56 -> 0 | F56: ='PAX - LINHA 4'!F56+'PAX - LINHA 1'!F56+'PAX - LINHA 2'!F56 -> 249 | G56: ='PAX - LINHA 4'!G56+'PAX - LINHA 1'!G56+'PAX - LINHA 2'!G56 -> 2849892 | H56: ='PAX - LINHA 4'!H56+'PAX - LINHA 1'!H56+'PAX - LINHA 2'!H56 -> 66266 | I56: ='PAX - LINHA 4'!I56+'PAX - LINHA 1'!I56+'PAX - LINHA 2'!I56 -> 135058 | ... M56: ='PAX - LINHA 4'!M56+'PAX - LINHA 1'!M56+'PAX - LINHA 2'!M56 -> 49654
A57: Abril | B57: ='PAX - LINHA 4'!B57+'PAX - LINHA 1'!B57+'PAX - LINHA 2'!B57 -> 13715521 | C57: ='PAX - LINHA 4'!C57+'PAX - LINHA 1'!C57+'PAX - LINHA 2'!C57 -> 1415516 | D57: ='PAX - LINHA 4'!D57+'PAX - LINHA 1'!D57+'PAX - LINHA 2'!D57 -> 8026653 | E57: ='PAX - LINHA 4'!E57+'PAX - LINHA 1'!E57+'PAX - LINHA 2'!E57 -> 0 | F57: ='PAX - LINHA 4'!F57+'PAX - LINHA 1'!F57+'PAX - LINHA 2'!F57 -> 381 | G57: ='PAX - LINHA 4'!G57+'PAX - LINHA 1'!G57+'PAX - LINHA 2'!G57 -> 2758602 | H57: ='PAX - LINHA 4'!H57+'PAX - LINHA 1'!H57+'PAX - LINHA 2'!H57 -> 66286 | I57: ='PAX - LINHA 4'!I57+'PAX - LINHA 1'!I57+'PAX - LINHA 2'!I57 -> 127432 | ... M57: ='PAX - LINHA 4'!M57+'PAX - LINHA 1'!M57+'PAX - LINHA 2'!M57 -> 51660
A58: Maio | B58: ='PAX - LINHA 4'!B58+'PAX - LINHA 1'!B58+'PAX - LINHA 2'!B58 -> 15147360 | C58: ='PAX - LINHA 4'!C58+'PAX - LINHA 1'!C58+'PAX - LINHA 2'!C58 -> 1542755 | D58: ='PAX - LINHA 4'!D58+'PAX - LINHA 1'!D58+'PAX - LINHA 2'!D58 -> 9027017 | E58: ='PAX - LINHA 4'!E58+'PAX - LINHA 1'!E58+'PAX - LINHA 2'!E58 -> 0 | F58: ='PAX - LINHA 4'!F58+'PAX - LINHA 1'!F58+'PAX - LINHA 2'!F58 -> 452 | G58: ='PAX - LINHA 4'!G58+'PAX - LINHA 1'!G58+'PAX - LINHA 2'!G58 -> 2823196 | H58: ='PAX - LINHA 4'!H58+'PAX - LINHA 1'!H58+'PAX - LINHA 2'!H58 -> 132956 | I58: ='PAX - LINHA 4'!I58+'PAX - LINHA 1'!I58+'PAX - LINHA 2'!I58 -> 147528 | ... M58: ='PAX - LINHA 4'!M58+'PAX - LINHA 1'!M58+'PAX - LINHA 2'!M58 -> 51794
A59: Junho | B59: ='PAX - LINHA 4'!B59+'PAX - LINHA 1'!B59+'PAX - LINHA 2'!B59 -> 14035691 | C59: ='PAX - LINHA 4'!C59+'PAX - LINHA 1'!C59+'PAX - LINHA 2'!C59 -> 1352981 | D59: ='PAX - LINHA 4'!D59+'PAX - LINHA 1'!D59+'PAX - LINHA 2'!D59 -> 8469605 | E59: ='PAX - LINHA 4'!E59+'PAX - LINHA 1'!E59+'PAX - LINHA 2'!E59 -> 0 | F59: ='PAX - LINHA 4'!F59+'PAX - LINHA 1'!F59+'PAX - LINHA 2'!F59 -> 994 | G59: ='PAX - LINHA 4'!G59+'PAX - LINHA 1'!G59+'PAX - LINHA 2'!G59 -> 2559053 | H59: ='PAX - LINHA 4'!H59+'PAX - LINHA 1'!H59+'PAX - LINHA 2'!H59 -> 127490 | I59: ='PAX - LINHA 4'!I59+'PAX - LINHA 1'!I59+'PAX - LINHA 2'!I59 -> 138151 | ... M59: ='PAX - LINHA 4'!M59+'PAX - LINHA 1'!M59+'PAX - LINHA 2'!M59 -> 67674
A60: Julho | B60: ='PAX - LINHA 4'!B60+'PAX - LINHA 1'!B60+'PAX - LINHA 2'!B60 -> 14621293 | C60: ='PAX - LINHA 4'!C60+'PAX - LINHA 1'!C60+'PAX - LINHA 2'!C60 -> 1340407 | D60: ='PAX - LINHA 4'!D60+'PAX - LINHA 1'!D60+'PAX - LINHA 2'!D60 -> 8815100 | E60: ='PAX - LINHA 4'!E60+'PAX - LINHA 1'!E60+'PAX - LINHA 2'!E60 -> 0 | F60: ='PAX - LINHA 4'!F60+'PAX - LINHA 1'!F60+'PAX - LINHA 2'!F60 -> 2112 | G60: ='PAX - LINHA 4'!G60+'PAX - LINHA 1'!G60+'PAX - LINHA 2'!G60 -> 2821829 | H60: ='PAX - LINHA 4'!H60+'PAX - LINHA 1'!H60+'PAX - LINHA 2'!H60 -> 81770 | I60: ='PAX - LINHA 4'!I60+'PAX - LINHA 1'!I60+'PAX - LINHA 2'!I60 -> 143144 | ... M60: ='PAX - LINHA 4'!M60+'PAX - LINHA 1'!M60+'PAX - LINHA 2'!M60 -> 43290
A61: Agosto | B61: ='PAX - LINHA 4'!B61+'PAX - LINHA 1'!B61+'PAX - LINHA 2'!B61 -> 15727145 | C61: ='PAX - LINHA 4'!C61+'PAX - LINHA 1'!C61+'PAX - LINHA 2'!C61 -> 1466904 | D61: ='PAX - LINHA 4'!D61+'PAX - LINHA 1'!D61+'PAX - LINHA 2'!D61 -> 9615770 | E61: ='PAX - LINHA 4'!E61+'PAX - LINHA 1'!E61+'PAX - LINHA 2'!E61 -> 0 | F61: ='PAX - LINHA 4'!F61+'PAX - LINHA 1'!F61+'PAX - LINHA 2'!F61 -> 2874 | G61: ='PAX - LINHA 4'!G61+'PAX - LINHA 1'!G61+'PAX - LINHA 2'!G61 -> 2850119 | H61: ='PAX - LINHA 4'!H61+'PAX - LINHA 1'!H61+'PAX - LINHA 2'!H61 -> 128435 | I61: ='PAX - LINHA 4'!I61+'PAX - LINHA 1'!I61+'PAX - LINHA 2'!I61 -> 155953 | ... M61: ='PAX - LINHA 4'!M61+'PAX - LINHA 1'!M61+'PAX - LINHA 2'!M61 -> 43786
A62: Setembro | B62: ='PAX - LINHA 4'!B62+'PAX - LINHA 1'!B62+'PAX - LINHA 2'!B62 -> 15437883 | C62: ='PAX - LINHA 4'!C62+'PAX - LINHA 1'!C62+'PAX - LINHA 2'!C62 -> 1391010 | D62: ='PAX - LINHA 4'!D62+'PAX - LINHA 1'!D62+'PAX - LINHA 2'!D62 -> 9230149 | E62: ='PAX - LINHA 4'!E62+'PAX - LINHA 1'!E62+'PAX - LINHA 2'!E62 -> 0 | F62: ='PAX - LINHA 4'!F62+'PAX - LINHA 1'!F62+'PAX - LINHA 2'!F62 -> 3196 | G62: ='PAX - LINHA 4'!G62+'PAX - LINHA 1'!G62+'PAX - LINHA 2'!G62 -> 3096193 | H62: ='PAX - LINHA 4'!H62+'PAX - LINHA 1'!H62+'PAX - LINHA 2'!H62 -> 124169 | I62: ='PAX - LINHA 4'!I62+'PAX - LINHA 1'!I62+'PAX - LINHA 2'!I62 -> 149330 | ... M62: ='PAX - LINHA 4'!M62+'PAX - LINHA 1'!M62+'PAX - LINHA 2'!M62 -> 48971
A63: Outubro | B63: ='PAX - LINHA 4'!B63+'PAX - LINHA 1'!B63+'PAX - LINHA 2'!B63 -> 14990544 | C63: ='PAX - LINHA 4'!C63+'PAX - LINHA 1'!C63+'PAX - LINHA 2'!C63 -> 1306405 | D63: ='PAX - LINHA 4'!D63+'PAX - LINHA 1'!D63+'PAX - LINHA 2'!D63 -> 9021748 | E63: ='PAX - LINHA 4'!E63+'PAX - LINHA 1'!E63+'PAX - LINHA 2'!E63 -> 0 | F63: ='PAX - LINHA 4'!F63+'PAX - LINHA 1'!F63+'PAX - LINHA 2'!F63 -> 3694 | G63: ='PAX - LINHA 4'!G63+'PAX - LINHA 1'!G63+'PAX - LINHA 2'!G63 -> 2900896 | H63: ='PAX - LINHA 4'!H63+'PAX - LINHA 1'!H63+'PAX - LINHA 2'!H63 -> 118404 | I63: ='PAX - LINHA 4'!I63+'PAX - LINHA 1'!I63+'PAX - LINHA 2'!I63 -> 152157 | ... M63: ='PAX - LINHA 4'!M63+'PAX - LINHA 1'!M63+'PAX - LINHA 2'!M63 -> 53335
A64: Novembro | B64: ='PAX - LINHA 4'!B64+'PAX - LINHA 1'!B64+'PAX - LINHA 2'!B64 -> 14687091 | C64: ='PAX - LINHA 4'!C64+'PAX - LINHA 1'!C64+'PAX - LINHA 2'!C64 -> 1211480 | D64: ='PAX - LINHA 4'!D64+'PAX - LINHA 1'!D64+'PAX - LINHA 2'!D64 -> 8862879 | E64: ='PAX - LINHA 4'!E64+'PAX - LINHA 1'!E64+'PAX - LINHA 2'!E64 -> 0 | F64: ='PAX - LINHA 4'!F64+'PAX - LINHA 1'!F64+'PAX - LINHA 2'!F64 -> 3293 | G64: ='PAX - LINHA 4'!G64+'PAX - LINHA 1'!G64+'PAX - LINHA 2'!G64 -> 2883234 | H64: ='PAX - LINHA 4'!H64+'PAX - LINHA 1'!H64+'PAX - LINHA 2'!H64 -> 110152 | I64: ='PAX - LINHA 4'!I64+'PAX - LINHA 1'!I64+'PAX - LINHA 2'!I64 -> 142761 | ... M64: ='PAX - LINHA 4'!M64+'PAX - LINHA 1'!M64+'PAX - LINHA 2'!M64 -> 53267
A65: Dezembro | B65: ='PAX - LINHA 4'!B65+'PAX - LINHA 1'!B65+'PAX - LINHA 2'!B65 -> 14955914 | C65: ='PAX - LINHA 4'!C65+'PAX - LINHA 1'!C65+'PAX - LINHA 2'!C65 -> 1124263 | D65: ='PAX - LINHA 4'!D65+'PAX - LINHA 1'!D65+'PAX - LINHA 2'!D65 -> 9010827 | E65: ='PAX - LINHA 4'!E65+'PAX - LINHA 1'!E65+'PAX - LINHA 2'!E65 -> 0 | F65: ='PAX - LINHA 4'!F65+'PAX - LINHA 1'!F65+'PAX - LINHA 2'!F65 -> 3287 | G65: ='PAX - LINHA 4'!G65+'PAX - LINHA 1'!G65+'PAX - LINHA 2'!G65 -> 3143225 | H65: ='PAX - LINHA 4'!H65+'PAX - LINHA 1'!H65+'PAX - LINHA 2'!H65 -> 61223 | I65: ='PAX - LINHA 4'!I65+'PAX - LINHA 1'!I65+'PAX - LINHA 2'!I65 -> 140837 | ... M65: ='PAX - LINHA 4'!M65+'PAX - LINHA 1'!M65+'PAX - LINHA 2'!M65 -> 55868
A67: 2021 | B67: ='PAX - LINHA 4'!B67+'PAX - LINHA 1'!B67+'PAX - LINHA 2'!B67 -> 121213068 | C67: ='PAX - LINHA 4'!C67+'PAX - LINHA 1'!C67+'PAX - LINHA 2'!C67 -> 12632367 | D67: ='PAX - LINHA 4'!D67+'PAX - LINHA 1'!D67+'PAX - LINHA 2'!D67 -> 74423488 | E67: ='PAX - LINHA 4'!E67+'PAX - LINHA 1'!E67+'PAX - LINHA 2'!E67 -> 0 | F67: ='PAX - LINHA 4'!F67+'PAX - LINHA 1'!F67+'PAX - LINHA 2'!F67 -> 4852 | G67: ='PAX - LINHA 4'!G67+'PAX - LINHA 1'!G67+'PAX - LINHA 2'!G67 -> 21549046 | H67: ='PAX - LINHA 4'!H67+'PAX - LINHA 1'!H67+'PAX - LINHA 2'!H67 -> 100258 | I67: ='PAX - LINHA 4'!I67+'PAX - LINHA 1'!I67+'PAX - LINHA 2'!I67 -> 1106579 | ... M67: ='PAX - LINHA 4'!M67+'PAX - LINHA 1'!M67+'PAX - LINHA 2'!M67 -> 429455
A68: Janeiro | B68: ='PAX - LINHA 4'!B68+'PAX - LINHA 1'!B68+'PAX - LINHA 2'!B68 -> 9280439 | C68: ='PAX - LINHA 4'!C68+'PAX - LINHA 1'!C68+'PAX - LINHA 2'!C68 -> 873302 | D68: ='PAX - LINHA 4'!D68+'PAX - LINHA 1'!D68+'PAX - LINHA 2'!D68 -> 5570128 | E68: ='PAX - LINHA 4'!E68+'PAX - LINHA 1'!E68+'PAX - LINHA 2'!E68 -> 0 | F68: ='PAX - LINHA 4'!F68+'PAX - LINHA 1'!F68+'PAX - LINHA 2'!F68 -> 547 | G68: ='PAX - LINHA 4'!G68+'PAX - LINHA 1'!G68+'PAX - LINHA 2'!G68 -> 1995946 | H68: ='PAX - LINHA 4'!H68+'PAX - LINHA 1'!H68+'PAX - LINHA 2'!H68 -> 0 | I68: ='PAX - LINHA 4'!I68+'PAX - LINHA 1'!I68+'PAX - LINHA 2'!I68 -> 82119 | ... M68: ='PAX - LINHA 4'!M68+'PAX - LINHA 1'!M68+'PAX - LINHA 2'!M68 -> 27435
A69: Fevereiro | B69: ='PAX - LINHA 4'!B69+'PAX - LINHA 1'!B69+'PAX - LINHA 2'!B69 -> 8850274 | C69: ='PAX - LINHA 4'!C69+'PAX - LINHA 1'!C69+'PAX - LINHA 2'!C69 -> 963126 | D69: ='PAX - LINHA 4'!D69+'PAX - LINHA 1'!D69+'PAX - LINHA 2'!D69 -> 5346779 | E69: ='PAX - LINHA 4'!E69+'PAX - LINHA 1'!E69+'PAX - LINHA 2'!E69 -> 0 | F69: ='PAX - LINHA 4'!F69+'PAX - LINHA 1'!F69+'PAX - LINHA 2'!F69 -> 593 | G69: ='PAX - LINHA 4'!G69+'PAX - LINHA 1'!G69+'PAX - LINHA 2'!G69 -> 1677553 | H69: ='PAX - LINHA 4'!H69+'PAX - LINHA 1'!H69+'PAX - LINHA 2'!H69 -> 371 | I69: ='PAX - LINHA 4'!I69+'PAX - LINHA 1'!I69+'PAX - LINHA 2'!I69 -> 81546 | ... M69: ='PAX - LINHA 4'!M69+'PAX - LINHA 1'!M69+'PAX - LINHA 2'!M69 -> 26233
A70: Março | B70: ='PAX - LINHA 4'!B70+'PAX - LINHA 1'!B70+'PAX - LINHA 2'!B70 -> 9556989 | C70: ='PAX - LINHA 4'!C70+'PAX - LINHA 1'!C70+'PAX - LINHA 2'!C70 -> 1028624 | D70: ='PAX - LINHA 4'!D70+'PAX - LINHA 1'!D70+'PAX - LINHA 2'!D70 -> 5903139 | E70: ='PAX - LINHA 4'!E70+'PAX - LINHA 1'!E70+'PAX - LINHA 2'!E70 -> 0 | F70: ='PAX - LINHA 4'!F70+'PAX - LINHA 1'!F70+'PAX - LINHA 2'!F70 -> 397 | G70: ='PAX - LINHA 4'!G70+'PAX - LINHA 1'!G70+'PAX - LINHA 2'!G70 -> 1662877 | H70: ='PAX - LINHA 4'!H70+'PAX - LINHA 1'!H70+'PAX - LINHA 2'!H70 -> 759 | I70: ='PAX - LINHA 4'!I70+'PAX - LINHA 1'!I70+'PAX - LINHA 2'!I70 -> 89160 | ... M70: ='PAX - LINHA 4'!M70+'PAX - LINHA 1'!M70+'PAX - LINHA 2'!M70 -> 36202
A71: Abril | B71: ='PAX - LINHA 4'!B71+'PAX - LINHA 1'!B71+'PAX - LINHA 2'!B71 -> 8281593 | C71: ='PAX - LINHA 4'!C71+'PAX - LINHA 1'!C71+'PAX - LINHA 2'!C71 -> 850554 | D71: ='PAX - LINHA 4'!D71+'PAX - LINHA 1'!D71+'PAX - LINHA 2'!D71 -> 5174352 | E71: ='PAX - LINHA 4'!E71+'PAX - LINHA 1'!E71+'PAX - LINHA 2'!E71 -> 0 | F71: ='PAX - LINHA 4'!F71+'PAX - LINHA 1'!F71+'PAX - LINHA 2'!F71 -> 314 | G71: ='PAX - LINHA 4'!G71+'PAX - LINHA 1'!G71+'PAX - LINHA 2'!G71 -> 1400226 | H71: ='PAX - LINHA 4'!H71+'PAX - LINHA 1'!H71+'PAX - LINHA 2'!H71 -> 600 | I71: ='PAX - LINHA 4'!I71+'PAX - LINHA 1'!I71+'PAX - LINHA 2'!I71 -> 78370 | ... M71: ='PAX - LINHA 4'!M71+'PAX - LINHA 1'!M71+'PAX - LINHA 2'!M71 -> 25188
A72: Maio | B72: ='PAX - LINHA 4'!B72+'PAX - LINHA 1'!B72+'PAX - LINHA 2'!B72 -> 8925985 | C72: ='PAX - LINHA 4'!C72+'PAX - LINHA 1'!C72+'PAX - LINHA 2'!C72 -> 979512 | D72: ='PAX - LINHA 4'!D72+'PAX - LINHA 1'!D72+'PAX - LINHA 2'!D72 -> 5866534 | E72: ='PAX - LINHA 4'!E72+'PAX - LINHA 1'!E72+'PAX - LINHA 2'!E72 -> 0 | F72: ='PAX - LINHA 4'!F72+'PAX - LINHA 1'!F72+'PAX - LINHA 2'!F72 -> 312 | G72: ='PAX - LINHA 4'!G72+'PAX - LINHA 1'!G72+'PAX - LINHA 2'!G72 -> 1205316 | H72: ='PAX - LINHA 4'!H72+'PAX - LINHA 1'!H72+'PAX - LINHA 2'!H72 -> 1138 | I72: ='PAX - LINHA 4'!I72+'PAX - LINHA 1'!I72+'PAX - LINHA 2'!I72 -> 90026 | ... M72: ='PAX - LINHA 4'!M72+'PAX - LINHA 1'!M72+'PAX - LINHA 2'!M72 -> 31545
A73: Junho | B73: ='PAX - LINHA 4'!B73+'PAX - LINHA 1'!B73+'PAX - LINHA 2'!B73 -> 9561741 | C73: ='PAX - LINHA 4'!C73+'PAX - LINHA 1'!C73+'PAX - LINHA 2'!C73 -> 1007881 | D73: ='PAX - LINHA 4'!D73+'PAX - LINHA 1'!D73+'PAX - LINHA 2'!D73 -> 5949178 | E73: ='PAX - LINHA 4'!E73+'PAX - LINHA 1'!E73+'PAX - LINHA 2'!E73 -> 0 | F73: ='PAX - LINHA 4'!F73+'PAX - LINHA 1'!F73+'PAX - LINHA 2'!F73 -> 238 | G73: ='PAX - LINHA 4'!G73+'PAX - LINHA 1'!G73+'PAX - LINHA 2'!G73 -> 1563677 | H73: ='PAX - LINHA 4'!H73+'PAX - LINHA 1'!H73+'PAX - LINHA 2'!H73 -> 1954 | I73: ='PAX - LINHA 4'!I73+'PAX - LINHA 1'!I73+'PAX - LINHA 2'!I73 -> 89674 | ... M73: ='PAX - LINHA 4'!M73+'PAX - LINHA 1'!M73+'PAX - LINHA 2'!M73 -> 30899
A74: Julho | B74: ='PAX - LINHA 4'!B74+'PAX - LINHA 1'!B74+'PAX - LINHA 2'!B74 -> 10153441 | C74: ='PAX - LINHA 4'!C74+'PAX - LINHA 1'!C74+'PAX - LINHA 2'!C74 -> 1060697 | D74: ='PAX - LINHA 4'!D74+'PAX - LINHA 1'!D74+'PAX - LINHA 2'!D74 -> 6292663 | E74: ='PAX - LINHA 4'!E74+'PAX - LINHA 1'!E74+'PAX - LINHA 2'!E74 -> 0 | F74: ='PAX - LINHA 4'!F74+'PAX - LINHA 1'!F74+'PAX - LINHA 2'!F74 -> 258 | G74: ='PAX - LINHA 4'!G74+'PAX - LINHA 1'!G74+'PAX - LINHA 2'!G74 -> 1705593 | H74: ='PAX - LINHA 4'!H74+'PAX - LINHA 1'!H74+'PAX - LINHA 2'!H74 -> 1397 | I74: ='PAX - LINHA 4'!I74+'PAX - LINHA 1'!I74+'PAX - LINHA 2'!I74 -> 81528 | ... M74: ='PAX - LINHA 4'!M74+'PAX - LINHA 1'!M74+'PAX - LINHA 2'!M74 -> 34916
A75: Agosto | B75: ='PAX - LINHA 4'!B75+'PAX - LINHA 1'!B75+'PAX - LINHA 2'!B75 -> 10603162 | C75: ='PAX - LINHA 4'!C75+'PAX - LINHA 1'!C75+'PAX - LINHA 2'!C75 -> 1105376 | D75: ='PAX - LINHA 4'!D75+'PAX - LINHA 1'!D75+'PAX - LINHA 2'!D75 -> 6561612 | E75: ='PAX - LINHA 4'!E75+'PAX - LINHA 1'!E75+'PAX - LINHA 2'!E75 -> 0 | F75: ='PAX - LINHA 4'!F75+'PAX - LINHA 1'!F75+'PAX - LINHA 2'!F75 -> 379 | G75: ='PAX - LINHA 4'!G75+'PAX - LINHA 1'!G75+'PAX - LINHA 2'!G75 -> 1819004 | H75: ='PAX - LINHA 4'!H75+'PAX - LINHA 1'!H75+'PAX - LINHA 2'!H75 -> 5363 | I75: ='PAX - LINHA 4'!I75+'PAX - LINHA 1'!I75+'PAX - LINHA 2'!I75 -> 101047 | ... M75: ='PAX - LINHA 4'!M75+'PAX - LINHA 1'!M75+'PAX - LINHA 2'!M75 -> 41781
A76: Setembro | B76: ='PAX - LINHA 4'!B76+'PAX - LINHA 1'!B76+'PAX - LINHA 2'!B76 -> 10679443 | C76: ='PAX - LINHA 4'!C76+'PAX - LINHA 1'!C76+'PAX - LINHA 2'!C76 -> 1110880 | D76: ='PAX - LINHA 4'!D76+'PAX - LINHA 1'!D76+'PAX - LINHA 2'!D76 -> 6537380 | E76: ='PAX - LINHA 4'!E76+'PAX - LINHA 1'!E76+'PAX - LINHA 2'!E76 -> 0 | F76: ='PAX - LINHA 4'!F76+'PAX - LINHA 1'!F76+'PAX - LINHA 2'!F76 -> 426 | G76: ='PAX - LINHA 4'!G76+'PAX - LINHA 1'!G76+'PAX - LINHA 2'!G76 -> 1878734 | H76: ='PAX - LINHA 4'!H76+'PAX - LINHA 1'!H76+'PAX - LINHA 2'!H76 -> 8937 | I76: ='PAX - LINHA 4'!I76+'PAX - LINHA 1'!I76+'PAX - LINHA 2'!I76 -> 100515 | ... M76: ='PAX - LINHA 4'!M76+'PAX - LINHA 1'!M76+'PAX - LINHA 2'!M76 -> 40709
A77: Outubro | B77: ='PAX - LINHA 4'!B77+'PAX - LINHA 1'!B77+'PAX - LINHA 2'!B77 -> 10844681 | C77: ='PAX - LINHA 4'!C77+'PAX - LINHA 1'!C77+'PAX - LINHA 2'!C77 -> 1129844 | D77: ='PAX - LINHA 4'!D77+'PAX - LINHA 1'!D77+'PAX - LINHA 2'!D77 -> 6626712 | E77: ='PAX - LINHA 4'!E77+'PAX - LINHA 1'!E77+'PAX - LINHA 2'!E77 -> 0 | F77: ='PAX - LINHA 4'!F77+'PAX - LINHA 1'!F77+'PAX - LINHA 2'!F77 -> 410 | G77: ='PAX - LINHA 4'!G77+'PAX - LINHA 1'!G77+'PAX - LINHA 2'!G77 -> 1911419 | H77: ='PAX - LINHA 4'!H77+'PAX - LINHA 1'!H77+'PAX - LINHA 2'!H77 -> 17305 | I77: ='PAX - LINHA 4'!I77+'PAX - LINHA 1'!I77+'PAX - LINHA 2'!I77 -> 98767 | ... M77: ='PAX - LINHA 4'!M77+'PAX - LINHA 1'!M77+'PAX - LINHA 2'!M77 -> 37734
A78: Novembro | B78: ='PAX - LINHA 4'!B78+'PAX - LINHA 1'!B78+'PAX - LINHA 2'!B78 -> 11831445 | C78: ='PAX - LINHA 4'!C78+'PAX - LINHA 1'!C78+'PAX - LINHA 2'!C78 -> 1245160 | D78: ='PAX - LINHA 4'!D78+'PAX - LINHA 1'!D78+'PAX - LINHA 2'!D78 -> 7072050 | E78: ='PAX - LINHA 4'!E78+'PAX - LINHA 1'!E78+'PAX - LINHA 2'!E78 -> 0 | F78: ='PAX - LINHA 4'!F78+'PAX - LINHA 1'!F78+'PAX - LINHA 2'!F78 -> 438 | G78: ='PAX - LINHA 4'!G78+'PAX - LINHA 1'!G78+'PAX - LINHA 2'!G78 -> 2206897 | H78: ='PAX - LINHA 4'!H78+'PAX - LINHA 1'!H78+'PAX - LINHA 2'!H78 -> 44248 | I78: ='PAX - LINHA 4'!I78+'PAX - LINHA 1'!I78+'PAX - LINHA 2'!I78 -> 106402 | ... M78: ='PAX - LINHA 4'!M78+'PAX - LINHA 1'!M78+'PAX - LINHA 2'!M78 -> 48718
A79: Dezembro | B79: ='PAX - LINHA 4'!B79+'PAX - LINHA 1'!B79+'PAX - LINHA 2'!B79 -> 12643875 | C79: ='PAX - LINHA 4'!C79+'PAX - LINHA 1'!C79+'PAX - LINHA 2'!C79 -> 1277411 | D79: ='PAX - LINHA 4'!D79+'PAX - LINHA 1'!D79+'PAX - LINHA 2'!D79 -> 7522961 | E79: ='PAX - LINHA 4'!E79+'PAX - LINHA 1'!E79+'PAX - LINHA 2'!E79 -> 0 | F79: ='PAX - LINHA 4'!F79+'PAX - LINHA 1'!F79+'PAX - LINHA 2'!F79 -> 540 | G79: ='PAX - LINHA 4'!G79+'PAX - LINHA 1'!G79+'PAX - LINHA 2'!G79 -> 2521804 | H79: ='PAX - LINHA 4'!H79+'PAX - LINHA 1'!H79+'PAX - LINHA 2'!H79 -> 18186 | I79: ='PAX - LINHA 4'!I79+'PAX - LINHA 1'!I79+'PAX - LINHA 2'!I79 -> 107425 | ... M79: ='PAX - LINHA 4'!M79+'PAX - LINHA 1'!M79+'PAX - LINHA 2'!M79 -> 48095
A81: 2020 | B81: ='PAX - LINHA 4'!B81+'PAX - LINHA 1'!B81+'PAX - LINHA 2'!B81 -> 117553331 | C81: ='PAX - LINHA 4'!C81+'PAX - LINHA 1'!C81+'PAX - LINHA 2'!C81 -> 15168189 | D81: ='PAX - LINHA 4'!D81+'PAX - LINHA 1'!D81+'PAX - LINHA 2'!D81 -> 70541180 | E81: ='PAX - LINHA 4'!E81+'PAX - LINHA 1'!E81+'PAX - LINHA 2'!E81 -> 0 | F81: ='PAX - LINHA 4'!F81+'PAX - LINHA 1'!F81+'PAX - LINHA 2'!F81 -> 7136 | G81: ='PAX - LINHA 4'!G81+'PAX - LINHA 1'!G81+'PAX - LINHA 2'!G81 -> 20159243 | H81: ='PAX - LINHA 4'!H81+'PAX - LINHA 1'!H81+'PAX - LINHA 2'!H81 -> 75312 | I81: ='PAX - LINHA 4'!I81+'PAX - LINHA 1'!I81+'PAX - LINHA 2'!I81 -> 1098103 | ... M81: ='PAX - LINHA 4'!M81+'PAX - LINHA 1'!M81+'PAX - LINHA 2'!M81 -> 471738
A82: Janeiro | B82: ='PAX - LINHA 4'!B82+'PAX - LINHA 1'!B82+'PAX - LINHA 2'!B82 -> 19950344 | C82: ='PAX - LINHA 4'!C82+'PAX - LINHA 1'!C82+'PAX - LINHA 2'!C82 -> 3153522 | D82: ='PAX - LINHA 4'!D82+'PAX - LINHA 1'!D82+'PAX - LINHA 2'!D82 -> 11309962 | E82: ='PAX - LINHA 4'!E82+'PAX - LINHA 1'!E82+'PAX - LINHA 2'!E82 -> 0 | F82: ='PAX - LINHA 4'!F82+'PAX - LINHA 1'!F82+'PAX - LINHA 2'!F82 -> 1827 | G82: ='PAX - LINHA 4'!G82+'PAX - LINHA 1'!G82+'PAX - LINHA 2'!G82 -> 3361388 | H82: ='PAX - LINHA 4'!H82+'PAX - LINHA 1'!H82+'PAX - LINHA 2'!H82 -> 2341 | I82: ='PAX - LINHA 4'!I82+'PAX - LINHA 1'!I82+'PAX - LINHA 2'!I82 -> 176112 | ... M82: ='PAX - LINHA 4'!M82+'PAX - LINHA 1'!M82+'PAX - LINHA 2'!M82 -> 94801
A83: Fevereiro | B83: ='PAX - LINHA 4'!B83+'PAX - LINHA 1'!B83+'PAX - LINHA 2'!B83 -> 20239233 | C83: ='PAX - LINHA 4'!C83+'PAX - LINHA 1'!C83+'PAX - LINHA 2'!C83 -> 3184660 | D83: ='PAX - LINHA 4'!D83+'PAX - LINHA 1'!D83+'PAX - LINHA 2'!D83 -> 11396312 | E83: ='PAX - LINHA 4'!E83+'PAX - LINHA 1'!E83+'PAX - LINHA 2'!E83 -> 0 | F83: ='PAX - LINHA 4'!F83+'PAX - LINHA 1'!F83+'PAX - LINHA 2'!F83 -> 2017 | G83: ='PAX - LINHA 4'!G83+'PAX - LINHA 1'!G83+'PAX - LINHA 2'!G83 -> 3680382 | H83: ='PAX - LINHA 4'!H83+'PAX - LINHA 1'!H83+'PAX - LINHA 2'!H83 -> 23781 | I83: ='PAX - LINHA 4'!I83+'PAX - LINHA 1'!I83+'PAX - LINHA 2'!I83 -> 168973 | ... M83: ='PAX - LINHA 4'!M83+'PAX - LINHA 1'!M83+'PAX - LINHA 2'!M83 -> 98643
A84: Março | B84: ='PAX - LINHA 4'!B84+'PAX - LINHA 1'!B84+'PAX - LINHA 2'!B84 -> 13259064 | C84: ='PAX - LINHA 4'!C84+'PAX - LINHA 1'!C84+'PAX - LINHA 2'!C84 -> 1968946 | D84: ='PAX - LINHA 4'!D84+'PAX - LINHA 1'!D84+'PAX - LINHA 2'!D84 -> 8052258 | E84: ='PAX - LINHA 4'!E84+'PAX - LINHA 1'!E84+'PAX - LINHA 2'!E84 -> 0 | F84: ='PAX - LINHA 4'!F84+'PAX - LINHA 1'!F84+'PAX - LINHA 2'!F84 -> 983 | G84: ='PAX - LINHA 4'!G84+'PAX - LINHA 1'!G84+'PAX - LINHA 2'!G84 -> 1857215 | H84: ='PAX - LINHA 4'!H84+'PAX - LINHA 1'!H84+'PAX - LINHA 2'!H84 -> 47914 | I84: ='PAX - LINHA 4'!I84+'PAX - LINHA 1'!I84+'PAX - LINHA 2'!I84 -> 124033 | ... M84: ='PAX - LINHA 4'!M84+'PAX - LINHA 1'!M84+'PAX - LINHA 2'!M84 -> 64829
A85: Abril | B85: ='PAX - LINHA 4'!B85+'PAX - LINHA 1'!B85+'PAX - LINHA 2'!B85 -> 3502573 | C85: ='PAX - LINHA 4'!C85+'PAX - LINHA 1'!C85+'PAX - LINHA 2'!C85 -> 300240 | D85: ='PAX - LINHA 4'!D85+'PAX - LINHA 1'!D85+'PAX - LINHA 2'!D85 -> 2464323 | E85: ='PAX - LINHA 4'!E85+'PAX - LINHA 1'!E85+'PAX - LINHA 2'!E85 -> 0 | F85: ='PAX - LINHA 4'!F85+'PAX - LINHA 1'!F85+'PAX - LINHA 2'!F85 -> 104 | G85: ='PAX - LINHA 4'!G85+'PAX - LINHA 1'!G85+'PAX - LINHA 2'!G85 -> 458651 | H85: ='PAX - LINHA 4'!H85+'PAX - LINHA 1'!H85+'PAX - LINHA 2'!H85 -> 0 | I85: ='PAX - LINHA 4'!I85+'PAX - LINHA 1'!I85+'PAX - LINHA 2'!I85 -> 34595 | ... M85: ='PAX - LINHA 4'!M85+'PAX - LINHA 1'!M85+'PAX - LINHA 2'!M85 -> 15926
A86: Maio | B86: ='PAX - LINHA 4'!B86+'PAX - LINHA 1'!B86+'PAX - LINHA 2'!B86 -> 3345899 | C86: ='PAX - LINHA 4'!C86+'PAX - LINHA 1'!C86+'PAX - LINHA 2'!C86 -> 332618 | D86: ='PAX - LINHA 4'!D86+'PAX - LINHA 1'!D86+'PAX - LINHA 2'!D86 -> 2154370 | E86: ='PAX - LINHA 4'!E86+'PAX - LINHA 1'!E86+'PAX - LINHA 2'!E86 -> 0 | F86: ='PAX - LINHA 4'!F86+'PAX - LINHA 1'!F86+'PAX - LINHA 2'!F86 -> 101 | G86: ='PAX - LINHA 4'!G86+'PAX - LINHA 1'!G86+'PAX - LINHA 2'!G86 -> 521507 | H86: ='PAX - LINHA 4'!H86+'PAX - LINHA 1'!H86+'PAX - LINHA 2'!H86 -> 0 | I86: ='PAX - LINHA 4'!I86+'PAX - LINHA 1'!I86+'PAX - LINHA 2'!I86 -> 37054 | ... M86: ='PAX - LINHA 4'!M86+'PAX - LINHA 1'!M86+'PAX - LINHA 2'!M86 -> 23494
A87: Junho | B87: ='PAX - LINHA 4'!B87+'PAX - LINHA 1'!B87+'PAX - LINHA 2'!B87 -> 5119543 | C87: ='PAX - LINHA 4'!C87+'PAX - LINHA 1'!C87+'PAX - LINHA 2'!C87 -> 507991 | D87: ='PAX - LINHA 4'!D87+'PAX - LINHA 1'!D87+'PAX - LINHA 2'!D87 -> 3354529 | E87: ='PAX - LINHA 4'!E87+'PAX - LINHA 1'!E87+'PAX - LINHA 2'!E87 -> 0 | F87: ='PAX - LINHA 4'!F87+'PAX - LINHA 1'!F87+'PAX - LINHA 2'!F87 -> 241 | G87: ='PAX - LINHA 4'!G87+'PAX - LINHA 1'!G87+'PAX - LINHA 2'!G87 -> 773343 | H87: ='PAX - LINHA 4'!H87+'PAX - LINHA 1'!H87+'PAX - LINHA 2'!H87 -> 36 | I87: ='PAX - LINHA 4'!I87+'PAX - LINHA 1'!I87+'PAX - LINHA 2'!I87 -> 53486 | ... M87: ='PAX - LINHA 4'!M87+'PAX - LINHA 1'!M87+'PAX - LINHA 2'!M87 -> 23239
A88: Julho | B88: ='PAX - LINHA 4'!B88+'PAX - LINHA 1'!B88+'PAX - LINHA 2'!B88 -> 7236503 | C88: ='PAX - LINHA 4'!C88+'PAX - LINHA 1'!C88+'PAX - LINHA 2'!C88 -> 687121 | D88: ='PAX - LINHA 4'!D88+'PAX - LINHA 1'!D88+'PAX - LINHA 2'!D88 -> 4598383 | E88: ='PAX - LINHA 4'!E88+'PAX - LINHA 1'!E88+'PAX - LINHA 2'!E88 -> 0 | F88: ='PAX - LINHA 4'!F88+'PAX - LINHA 1'!F88+'PAX - LINHA 2'!F88 -> 242 | G88: ='PAX - LINHA 4'!G88+'PAX - LINHA 1'!G88+'PAX - LINHA 2'!G88 -> 1231005 | H88: ='PAX - LINHA 4'!H88+'PAX - LINHA 1'!H88+'PAX - LINHA 2'!H88 -> 130 | I88: ='PAX - LINHA 4'!I88+'PAX - LINHA 1'!I88+'PAX - LINHA 2'!I88 -> 73958 | ... M88: ='PAX - LINHA 4'!M88+'PAX - LINHA 1'!M88+'PAX - LINHA 2'!M88 -> 23526
A89: Agosto | B89: ='PAX - LINHA 4'!B89+'PAX - LINHA 1'!B89+'PAX - LINHA 2'!B89 -> 8167541 | C89: ='PAX - LINHA 4'!C89+'PAX - LINHA 1'!C89+'PAX - LINHA 2'!C89 -> 894522 | D89: ='PAX - LINHA 4'!D89+'PAX - LINHA 1'!D89+'PAX - LINHA 2'!D89 -> 4997944 | E89: ='PAX - LINHA 4'!E89+'PAX - LINHA 1'!E89+'PAX - LINHA 2'!E89 -> 0 | F89: ='PAX - LINHA 4'!F89+'PAX - LINHA 1'!F89+'PAX - LINHA 2'!F89 -> 101 | G89: ='PAX - LINHA 4'!G89+'PAX - LINHA 1'!G89+'PAX - LINHA 2'!G89 -> 1461868 | H89: ='PAX - LINHA 4'!H89+'PAX - LINHA 1'!H89+'PAX - LINHA 2'!H89 -> 118 | I89: ='PAX - LINHA 4'!I89+'PAX - LINHA 1'!I89+'PAX - LINHA 2'!I89 -> 82194 | ... M89: ='PAX - LINHA 4'!M89+'PAX - LINHA 1'!M89+'PAX - LINHA 2'!M89 -> 16645
A90: Setembro | B90: ='PAX - LINHA 4'!B90+'PAX - LINHA 1'!B90+'PAX - LINHA 2'!B90 -> 8551706 | C90: ='PAX - LINHA 4'!C90+'PAX - LINHA 1'!C90+'PAX - LINHA 2'!C90 -> 991479 | D90: ='PAX - LINHA 4'!D90+'PAX - LINHA 1'!D90+'PAX - LINHA 2'!D90 -> 5319865 | E90: ='PAX - LINHA 4'!E90+'PAX - LINHA 1'!E90+'PAX - LINHA 2'!E90 -> 0 | F90: ='PAX - LINHA 4'!F90+'PAX - LINHA 1'!F90+'PAX - LINHA 2'!F90 -> 144 | G90: ='PAX - LINHA 4'!G90+'PAX - LINHA 1'!G90+'PAX - LINHA 2'!G90 -> 1357658 | H90: ='PAX - LINHA 4'!H90+'PAX - LINHA 1'!H90+'PAX - LINHA 2'!H90 -> 59 | I90: ='PAX - LINHA 4'!I90+'PAX - LINHA 1'!I90+'PAX - LINHA 2'!I90 -> 87135 | ... M90: ='PAX - LINHA 4'!M90+'PAX - LINHA 1'!M90+'PAX - LINHA 2'!M90 -> 26464
A91: Outubro | B91: ='PAX - LINHA 4'!B91+'PAX - LINHA 1'!B91+'PAX - LINHA 2'!B91 -> 9375094 | C91: ='PAX - LINHA 4'!C91+'PAX - LINHA 1'!C91+'PAX - LINHA 2'!C91 -> 1089576 | D91: ='PAX - LINHA 4'!D91+'PAX - LINHA 1'!D91+'PAX - LINHA 2'!D91 -> 5675928 | E91: ='PAX - LINHA 4'!E91+'PAX - LINHA 1'!E91+'PAX - LINHA 2'!E91 -> 0 | F91: ='PAX - LINHA 4'!F91+'PAX - LINHA 1'!F91+'PAX - LINHA 2'!F91 -> 343 | G91: ='PAX - LINHA 4'!G91+'PAX - LINHA 1'!G91+'PAX - LINHA 2'!G91 -> 1764018 | H91: ='PAX - LINHA 4'!H91+'PAX - LINHA 1'!H91+'PAX - LINHA 2'!H91 -> 147 | I91: ='PAX - LINHA 4'!I91+'PAX - LINHA 1'!I91+'PAX - LINHA 2'!I91 -> 89381 | ... M91: ='PAX - LINHA 4'!M91+'PAX - LINHA 1'!M91+'PAX - LINHA 2'!M91 -> 27522
A92: Novembro | B92: ='PAX - LINHA 4'!B92+'PAX - LINHA 1'!B92+'PAX - LINHA 2'!B92 -> 9339958 | C92: ='PAX - LINHA 4'!C92+'PAX - LINHA 1'!C92+'PAX - LINHA 2'!C92 -> 1052857 | D92: ='PAX - LINHA 4'!D92+'PAX - LINHA 1'!D92+'PAX - LINHA 2'!D92 -> 5544268 | E92: ='PAX - LINHA 4'!E92+'PAX - LINHA 1'!E92+'PAX - LINHA 2'!E92 -> 0 | F92: ='PAX - LINHA 4'!F92+'PAX - LINHA 1'!F92+'PAX - LINHA 2'!F92 -> 483 | G92: ='PAX - LINHA 4'!G92+'PAX - LINHA 1'!G92+'PAX - LINHA 2'!G92 -> 1798900 | H92: ='PAX - LINHA 4'!H92+'PAX - LINHA 1'!H92+'PAX - LINHA 2'!H92 -> 550 | I92: ='PAX - LINHA 4'!I92+'PAX - LINHA 1'!I92+'PAX - LINHA 2'!I92 -> 86397 | ... M92: ='PAX - LINHA 4'!M92+'PAX - LINHA 1'!M92+'PAX - LINHA 2'!M92 -> 28259
A93: Dezembro | B93: ='PAX - LINHA 4'!B93+'PAX - LINHA 1'!B93+'PAX - LINHA 2'!B93 -> 9465873 | C93: ='PAX - LINHA 4'!C93+'PAX - LINHA 1'!C93+'PAX - LINHA 2'!C93 -> 1004657 | D93: ='PAX - LINHA 4'!D93+'PAX - LINHA 1'!D93+'PAX - LINHA 2'!D93 -> 5673038 | E93: ='PAX - LINHA 4'!E93+'PAX - LINHA 1'!E93+'PAX - LINHA 2'!E93 -> 0 | F93: ='PAX - LINHA 4'!F93+'PAX - LINHA 1'!F93+'PAX - LINHA 2'!F93 -> 550 | G93: ='PAX - LINHA 4'!G93+'PAX - LINHA 1'!G93+'PAX - LINHA 2'!G93 -> 1893308 | H93: ='PAX - LINHA 4'!H93+'PAX - LINHA 1'!H93+'PAX - LINHA 2'!H93 -> 236 | I93: ='PAX - LINHA 4'!I93+'PAX - LINHA 1'!I93+'PAX - LINHA 2'!I93 -> 84785 | ... M93: ='PAX - LINHA 4'!M93+'PAX - LINHA 1'!M93+'PAX - LINHA 2'!M93 -> 28390
A95: 2019 | B95: ='PAX - LINHA 4'!B95+'PAX - LINHA 1'!B95+'PAX - LINHA 2'!B95 -> 249521211 | C95: ='PAX - LINHA 4'!C95+'PAX - LINHA 1'!C95+'PAX - LINHA 2'!C95 -> 44537435 | D95: ='PAX - LINHA 4'!D95+'PAX - LINHA 1'!D95+'PAX - LINHA 2'!D95 -> 140114411 | E95: ='PAX - LINHA 4'!E95+'PAX - LINHA 1'!E95+'PAX - LINHA 2'!E95 -> 0 | F95: ='PAX - LINHA 4'!F95+'PAX - LINHA 1'!F95+'PAX - LINHA 2'!F95 -> 19916 | G95: ='PAX - LINHA 4'!G95+'PAX - LINHA 1'!G95+'PAX - LINHA 2'!G95 -> 37421431 | H95: ='PAX - LINHA 4'!H95+'PAX - LINHA 1'!H95+'PAX - LINHA 2'!H95 -> 1218924 | I95: ='PAX - LINHA 4'!I95+'PAX - LINHA 1'!I95+'PAX - LINHA 2'!I95 -> 2331873 | ... M95: ='PAX - LINHA 4'!M95+'PAX - LINHA 1'!M95+'PAX - LINHA 2'!M95 -> 1533388
A96: Janeiro | B96: ='PAX - LINHA 4'!B96+'PAX - LINHA 1'!B96+'PAX - LINHA 2'!B96 -> 20091616 | C96: ='PAX - LINHA 4'!C96+'PAX - LINHA 1'!C96+'PAX - LINHA 2'!C96 -> 3569265 | D96: ='PAX - LINHA 4'!D96+'PAX - LINHA 1'!D96+'PAX - LINHA 2'!D96 -> 10864686 | E96: ='PAX - LINHA 4'!E96+'PAX - LINHA 1'!E96+'PAX - LINHA 2'!E96 -> 0 | F96: ='PAX - LINHA 4'!F96+'PAX - LINHA 1'!F96+'PAX - LINHA 2'!F96 -> 1893 | G96: ='PAX - LINHA 4'!G96+'PAX - LINHA 1'!G96+'PAX - LINHA 2'!G96 -> 3536967 | H96: ='PAX - LINHA 4'!H96+'PAX - LINHA 1'!H96+'PAX - LINHA 2'!H96 -> 303 | I96: ='PAX - LINHA 4'!I96+'PAX - LINHA 1'!I96+'PAX - LINHA 2'!I96 -> 189912 | ... M96: ='PAX - LINHA 4'!M96+'PAX - LINHA 1'!M96+'PAX - LINHA 2'!M96 -> 107083
A97: Fevereiro | B97: ='PAX - LINHA 4'!B97+'PAX - LINHA 1'!B97+'PAX - LINHA 2'!B97 -> 19807291 | C97: ='PAX - LINHA 4'!C97+'PAX - LINHA 1'!C97+'PAX - LINHA 2'!C97 -> 3706624 | D97: ='PAX - LINHA 4'!D97+'PAX - LINHA 1'!D97+'PAX - LINHA 2'!D97 -> 10833240 | E97: ='PAX - LINHA 4'!E97+'PAX - LINHA 1'!E97+'PAX - LINHA 2'!E97 -> 0 | F97: ='PAX - LINHA 4'!F97+'PAX - LINHA 1'!F97+'PAX - LINHA 2'!F97 -> 1923 | G97: ='PAX - LINHA 4'!G97+'PAX - LINHA 1'!G97+'PAX - LINHA 2'!G97 -> 3079087 | H97: ='PAX - LINHA 4'!H97+'PAX - LINHA 1'!H97+'PAX - LINHA 2'!H97 -> 77945 | I97: ='PAX - LINHA 4'!I97+'PAX - LINHA 1'!I97+'PAX - LINHA 2'!I97 -> 191529 | ... M97: ='PAX - LINHA 4'!M97+'PAX - LINHA 1'!M97+'PAX - LINHA 2'!M97 -> 128201
A98: Março | B98: ='PAX - LINHA 4'!B98+'PAX - LINHA 1'!B98+'PAX - LINHA 2'!B98 -> 21046912 | C98: ='PAX - LINHA 4'!C98+'PAX - LINHA 1'!C98+'PAX - LINHA 2'!C98 -> 3749919 | D98: ='PAX - LINHA 4'!D98+'PAX - LINHA 1'!D98+'PAX - LINHA 2'!D98 -> 11335750 | E98: ='PAX - LINHA 4'!E98+'PAX - LINHA 1'!E98+'PAX - LINHA 2'!E98 -> 0 | F98: ='PAX - LINHA 4'!F98+'PAX - LINHA 1'!F98+'PAX - LINHA 2'!F98 -> 2357 | G98: ='PAX - LINHA 4'!G98+'PAX - LINHA 1'!G98+'PAX - LINHA 2'!G98 -> 3760847 | H98: ='PAX - LINHA 4'!H98+'PAX - LINHA 1'!H98+'PAX - LINHA 2'!H98 -> 94042 | I98: ='PAX - LINHA 4'!I98+'PAX - LINHA 1'!I98+'PAX - LINHA 2'!I98 -> 196061 | ... M98: ='PAX - LINHA 4'!M98+'PAX - LINHA 1'!M98+'PAX - LINHA 2'!M98 -> 145025
A99: Abril | B99: ='PAX - LINHA 4'!B99+'PAX - LINHA 1'!B99+'PAX - LINHA 2'!B99 -> 20114340 | C99: ='PAX - LINHA 4'!C99+'PAX - LINHA 1'!C99+'PAX - LINHA 2'!C99 -> 3730957 | D99: ='PAX - LINHA 4'!D99+'PAX - LINHA 1'!D99+'PAX - LINHA 2'!D99 -> 11098123 | E99: ='PAX - LINHA 4'!E99+'PAX - LINHA 1'!E99+'PAX - LINHA 2'!E99 -> 0 | F99: ='PAX - LINHA 4'!F99+'PAX - LINHA 1'!F99+'PAX - LINHA 2'!F99 -> 1741 | G99: ='PAX - LINHA 4'!G99+'PAX - LINHA 1'!G99+'PAX - LINHA 2'!G99 -> 2961211 | H99: ='PAX - LINHA 4'!H99+'PAX - LINHA 1'!H99+'PAX - LINHA 2'!H99 -> 118879 | I99: ='PAX - LINHA 4'!I99+'PAX - LINHA 1'!I99+'PAX - LINHA 2'!I99 -> 197353 | ... M99: ='PAX - LINHA 4'!M99+'PAX - LINHA 1'!M99+'PAX - LINHA 2'!M99 -> 135408
A100: Maio | B100: ='PAX - LINHA 4'!B100+'PAX - LINHA 1'!B100+'PAX - LINHA 2'!B100 -> 21306295 | C100: ='PAX - LINHA 4'!C100+'PAX - LINHA 1'!C100+'PAX - LINHA 2'!C100 -> 4196596 | D100: ='PAX - LINHA 4'!D100+'PAX - LINHA 1'!D100+'PAX - LINHA 2'!D100 -> 12116930 | E100: ='PAX - LINHA 4'!E100+'PAX - LINHA 1'!E100+'PAX - LINHA 2'!E100 -> 0 | F100: ='PAX - LINHA 4'!F100+'PAX - LINHA 1'!F100+'PAX - LINHA 2'!F100 -> 1593 | G100: ='PAX - LINHA 4'!G100+'PAX - LINHA 1'!G100+'PAX - LINHA 2'!G100 -> 2446878 | H100: ='PAX - LINHA 4'!H100+'PAX - LINHA 1'!H100+'PAX - LINHA 2'!H100 -> 137847 | I100: ='PAX - LINHA 4'!I100+'PAX - LINHA 1'!I100+'PAX - LINHA 2'!I100 -> 218354 | ... M100: ='PAX - LINHA 4'!M100+'PAX - LINHA 1'!M100+'PAX - LINHA 2'!M100 -> 150224
A101: Junho | B101: ='PAX - LINHA 4'!B101+'PAX - LINHA 1'!B101+'PAX - LINHA 2'!B101 -> 19929191 | C101: ='PAX - LINHA 4'!C101+'PAX - LINHA 1'!C101+'PAX - LINHA 2'!C101 -> 3756035 | D101: ='PAX - LINHA 4'!D101+'PAX - LINHA 1'!D101+'PAX - LINHA 2'!D101 -> 10818740 | E101: ='PAX - LINHA 4'!E101+'PAX - LINHA 1'!E101+'PAX - LINHA 2'!E101 -> 0 | F101: ='PAX - LINHA 4'!F101+'PAX - LINHA 1'!F101+'PAX - LINHA 2'!F101 -> 1571 | G101: ='PAX - LINHA 4'!G101+'PAX - LINHA 1'!G101+'PAX - LINHA 2'!G101 -> 3071642 | H101: ='PAX - LINHA 4'!H101+'PAX - LINHA 1'!H101+'PAX - LINHA 2'!H101 -> 127708 | I101: ='PAX - LINHA 4'!I101+'PAX - LINHA 1'!I101+'PAX - LINHA 2'!I101 -> 165210 | ... M101: ='PAX - LINHA 4'!M101+'PAX - LINHA 1'!M101+'PAX - LINHA 2'!M101 -> 128733
A102: Julho | B102: ='PAX - LINHA 4'!B102+'PAX - LINHA 1'!B102+'PAX - LINHA 2'!B102 -> 20955748 | C102: ='PAX - LINHA 4'!C102+'PAX - LINHA 1'!C102+'PAX - LINHA 2'!C102 -> 3940249 | D102: ='PAX - LINHA 4'!D102+'PAX - LINHA 1'!D102+'PAX - LINHA 2'!D102 -> 12146383 | E102: ='PAX - LINHA 4'!E102+'PAX - LINHA 1'!E102+'PAX - LINHA 2'!E102 -> 0 | F102: ='PAX - LINHA 4'!F102+'PAX - LINHA 1'!F102+'PAX - LINHA 2'!F102 -> 1254 | G102: ='PAX - LINHA 4'!G102+'PAX - LINHA 1'!G102+'PAX - LINHA 2'!G102 -> 2427098 | H102: ='PAX - LINHA 4'!H102+'PAX - LINHA 1'!H102+'PAX - LINHA 2'!H102 -> 68418 | I102: ='PAX - LINHA 4'!I102+'PAX - LINHA 1'!I102+'PAX - LINHA 2'!I102 -> 176165 | ... M102: ='PAX - LINHA 4'!M102+'PAX - LINHA 1'!M102+'PAX - LINHA 2'!M102 -> 137986
A103: Agosto | B103: ='PAX - LINHA 4'!B103+'PAX - LINHA 1'!B103+'PAX - LINHA 2'!B103 -> 21636221 | C103: ='PAX - LINHA 4'!C103+'PAX - LINHA 1'!C103+'PAX - LINHA 2'!C103 -> 3951728 | D103: ='PAX - LINHA 4'!D103+'PAX - LINHA 1'!D103+'PAX - LINHA 2'!D103 -> 12342655 | E103: ='PAX - LINHA 4'!E103+'PAX - LINHA 1'!E103+'PAX - LINHA 2'!E103 -> 0 | F103: ='PAX - LINHA 4'!F103+'PAX - LINHA 1'!F103+'PAX - LINHA 2'!F103 -> 1425 | G103: ='PAX - LINHA 4'!G103+'PAX - LINHA 1'!G103+'PAX - LINHA 2'!G103 -> 3202335 | H103: ='PAX - LINHA 4'!H103+'PAX - LINHA 1'!H103+'PAX - LINHA 2'!H103 -> 131330 | I103: ='PAX - LINHA 4'!I103+'PAX - LINHA 1'!I103+'PAX - LINHA 2'!I103 -> 207544 | ... M103: ='PAX - LINHA 4'!M103+'PAX - LINHA 1'!M103+'PAX - LINHA 2'!M103 -> 135507
A104: Setembro | B104: ='PAX - LINHA 4'!B104+'PAX - LINHA 1'!B104+'PAX - LINHA 2'!B104 -> 20987470 | C104: ='PAX - LINHA 4'!C104+'PAX - LINHA 1'!C104+'PAX - LINHA 2'!C104 -> 3692857 | D104: ='PAX - LINHA 4'!D104+'PAX - LINHA 1'!D104+'PAX - LINHA 2'!D104 -> 12028818 | E104: ='PAX - LINHA 4'!E104+'PAX - LINHA 1'!E104+'PAX - LINHA 2'!E104 -> 0 | F104: ='PAX - LINHA 4'!F104+'PAX - LINHA 1'!F104+'PAX - LINHA 2'!F104 -> 1645 | G104: ='PAX - LINHA 4'!G104+'PAX - LINHA 1'!G104+'PAX - LINHA 2'!G104 -> 3201498 | H104: ='PAX - LINHA 4'!H104+'PAX - LINHA 1'!H104+'PAX - LINHA 2'!H104 -> 149638 | I104: ='PAX - LINHA 4'!I104+'PAX - LINHA 1'!I104+'PAX - LINHA 2'!I104 -> 202475 | ... M104: ='PAX - LINHA 4'!M104+'PAX - LINHA 1'!M104+'PAX - LINHA 2'!M104 -> 130374
A105: Outubro | B105: ='PAX - LINHA 4'!B105+'PAX - LINHA 1'!B105+'PAX - LINHA 2'!B105 -> 23125437 | C105: ='PAX - LINHA 4'!C105+'PAX - LINHA 1'!C105+'PAX - LINHA 2'!C105 -> 3907511 | D105: ='PAX - LINHA 4'!D105+'PAX - LINHA 1'!D105+'PAX - LINHA 2'!D105 -> 13193588 | E105: ='PAX - LINHA 4'!E105+'PAX - LINHA 1'!E105+'PAX - LINHA 2'!E105 -> 0 | F105: ='PAX - LINHA 4'!F105+'PAX - LINHA 1'!F105+'PAX - LINHA 2'!F105 -> 1787 | G105: ='PAX - LINHA 4'!G105+'PAX - LINHA 1'!G105+'PAX - LINHA 2'!G105 -> 3423260 | H105: ='PAX - LINHA 4'!H105+'PAX - LINHA 1'!H105+'PAX - LINHA 2'!H105 -> 135203 | I105: ='PAX - LINHA 4'!I105+'PAX - LINHA 1'!I105+'PAX - LINHA 2'!I105 -> 216499 | ... M105: ='PAX - LINHA 4'!M105+'PAX - LINHA 1'!M105+'PAX - LINHA 2'!M105 -> 145198
A106: Novembro | B106: ='PAX - LINHA 4'!B106+'PAX - LINHA 1'!B106+'PAX - LINHA 2'!B106 -> 20056171 | C106: ='PAX - LINHA 4'!C106+'PAX - LINHA 1'!C106+'PAX - LINHA 2'!C106 -> 3014973 | D106: ='PAX - LINHA 4'!D106+'PAX - LINHA 1'!D106+'PAX - LINHA 2'!D106 -> 11781145 | E106: ='PAX - LINHA 4'!E106+'PAX - LINHA 1'!E106+'PAX - LINHA 2'!E106 -> 0 | F106: ='PAX - LINHA 4'!F106+'PAX - LINHA 1'!F106+'PAX - LINHA 2'!F106 -> 1475 | G106: ='PAX - LINHA 4'!G106+'PAX - LINHA 1'!G106+'PAX - LINHA 2'!G106 -> 2931645 | H106: ='PAX - LINHA 4'!H106+'PAX - LINHA 1'!H106+'PAX - LINHA 2'!H106 -> 131911 | I106: ='PAX - LINHA 4'!I106+'PAX - LINHA 1'!I106+'PAX - LINHA 2'!I106 -> 191397 | ... M106: ='PAX - LINHA 4'!M106+'PAX - LINHA 1'!M106+'PAX - LINHA 2'!M106 -> 94389
A107: Dezembro | B107: ='PAX - LINHA 4'!B107+'PAX - LINHA 1'!B107+'PAX - LINHA 2'!B107 -> 20464519 | C107: ='PAX - LINHA 4'!C107+'PAX - LINHA 1'!C107+'PAX - LINHA 2'!C107 -> 3320721 | D107: ='PAX - LINHA 4'!D107+'PAX - LINHA 1'!D107+'PAX - LINHA 2'!D107 -> 11554353 | E107: ='PAX - LINHA 4'!E107+'PAX - LINHA 1'!E107+'PAX - LINHA 2'!E107 -> 0 | F107: ='PAX - LINHA 4'!F107+'PAX - LINHA 1'!F107+'PAX - LINHA 2'!F107 -> 1252 | G107: ='PAX - LINHA 4'!G107+'PAX - LINHA 1'!G107+'PAX - LINHA 2'!G107 -> 3378963 | H107: ='PAX - LINHA 4'!H107+'PAX - LINHA 1'!H107+'PAX - LINHA 2'!H107 -> 45700 | I107: ='PAX - LINHA 4'!I107+'PAX - LINHA 1'!I107+'PAX - LINHA 2'!I107 -> 179374 | ... M107: ='PAX - LINHA 4'!M107+'PAX - LINHA 1'!M107+'PAX - LINHA 2'!M107 -> 95260
A109: 2018 | B109: ='PAX - LINHA 4'!B109+'PAX - LINHA 1'!B109+'PAX - LINHA 2'!B109 -> 251438569 | C109: ='PAX - LINHA 4'!C109+'PAX - LINHA 1'!C109+'PAX - LINHA 2'!C109 -> 46964394 | D109: ='PAX - LINHA 4'!D109+'PAX - LINHA 1'!D109+'PAX - LINHA 2'!D109 -> 136040693 | E109: ='PAX - LINHA 4'!E109+'PAX - LINHA 1'!E109+'PAX - LINHA 2'!E109 -> 0 | F109: ='PAX - LINHA 4'!F109+'PAX - LINHA 1'!F109+'PAX - LINHA 2'!F109 -> 29779 | G109: ='PAX - LINHA 4'!G109+'PAX - LINHA 1'!G109+'PAX - LINHA 2'!G109 -> 40120430 | H109: ='PAX - LINHA 4'!H109+'PAX - LINHA 1'!H109+'PAX - LINHA 2'!H109 -> 1261332 | I109: ='PAX - LINHA 4'!I109+'PAX - LINHA 1'!I109+'PAX - LINHA 2'!I109 -> 2423726 | ... M109: ='PAX - LINHA 4'!M109+'PAX - LINHA 1'!M109+'PAX - LINHA 2'!M109 -> 1010277
...

Sheet PAX - LINHA 1
A1: Tabela 1: Total de passageiros mensal por forma de acesso e linha metroviária - 2013 - 2026
A2: Concessionária MetrôRio - Linha 1
A4: Ano Mês | B4: Total Geral | C4: Pré-Pago | D4: Fetranspor | E4: Jaé | F4: Metrô Na Superfície | G4: Unitário | H4: Estudantes | I4: Pessoas com Necessidades Especiais e Doentes Crônicos | J4: Maior de 65 anos | K4: Funcionário | L4: Força de Segurança | M4: Outros
B5: Linha 1 | C5: Linha 1 | D5: Linha 1 | E5: Linha 1 | F5: Linha 1 | G5: Linha 1 | H5: Linha 1 | I5: Linha 1 | J5: Linha 1 | K5: Linha 1 | L5: Linha 1 | M5: Linha 1
A6: 2026 | B6: =SUM(B7:B9) -> 28174270 | C6: =SUM(C7:C9) -> 589012 | D6: =SUM(D7:D9) -> 13208618 | E6: =SUM(E7:E9) -> 4995542 | F6: =SUM(F7:F9) -> 0 | G6: =SUM(G7:G9) -> 5529037 | H6: =SUM(H7:H9) -> 27999 | I6: =SUM(I7:I9) -> 310643 | ... M6: =SUM(M7:M9) -> 69017
A7: Janeiro | B7: =C7+D7+E7+F7+G7+H7+I7+J7+K7+L7+M7 -> 8716123 | C7: 179137 | D7: 4204969 | E7: 1475255 | F7: 0 | G7: 1637946 | H7: 95 | I7: 96996 | J7: 992919 | K7: 70393 | L7: 36317 | M7: 22096 | N7: 8716123
A8: Fevereiro | B8: =C8+D8+E8+F8+G8+H8+I8+J8+K8+L8+M8 -> 9540529 | C8: 194513 | D8: 4229024 | E8: 1753944 | F8: 0 | G8: 2191636 | H8: 7173 | I8: 94856 | J8: 929975 | K8: 75648 | L8: 38944 | M8: 24816 | N8: 9540529
A9: Março | B9: =C9+D9+E9+F9+G9+H9+I9+J9+K9+L9+M9 -> 9917618 | C9: 215362 | D9: 4774625 | E9: 1766343 | F9: 0 | G9: 1699455 | H9: 20731 | I9: 118791 | J9: 1185735 | K9: 69251 | L9: 45220 | M9: 22105 | N9: 9917618
A11: 2025 | B11: =SUM(B12:B23) -> 103065746 | C11: =SUM(C12:C23) -> 2866999 | D11: =SUM(D12:D23) -> 60718759 | E11: =SUM(E12:E23) -> 6280964 | F11: =SUM(F12:F23) -> 0 | G11: =SUM(G12:G23) -> 18136873 | H11: =SUM(H12:H23) -> 256943 | I11: =SUM(I12:I23) -> 1124945 | ... M11: =SUM(M12:M23) -> 228056
A12: Janeiro | B12: =C12+D12+E12+F12+G12+H12+I12+J12+K12+L12+M12 -> 7305715 | C12: 244102 | D12: 4632090 | E12: 0 | F12: 0 | G12: 1380647 | H12: 653 | I12: 81736 | J12: 851787 | K12: 65238 | L12: 33298 | M12: 16164
A13: Fevereiro | B13: =C13+D13+E13+F13+G13+H13+I13+J13+K13+L13+M13 -> 7529362 | C13: 273821 | D13: 4794613 | E13: 0 | F13: 0 | G13: 1395345 | H13: 14540 | I13: 72166 | J13: 865416 | K13: 62038 | L13: 36897 | M13: 14526
A14: Março | B14: =C14+D14+E14+F14+G14+H14+I14+J14+K14+L14+M14 -> 8169922 | C14: 276441 | D14: 5006276 | E14: 0 | F14: 0 | G14: 1807451 | H14: 16746 | I14: 73593 | J14: 865579 | K14: 69651 | L14: 37333 | M14: 16852
A15: Abril | B15: =C15+D15+E15+F15+G15+H15+I15+J15+K15+L15+M15 -> 6957942 | C15: 237375 | D15: 4518600 | E15: 0 | F15: 0 | G15: 1156517 | H15: 12712 | I15: 70805 | J15: 852585 | K15: 58271 | L15: 36629 | M15: 14448
A16: Maio | B16: =C16+D16+E16+F16+G16+H16+I16+J16+K16+L16+M16 -> 9251059 | C16: 264577 | D16: 5932152 | E16: 0 | F16: 0 | G16: 1698164 | H16: 27687 | I16: 98461 | J16: 1091620 | K16: 74892 | L16: 40890 | M16: 22616
A17: Junho | B17: =C17+D17+E17+F17+G17+H17+I17+J17+K17+L17+M17 -> 8336421 | C17: 232364 | D17: 5410731 | E17: 0 | F17: 0 | G17: 1416656 | H17: 29614 | I17: 92932 | J17: 1019802 | K17: 71972 | L17: 40102 | M17: 22248
A18: Julho | B18: =C18+D18+E18+F18+G18+H18+I18+J18+K18+L18+M18 -> 8968952 | C18: 242184 | D18: 5830687 | E18: 0 | F18: 0 | G18: 1520911 | H18: 18164 | I18: 100546 | J18: 1114819 | K18: 77162 | L18: 44385 | M18: 20094
A19: Agosto | B19: =C19+D19+E19+F19+G19+H19+I19+J19+K19+L19+M19 -> 9287846 | C19: 243056 | D19: 5372494 | E19: 775838 | F19: 0 | G19: 1526895 | H19: 31025 | I19: 105720 | J19: 1097833 | K19: 74547 | L19: 40378 | M19: 20060
A20: Setembro | B20: =C20+D20+E20+F20+G20+H20+I20+J20+K20+L20+M20 -> 9584194 | C20: 237666 | D20: 5180717 | E20: 1206479 | F20: 0 | G20: 1557159 | H20: 32870 | I20: 109380 | J20: 1121195 | K20: 72415 | L20: 44024 | M20: 22289
A21: Outubro | B21: =C21+D21+E21+F21+G21+H21+I21+J21+K21+L21+M21 -> 9716662 | C21: 227919 | D21: 5072731 | E21: 1445024 | F21: 0 | G21: 1556108 | H21: 31020 | I21: 111211 | J21: 1134601 | K21: 76042 | L21: 43139 | M21: 18867
A22: Novembro | B22: =C22+D22+E22+F22+G22+H22+I22+J22+K22+L22+M22 -> 8796614 | C22: 197743 | D22: 4451656 | E22: 1390321 | F22: 0 | G22: 1448467 | H22: 28272 | I22: 104397 | J22: 1050076 | K22: 69165 | L22: 38304 | M22: 18213
A23: Dezembro | B23: =C23+D23+E23+F23+G23+H23+I23+J23+K23+L23+M23 -> 9161057 | C23: 189751 | D23: 4516012 | E23: 1463302 | F23: 0 | G23: 1672553 | H23: 13640 | I23: 103998 | J23: 1072137 | K23: 69567 | L23: 38418 | M23: 21679
A25: 2024 | B25: =SUM(B26:B37) -> 89742296 | C25: =SUM(C26:C37) -> 4022076 | D25: =SUM(D26:D37) -> 56832571 | E25: =SUM(E26:E37) -> 0 | F25: =SUM(F26:F37) -> 8187 | G25: =SUM(G26:G37) -> 15741213 | H25: =SUM(H26:H37) -> 198366 | I25: =SUM(I26:I37) -> 978879 | ... M25: =SUM(M26:M37) -> 364819
A26: Janeiro | B26: =C26+D26+E26+F26+G26+H26+I26+J26+K26+L26+M26 -> 7235430 | C26: 387223 | D26: 4471625 | E26: 0 | F26: 1176 | G26: 1367651 | H26: 14 | I26: 69430 | J26: 802900 | K26: 72898 | L26: 27788 | M26: 34725
A27: Fevereiro | B27: =C27+D27+E27+F27+G27+H27+I27+J27+K27+L27+M27 -> 7676956 | C27: 427791 | D27: 4486306 | E27: 0 | F27: 1505 | G27: 1777684 | H27: 9091 | I27: 71042 | J27: 759362 | K27: 75989 | L27: 30053 | M27: 38133
A28: Março | B28: =C28+D28+E28+F28+G28+H28+I28+J28+K28+L28+M28 -> 7395935 | C28: 397867 | D28: 4632711 | E28: 0 | F28: 1082 | G28: 1292968 | H28: 15069 | I28: 79716 | J28: 835834 | K28: 72421 | L28: 30593 | M28: 37674
A29: Abril | B29: =C29+D29+E29+F29+G29+H29+I29+J29+K29+L29+M29 -> 7640794 | C29: 388735 | D29: 4821524 | E29: 0 | F29: 1520 | G29: 1266844 | H29: 15417 | I29: 83476 | J29: 909020 | K29: 69215 | L29: 33162 | M29: 51881
A30: Maio | B30: =C30+D30+E30+F30+G30+H30+I30+J30+K30+L30+M30 -> 7794832 | C30: 370967 | D30: 4955687 | E30: 0 | F30: 1082 | G30: 1324005 | H30: 17429 | I30: 83267 | J30: 891530 | K30: 71575 | L30: 35300 | M30: 43990
A31: Junho | B31: =C31+D31+E31+F31+G31+H31+I31+J31+K31+L31+M31 -> 7390770 | C31: 333476 | D31: 4739399 | E31: 0 | F31: 977 | G31: 1199627 | H31: 17722 | I31: 81903 | J31: 871756 | K31: 66069 | L31: 35998 | M31: 43843
A32: Julho | B32: =C32+D32+E32+F32+G32+H32+I32+J32+K32+L32+M32 -> 7636088 | C32: 327140 | D32: 4933379 | E32: 0 | F32: 845 | G32: 1219050 | H32: 11362 | I32: 84833 | J32: 916400 | K32: 70309 | L32: 35449 | M32: 37321
A33: Agosto | B33: =C33+D33+E33+F33+G33+H33+I33+J33+K33+L33+M33 -> 7633523 | C33: 313346 | D33: 4947327 | E33: 0 | F33: 0 | G33: 1227393 | H33: 29025 | I33: 89526 | J33: 907344 | K33: 67977 | L33: 37960 | M33: 13625
A34: Setembro | B34: =C34+D34+E34+F34+G34+H34+I34+J34+K34+L34+M34 -> 7553652 | C34: 289796 | D34: 4902730 | E34: 0 | F34: 0 | G34: 1260636 | H34: 27474 | I34: 88415 | J34: 868568 | K34: 65016 | L34: 36715 | M34: 14302
A35: Outubro | B35: =C35+D35+E35+F35+G35+H35+I35+J35+K35+L35+M35 -> 8017554 | C35: 299986 | D35: 5119079 | E35: 0 | F35: 0 | G35: 1429674 | H35: 25499 | I35: 93163 | J35: 923388 | K35: 68337 | L35: 39116 | M35: 19312
A36: Novembro | B36: =C36+D36+E36+F36+G36+H36+I36+J36+K36+L36+M36 -> 6707198 | C36: 244231 | D36: 4332199 | E36: 0 | F36: 0 | G36: 1102451 | H36: 19405 | I36: 76615 | J36: 819743 | K36: 62242 | L36: 36138 | M36: 14174
A37: Dezembro | B37: =C37+D37+E37+F37+G37+H37+I37+J37+K37+L37+M37 -> 7059564 | C37: 241518 | D37: 4490605 | E37: 0 | F37: 0 | G37: 1273230 | H37: 10859 | I37: 77493 | J37: 852637 | K37: 62786 | L37: 34597 | M37: 15839
A39: 2023 | B39: =SUM(B40:B51) -> 91578764 | C39: =SUM(C40:C51) -> 7016540 | D39: =SUM(D40:D51) -> 55124984 | E39: =SUM(E40:E51) -> 0 | F39: =SUM(F40:F51) -> 28352 | G39: =SUM(G40:G51) -> 16895506 | H39: =SUM(H40:H51) -> 271456 | I39: =SUM(I40:I51) -> 879610 | ... M39: =SUM(M40:M51) -> 523304
A40: Janeiro | B40: =C40+D40+E40+F40+G40+H40+I40+J40+K40+L40+M40 -> 7325547 | C40: 731874 | D40: 4077930 | E40: 0 | F40: 3269 | G40: 1597577 | H40: 928 | I40: 66778 | J40: 735866 | K40: 67540 | L40: 12782 | M40: 31003
A41: Fevereiro | B41: =C41+D41+E41+F41+G41+H41+I41+J41+K41+L41+M41 -> 7822538 | C41: 767247 | D41: 4196824 | E41: 0 | F41: 4002 | G41: 1973754 | H41: 12762 | I41: 65527 | J41: 676032 | K41: 74830 | L41: 15616 | M41: 35944
A42: Março | B42: =C42+D42+E42+F42+G42+H42+I42+J42+K42+L42+M42 -> 8336190 | C42: 871894 | D42: 4707740 | E42: 0 | F42: 4000 | G42: 1618628 | H42: 25219 | I42: 83745 | J42: 882833 | K42: 76245 | L42: 14415 | M42: 51471
A43: Abril | B43: =C43+D43+E43+F43+G43+H43+I43+J43+K43+L43+M43 -> 6993816 | C43: 607240 | D43: 4187126 | E43: 0 | F43: 2691 | G43: 1237679 | H43: 16454 | I43: 69479 | J43: 755778 | K43: 66833 | L43: 12799 | M43: 37737
A44: Maio | B44: =C44+D44+E44+F44+G44+H44+I44+J44+K44+L44+M44 -> 8009485 | C44: 607182 | D44: 4985203 | E44: 0 | F44: 2515 | G44: 1300170 | H44: 30676 | I44: 79672 | J44: 868371 | K44: 73909 | L44: 14373 | M44: 47414
A45: Junho | B45: =C45+D45+E45+F45+G45+H45+I45+J45+K45+L45+M45 -> 7657458 | C45: 552692 | D45: 4767187 | E45: 0 | F45: 2044 | G45: 1242125 | H45: 31258 | I45: 76538 | J45: 844186 | K45: 70889 | L45: 13701 | M45: 56838
A46: Julho | B46: =C46+D46+E46+F46+G46+H46+I46+J46+K46+L46+M46 -> 7396561 | C46: 507145 | D46: 4617738 | E46: 0 | F46: 1809 | G46: 1239554 | H46: 13491 | I46: 69467 | J46: 825623 | K46: 68967 | L46: 12998 | M46: 39769
A47: Agosto | B47: =C47+D47+E47+F47+G47+H47+I47+J47+K47+L47+M47 -> 8189326 | C47: 556311 | D47: 5157009 | E47: 0 | F47: 2317 | G47: 1327372 | H47: 35043 | I47: 79221 | J47: 888276 | K47: 79063 | L47: 15334 | M47: 49380
A48: Setembro | B48: =C48+D48+E48+F48+G48+H48+I48+J48+K48+L48+M48 -> 7503813 | C48: 476203 | D48: 4681926 | E48: 0 | F48: 1802 | G48: 1294518 | H48: 31117 | I48: 74440 | J48: 813704 | K48: 71622 | L48: 12501 | M48: 45980
A49: Outubro | B49: =C49+D49+E49+F49+G49+H49+I49+J49+K49+L49+M49 -> 7519519 | C49: 473850 | D49: 4713849 | E49: 0 | F49: 1278 | G49: 1256915 | H49: 30133 | I49: 72839 | J49: 836672 | K49: 72906 | L49: 16975 | M49: 44102
A50: Novembro | B50: =C50+D50+E50+F50+G50+H50+I50+J50+K50+L50+M50 -> 7596778 | C50: 456508 | D50: 4618601 | E50: 0 | F50: 1318 | G50: 1451962 | H50: 29366 | I50: 72420 | J50: 825461 | K50: 71334 | L50: 25662 | M50: 44146
A51: Dezembro | B51: =C51+D51+E51+F51+G51+H51+I51+J51+K51+L51+M51 -> 7227733 | C51: 408394 | D51: 4413851 | E51: 0 | F51: 1307 | G51: 1355252 | H51: 15009 | I51: 69484 | J51: 825455 | K51: 73086 | L51: 26375 | M51: 39520
A53: 2022 | B53: =SUM(B54:B65) -> 81908513 | C53: =SUM(C54:C65) -> 10357567 | D53: =SUM(D54:D65) -> 46398433 | E53: =SUM(E54:E65) -> 0 | F53: =SUM(F54:F65) -> 20821 | G53: =SUM(G54:G65) -> 14533171 | H53: =SUM(H54:H65) -> 274659 | I53: =SUM(I54:I65) -> 776339 | ... M53: =SUM(M54:M65) -> 298145
A54: Janeiro | B54: =C54+D54+E54+F54+G54+H54+I54+J54+K54+L54+M54 -> 5142280 | C54: 631637 | D54: 2930429 | E54: 0 | F54: 173 | G54: 965183 | H54: 3 | I54: 46169 | J54: 466804 | K54: 57370 | L54: 28473 | M54: 16039
A55: Fevereiro | B55: =C55+D55+E55+F55+G55+H55+I55+J55+K55+L55+M55 -> 5611786 | C55: 766521 | D55: 3180384 | E55: 0 | F55: 116 | G55: 960932 | H55: 10397 | I55: 51260 | J55: 526454 | K55: 62933 | L55: 32502 | M55: 20287
A56: Março | B56: =C56+D56+E56+F56+G56+H56+I56+J56+K56+L56+M56 -> 6898839 | C56: 961812 | D56: 3861301 | E56: 0 | F56: 249 | G56: 1205275 | H56: 24927 | I56: 64571 | J56: 651951 | K56: 69088 | L56: 37451 | M56: 22214
A57: Abril | B57: =C57+D57+E57+F57+G57+H57+I57+J57+K57+L57+M57 -> 6655900 | C57: 925090 | D57: 3687999 | E57: 0 | F57: 381 | G57: 1198777 | H57: 18813 | I57: 60374 | J57: 636753 | K57: 68131 | L57: 36147 | M57: 23435
A58: Maio | B58: =C58+D58+E58+F58+G58+H58+I58+J58+K58+L58+M58 -> 7319786 | C58: 1008891 | D58: 4151186 | E58: 0 | F58: 452 | G58: 1198097 | H58: 31968 | I58: 70989 | J58: 728909 | K58: 66792 | L58: 38817 | M58: 23685
A59: Junho | B59: =C59+D59+E59+F59+G59+H59+I59+J59+K59+L59+M59 -> 6724346 | C59: 881953 | D59: 3851605 | E59: 0 | F59: 994 | G59: 1081033 | H59: 31866 | I59: 65779 | J59: 672676 | K59: 63859 | L59: 35451 | M59: 39130
A60: Julho | B60: =C60+D60+E60+F60+G60+H60+I60+J60+K60+L60+M60 -> 6979395 | C60: 877820 | D60: 3982410 | E60: 0 | F60: 2112 | G60: 1213800 | H60: 11901 | I60: 67566 | J60: 716484 | K60: 66758 | L60: 18725 | M60: 21819
A61: Agosto | B61: =C61+D61+E61+F61+G61+H61+I61+J61+K61+L61+M61 -> 7584258 | C61: 969787 | D61: 4363812 | E61: 0 | F61: 2874 | G61: 1257742 | H61: 36917 | I61: 74312 | J61: 769874 | K61: 69588 | L61: 15892 | M61: 23460
A62: Setembro | B62: =C62+D62+E62+F62+G62+H62+I62+J62+K62+L62+M62 -> 7449702 | C62: 915983 | D62: 4195212 | E62: 0 | F62: 3196 | G62: 1387061 | H62: 35672 | I62: 69269 | J62: 732424 | K62: 66104 | L62: 14464 | M62: 30317
A63: Outubro | B63: =C63+D63+E63+F63+G63+H63+I63+J63+K63+L63+M63 -> 7247794 | C63: 869161 | D63: 4099180 | E63: 0 | F63: 3694 | G63: 1306366 | H63: 30329 | I63: 71458 | J63: 754317 | K63: 67998 | L63: 13865 | M63: 31426
A64: Novembro | B64: =C64+D64+E64+F64+G64+H64+I64+J64+K64+L64+M64 -> 7096050 | C64: 804677 | D64: 4031755 | E64: 0 | F64: 3293 | G64: 1317437 | H64: 28250 | I64: 67751 | J64: 753912 | K64: 61736 | L64: 12603 | M64: 14636
A65: Dezembro | B65: =C65+D65+E65+F65+G65+H65+I65+J65+K65+L65+M65 -> 7198377 | C65: 744235 | D65: 4063160 | E65: 0 | F65: 3287 | G65: 1441468 | H65: 13616 | I65: 66841 | J65: 748715 | K65: 72383 | L65: 12975 | M65: 31697
A67: 2021 | B67: =SUM(B68:B79) -> 57613005 | C67: =SUM(C68:C79) -> 7837667 | D67: =SUM(D68:D79) -> 33759823 | E67: =SUM(E68:E79) -> 0 | F67: =SUM(F68:F79) -> 4852 | G67: =SUM(G68:G79) -> 8838828 | H67: =SUM(H68:H79) -> 32162 | I67: =SUM(I68:I79) -> 534487 | ... M67: =SUM(M68:M79) -> 177127
A68: Janeiro | B68: =C68+D68+E68+F68+G68+H68+I68+J68+K68+L68+M68 -> 4326055 | C68: 524322 | D68: 2510564 | E68: 0 | F68: 547 | G68: 826628 | H68: 0 | I68: 39336 | J68: 339631 | K68: 56413 | L68: 18152 | M68: 10462
A69: Fevereiro | B69: =C69+D69+E69+F69+G69+H69+I69+J69+K69+L69+M69 -> 4177174 | C69: 590868 | D69: 2434752 | E69: 0 | F69: 593 | G69: 671420 | H69: 166 | I69: 38702 | J69: 351177 | K69: 59169 | L69: 21373 | M69: 8954
A70: Março | B70: =C70+D70+E70+F70+G70+H70+I70+J70+K70+L70+M70 -> 4507062 | C70: 630842 | D70: 2690016 | E70: 0 | F70: 397 | G70: 654919 | H70: 358 | I70: 42875 | J70: 390517 | K70: 62285 | L70: 25232 | M70: 9621
A71: Abril | B71: =C71+D71+E71+F71+G71+H71+I71+J71+K71+L71+M71 -> 3878083 | C71: 513647 | D71: 2342062 | E71: 0 | F71: 314 | G71: 550222 | H71: 244 | I71: 37135 | J71: 343574 | K71: 57584 | L71: 25035 | M71: 8266
A72: Maio | B72: =C72+D72+E72+F72+G72+H72+I72+J72+K72+L72+M72 -> 4426209 | C72: 599167 | D72: 2657892 | E72: 0 | F72: 312 | G72: 607213 | H72: 445 | I72: 43452 | J72: 419483 | K72: 59632 | L72: 26371 | M72: 12242
A73: Junho | B73: =C73+D73+E73+F73+G73+H73+I73+J73+K73+L73+M73 -> 4510634 | C73: 618600 | D73: 2694909 | E73: 0 | F73: 238 | G73: 607936 | H73: 756 | I73: 43242 | J73: 444734 | K73: 61271 | L73: 27128 | M73: 11820
A74: Julho | B74: =C74+D74+E74+F74+G74+H74+I74+J74+K74+L74+M74 -> 4800815 | C74: 653031 | D74: 2848946 | E74: 0 | F74: 258 | G74: 674209 | H74: 572 | I74: 45553 | J74: 474077 | K74: 61664 | L74: 27954 | M74: 14551
A75: Agosto | B75: =C75+D75+E75+F75+G75+H75+I75+J75+K75+L75+M75 -> 5034007 | C75: 688483 | D75: 2974892 | E75: 0 | F75: 379 | G75: 725662 | H75: 2239 | I75: 47956 | J75: 484097 | K75: 60732 | L75: 31427 | M75: 18140
A76: Setembro | B76: =C76+D76+E76+F76+G76+H76+I76+J76+K76+L76+M76 -> 5065056 | C76: 692037 | D76: 2958889 | E76: 0 | F76: 426 | G76: 763434 | H76: 2763 | I76: 47656 | J76: 489807 | K76: 58818 | L76: 33467 | M76: 17759
A77: Outubro | B77: =C77+D77+E77+F77+G77+H77+I77+J77+K77+L77+M77 -> 5156554 | C77: 712694 | D77: 3001246 | E77: 0 | F77: 410 | G77: 779669 | H77: 5252 | I77: 46522 | J77: 504759 | K77: 58554 | L77: 31080 | M77: 16368
A78: Novembro | B78: =C78+D78+E78+F78+G78+H78+I78+J78+K78+L78+M78 -> 5680783 | C78: 797515 | D78: 3225222 | E78: 0 | F78: 438 | G78: 914964 | H78: 13306 | I78: 50881 | J78: 561776 | K78: 60011 | L78: 32353 | M78: 24317
A79: Dezembro | B79: =C79+D79+E79+F79+G79+H79+I79+J79+K79+L79+M79 -> 6050573 | C79: 816461 | D79: 3420433 | E79: 0 | F79: 540 | G79: 1062552 | H79: 6061 | I79: 51177 | J79: 570190 | K79: 64672 | L79: 33860 | M79: 24627
A81: 2020 | B81: =SUM(B82:B93) -> 58373174 | C81: =SUM(C82:C93) -> 9823627 | D81: =SUM(D82:D93) -> 33540620 | E81: =SUM(E82:E93) -> 0 | F81: =SUM(F82:F93) -> 7136 | G81: =SUM(G82:G93) -> 8295975 | H81: =SUM(H82:H93) -> 16344 | I81: =SUM(I82:I93) -> 534873 | ... M81: =SUM(M82:M93) -> 230698
A82: Janeiro | B82: =C82+D82+E82+F82+G82+H82+I82+J82+K82+L82+M82 -> 10551654 | C82: 2109346 | D82: 5712769 | E82: 0 | F82: 1827 | G82: 1443119 | H82: 1030 | I82: 89874 | J82: 1042345 | K82: 93537 | L82: 0 | M82: 57807
A83: Fevereiro | B83: =C83+D83+E83+F83+G83+H83+I83+J83+K83+L83+M83 -> 10702780 | C83: 2193026 | D83: 5770470 | E83: 0 | F83: 2017 | G83: 1572523 | H83: 5477 | I83: 84638 | J83: 918118 | K83: 96778 | L83: 0 | M83: 59733
A84: Março | B84: =C84+D84+E84+F84+G84+H84+I84+J84+K84+L84+M84 -> 6837359 | C84: 1343792 | D84: 3960222 | E84: 0 | F84: 983 | G84: 736461 | H84: 9421 | I84: 63094 | J84: 612232 | K84: 72173 | L84: 2068 | M84: 36913
A85: Abril | B85: =C85+D85+E85+F85+G85+H85+I85+J85+K85+L85+M85 -> 1553915 | C85: 175518 | D85: 1064896 | E85: 0 | F85: 104 | G85: 164332 | H85: 0 | I85: 15117 | J85: 79841 | K85: 39614 | L85: 8953 | M85: 5540
A86: Maio | B86: =C86+D86+E86+F86+G86+H86+I86+J86+K86+L86+M86 -> 1694286 | C86: 189836 | D86: 1149756 | E86: 0 | F86: 101 | G86: 185877 | H86: 0 | I86: 16306 | J86: 93285 | K86: 40497 | L86: 9421 | M86: 9207
A87: Junho | B87: =C87+D87+E87+F87+G87+H87+I87+J87+K87+L87+M87 -> 2312955 | C87: 290945 | D87: 1476426 | E87: 0 | F87: 241 | G87: 292246 | H87: 0 | I87: 24385 | J87: 166346 | K87: 44193 | L87: 11315 | M87: 6858
A88: Julho | B88: =C88+D88+E88+F88+G88+H88+I88+J88+K88+L88+M88 -> 3396726 | C88: 462924 | D88: 2074054 | E88: 0 | F88: 242 | G88: 468635 | H88: 9 | I88: 34705 | J88: 270146 | K88: 63076 | L88: 15296 | M88: 7639
A89: Agosto | B89: =C89+D89+E89+F89+G89+H89+I89+J89+K89+L89+M89 -> 3820908 | C89: 543052 | D89: 2261001 | E89: 0 | F89: 101 | G89: 565426 | H89: 4 | I89: 39053 | J89: 323318 | K89: 64788 | L89: 15723 | M89: 8442
A90: Setembro | B90: =C90+D90+E90+F90+G90+H90+I90+J90+K90+L90+M90 -> 4204177 | C90: 603905 | D90: 2425017 | E90: 0 | F90: 144 | G90: 685668 | H90: 16 | I90: 41982 | J90: 358392 | K90: 63873 | L90: 15810 | M90: 9370
A91: Outubro | B91: =C91+D91+E91+F91+G91+H91+I91+J91+K91+L91+M91 -> 4488460 | C91: 663132 | D91: 2582087 | E91: 0 | F91: 343 | G91: 704964 | H91: 67 | I91: 43319 | J91: 403207 | K91: 64720 | L91: 17624 | M91: 8997
A92: Novembro | B92: =C92+D92+E92+F92+G92+H92+I92+J92+K92+L92+M92 -> 4408641 | C92: 644257 | D92: 2515973 | E92: 0 | F92: 483 | G92: 720746 | H92: 230 | I92: 41669 | J92: 396750 | K92: 59873 | L92: 18413 | M92: 10247
A93: Dezembro | B93: =C93+D93+E93+F93+G93+H93+I93+J93+K93+L93+M93 -> 4401313 | C93: 603894 | D93: 2547949 | E93: 0 | F93: 550 | G93: 755978 | H93: 90 | I93: 40731 | J93: 362290 | K93: 60551 | L93: 19335 | M93: 9945
A95: 2019 | B95: =SUM(B96:B107) -> 134472133 | C95: =SUM(C96:C107) -> 30444132 | D95: =SUM(D96:D107) -> 71572236 | E95: =SUM(E96:E107) -> 0 | F95: =SUM(F96:F107) -> 19916 | G95: =SUM(G96:G107) -> 15612463 | H95: =SUM(H96:H107) -> 341957 | I95: =SUM(I96:I107) -> 1258235 | ... M95: =SUM(M96:M107) -> 897897
A96: Janeiro | B96: =C96+D96+E96+F96+G96+H96+I96+J96+K96+L96+M96 -> 11111358 | C96: 2429637 | D96: 5744488 | E96: 0 | F96: 1893 | G96: 1600839 | H96: 185 | I96: 101054 | J96: 1059035 | K96: 91602 | L96: 0 | M96: 82625
A97: Fevereiro | B97: =C97+D97+E97+F97+G97+H97+I97+J97+K97+L97+M97 -> 10854766 | C97: 2531091 | D97: 5694888 | E97: 0 | F97: 1923 | G97: 1296405 | H97: 18450 | I97: 103135 | J97: 1036927 | K97: 92429 | L97: 0 | M97: 79518
A98: Março | B98: =C98+D98+E98+F98+G98+H98+I98+J98+K98+L98+M98 -> 11447685 | C98: 2559708 | D98: 5898606 | E98: 0 | F98: 2357 | G98: 1649695 | H98: 22088 | I98: 103527 | J98: 1027637 | K98: 95298 | L98: 0 | M98: 88769
A99: Abril | B99: =C99+D99+E99+F99+G99+H99+I99+J99+K99+L99+M99 -> 10872396 | C99: 2518637 | D99: 5754904 | E99: 0 | F99: 1741 | G99: 1199820 | H99: 32141 | I99: 104437 | J99: 1093068 | K99: 85793 | L99: 0 | M99: 81855
A100: Maio | B100: =C100+D100+E100+F100+G100+H100+I100+J100+K100+L100+M100 -> 12064831 | C100: 2846301 | D100: 6359141 | E100: 0 | F100: 1593 | G100: 1326512 | H100: 38241 | I100: 117057 | J100: 1191972 | K100: 92850 | L100: 0 | M100: 91164
A101: Junho | B101: =C101+D101+E101+F101+G101+H101+I101+J101+K101+L101+M101 -> 10026668 | C101: 2521633 | D101: 5486016 | E101: 0 | F101: 1571 | G101: 720052 | H101: 34983 | I101: 101779 | J101: 1060584 | K101: 85025 | L101: 0 | M101: 15025
A102: Julho | B102: =C102+D102+E102+F102+G102+H102+I102+J102+K102+L102+M102 -> 11669329 | C102: 2671918 | D102: 6215849 | E102: 0 | F102: 1254 | G102: 1298041 | H102: 18588 | I102: 107878 | J102: 1179056 | K102: 93095 | L102: 0 | M102: 83650
A103: Agosto | B103: =C103+D103+E103+F103+G103+H103+I103+J103+K103+L103+M103 -> 11698211 | C103: 2671168 | D103: 6290285 | E103: 0 | F103: 1425 | G103: 1250569 | H103: 41872 | I103: 107852 | J103: 1157503 | K103: 93852 | L103: 0 | M103: 83685
A104: Setembro | B104: =C104+D104+E104+F104+G104+H104+I104+J104+K104+L104+M104 -> 11218063 | C104: 2484191 | D104: 6069177 | E104: 0 | F104: 1645 | G104: 1259197 | H104: 41124 | I104: 106880 | J104: 1084792 | K104: 94941 | L104: 0 | M104: 76116
A105: Outubro | B105: =C105+D105+E105+F105+G105+H105+I105+J105+K105+L105+M105 -> 12206414 | C105: 2647426 | D105: 6636464 | E105: 0 | F105: 1787 | G105: 1391215 | H105: 38077 | I105: 114711 | J105: 1195408 | K105: 97587 | L105: 0 | M105: 83739
A106: Novembro | B106: =C106+D106+E106+F106+G106+H106+I106+J106+K106+L106+M106 -> 10705392 | C106: 2344481 | D106: 5774500 | E106: 0 | F106: 1475 | G106: 1210182 | H106: 37800 | I106: 98597 | J106: 1075203 | K106: 91663 | L106: 0 | M106: 71491
A107: Dezembro | B107: =C107+D107+E107+F107+G107+H107+I107+J107+K107+L107+M107 -> 10597020 | C107: 2217941 | D107: 5647918 | E107: 0 | F107: 1252 | G107: 1409936 | H107: 18408 | I107: 91328 | J107: 1057886 | K107: 92091 | L107: 0 | M107: 60260
A109: 2018 | B109: =SUM(B110:B121) -> 135528067 | C109: =SUM(C110:C121) -> 32174152 | D109: =SUM(D110:D121) -> 69743821 | E109: =SUM(E110:E121) -> 0 | F109: =SUM(F110:F121) -> 29779 | G109: =SUM(G110:G121) -> 16610943 | H109: =SUM(H110:H121) -> 355383 | I109: =SUM(I110:I121) -> 1323048 | ... M109: =SUM(M110:M121) -> 300180
...

Sheet PAX - LINHA 2
A1: Tabela 1: Total de passageiros mensal por forma de acesso e linha metroviária - 2013 - 2026
A2: Concessionária MetrôRio - Linha 2
A4: Ano Mês | B4: Total Geral | C4: Pré-Pago | D4: Fetranspor | E4: Jaé | F4: Metrô Na Superfície | G4: Unitário | H4: Estudantes | I4: Pessoas com Necessidades Especiais e Doentes Crônicos | J4: Maior de 65 anos | K4: Funcionário | L4: Força de Segurança | M4: Outros
B5: Linha 2 | C5: Linha 2 | D5: Linha 2 | E5: Linha 2 | F5: Linha 2 | G5: Linha 2 | H5: Linha 2 | I5: Linha 2 | J5: Linha 2 | K5: Linha 2 | L5: Linha 2 | M5: Linha 2
A6: 2026 | B6: =SUM(B7:B9) -> 11933979 | C6: =SUM(C7:C9) -> 91470 | D6: =SUM(D7:D9) -> 6684532 | E6: =SUM(E7:E9) -> 2607591 | F6: =SUM(F7:F9) -> 0 | G6: =SUM(G7:G9) -> 1325937 | H6: =SUM(H7:H9) -> 75703 | I6: =SUM(I7:I9) -> 168938 | ... M6: =SUM(M7:M9) -> 26547
A7: Janeiro | B7: =C7+D7+E7+F7+G7+H7+I7+J7+K7+L7+M7 -> 3708700 | C7: 27770 | D7: 2163495 | E7: 753153 | F7: 0 | G7: 397225 | H7: 896 | I7: 53199 | J7: 241577 | K7: 51431 | L7: 11165 | M7: 8789 | N7: 3708700
A8: Fevereiro | B8: =C8+D8+E8+F8+G8+H8+I8+J8+K8+L8+M8 -> 3809298 | C8: 28224 | D8: 2097330 | E8: 853561 | F8: 0 | G8: 465086 | H8: 9064 | I8: 52009 | J8: 229598 | K8: 53541 | L8: 11674 | M8: 9211 | N8: 3809298
A9: Março | B9: =C9+D9+E9+F9+G9+H9+I9+J9+K9+L9+M9 -> 4415981 | C9: 35476 | D9: 2423707 | E9: 1000877 | F9: 0 | G9: 463626 | H9: 65743 | I9: 63730 | J9: 284926 | K9: 55797 | L9: 13552 | M9: 8547 | N9: 4415981
A11: 2025 | B11: =SUM(B12:B23) -> 48943680 | C11: =SUM(C12:C23) -> 469655 | D11: =SUM(D12:D23) -> 34234191 | E11: =SUM(E12:E23) -> 3366202 | F11: =SUM(F12:F23) -> 0 | G11: =SUM(G12:G23) -> 5573407 | H11: =SUM(H12:H23) -> 622611 | I11: =SUM(I12:I23) -> 680083 | ... M11: =SUM(M12:M23) -> 93167
A12: Janeiro | B12: =C12+D12+E12+F12+G12+H12+I12+J12+K12+L12+M12 -> 3748018 | C12: 39546 | D12: 2886077 | E12: 0 | F12: 0 | G12: 438916 | H12: 13135 | I12: 53913 | J12: 244297 | K12: 55252 | L12: 10007 | M12: 6875
A13: Fevereiro | B13: =C13+D13+E13+F13+G13+H13+I13+J13+K13+L13+M13 -> 3921752 | C13: 43147 | D13: 3006079 | E13: 0 | F13: 0 | G13: 477811 | H13: 30245 | I13: 48793 | J13: 245116 | K13: 53004 | L13: 11035 | M13: 6522
A14: Março | B14: =C14+D14+E14+F14+G14+H14+I14+J14+K14+L14+M14 -> 4140793 | C14: 44545 | D14: 3120174 | E14: 0 | F14: 0 | G14: 559738 | H14: 35465 | I14: 52007 | J14: 250355 | K14: 60189 | L14: 11508 | M14: 6812
A15: Abril | B15: =C15+D15+E15+F15+G15+H15+I15+J15+K15+L15+M15 -> 3777013 | C15: 41047 | D15: 2871270 | E15: 0 | F15: 0 | G15: 438062 | H15: 59773 | I15: 50369 | J15: 244150 | K15: 53724 | L15: 10930 | M15: 7688
A16: Maio | B16: =C16+D16+E16+F16+G16+H16+I16+J16+K16+L16+M16 -> 4405807 | C16: 44887 | D16: 3381661 | E16: 0 | F16: 0 | G16: 497758 | H16: 75382 | I16: 59764 | J16: 271236 | K16: 55330 | L16: 11887 | M16: 7902
A17: Junho | B17: =C17+D17+E17+F17+G17+H17+I17+J17+K17+L17+M17 -> 4033319 | C17: 38756 | D17: 3147670 | E17: 0 | F17: 0 | G17: 400019 | H17: 68945 | I17: 56344 | J17: 251311 | K17: 51764 | L17: 11392 | M17: 7118
A18: Julho | B18: =C18+D18+E18+F18+G18+H18+I18+J18+K18+L18+M18 -> 4006798 | C18: 38753 | D18: 3070855 | E18: 0 | F18: 0 | G18: 443927 | H18: 49847 | I18: 58440 | J18: 268891 | K18: 56852 | L18: 12203 | M18: 7030
A19: Agosto | B19: =C19+D19+E19+F19+G19+H19+I19+J19+K19+L19+M19 -> 4157775 | C19: 38742 | D19: 2792862 | E19: 407034 | F19: 0 | G19: 460004 | H19: 55970 | I19: 60545 | J19: 266734 | K19: 56327 | L19: 12563 | M19: 6994
A20: Setembro | B20: =C20+D20+E20+F20+G20+H20+I20+J20+K20+L20+M20 -> 4250983 | C20: 38376 | D20: 2651717 | E20: 630653 | F20: 0 | G20: 444898 | H20: 76586 | I20: 60508 | J20: 267497 | K20: 55939 | L20: 13483 | M20: 11326
A21: Outubro | B21: =C21+D21+E21+F21+G21+H21+I21+J21+K21+L21+M21 -> 4350001 | C21: 37256 | D21: 2622236 | E21: 760197 | F21: 0 | G21: 450368 | H21: 67974 | I21: 61486 | J21: 272139 | K21: 57211 | L21: 13334 | M21: 7800
A22: Novembro | B22: =C22+D22+E22+F22+G22+H22+I22+J22+K22+L22+M22 -> 3983123 | C22: 32637 | D22: 2332267 | E22: 747034 | F22: 0 | G22: 424359 | H22: 61327 | I22: 58740 | J22: 255933 | K22: 51383 | L22: 11636 | M22: 7807
A23: Dezembro | B23: =C23+D23+E23+F23+G23+H23+I23+J23+K23+L23+M23 -> 4168298 | C23: 31963 | D23: 2351323 | E23: 821284 | F23: 0 | G23: 537547 | H23: 27962 | I23: 59174 | J23: 263721 | K23: 54201 | L23: 11830 | M23: 9293
A25: 2024 | B25: =SUM(B26:B37) -> 49731641 | C25: =SUM(C26:C37) -> 733337 | D25: =SUM(D26:D37) -> 36963517 | E25: =SUM(E26:E37) -> 0 | F25: =SUM(F26:F37) -> 0 | G25: =SUM(G26:G37) -> 6836203 | H25: =SUM(H26:H37) -> 572012 | I25: =SUM(I26:I37) -> 671578 | ... M25: =SUM(M26:M37) -> 118097
A26: Janeiro | B26: =C26+D26+E26+F26+G26+H26+I26+J26+K26+L26+M26 -> 3879315 | C26: 75880 | D26: 2880788 | E26: 0 | F26: 0 | G26: 567531 | H26: 6 | I26: 46317 | J26: 231639 | K26: 58682 | L26: 8107 | M26: 10365
A27: Fevereiro | B27: =C27+D27+E27+F27+G27+H27+I27+J27+K27+L27+M27 -> 4277182 | C27: 78249 | D27: 3096192 | E27: 0 | F27: 0 | G27: 722172 | H27: 23535 | I27: 49072 | J27: 227091 | K27: 62294 | L27: 8815 | M27: 9762
A28: Março | B28: =C28+D28+E28+F28+G28+H28+I28+J28+K28+L28+M28 -> 4216577 | C28: 78495 | D28: 3061200 | E28: 0 | F28: 0 | G28: 638443 | H28: 55892 | I28: 55135 | J28: 247757 | K28: 60465 | L28: 9268 | M28: 9922
A29: Abril | B29: =C29+D29+E29+F29+G29+H29+I29+J29+K29+L29+M29 -> 4364432 | C29: 74997 | D29: 3222278 | E29: 0 | F29: 0 | G29: 605194 | H29: 57701 | I29: 58448 | J29: 264323 | K29: 60182 | L29: 10369 | M29: 10940
A30: Maio | B30: =C30+D30+E30+F30+G30+H30+I30+J30+K30+L30+M30 -> 4279997 | C30: 68476 | D30: 3169988 | E30: 0 | F30: 0 | G30: 604921 | H30: 41442 | I30: 56622 | J30: 259267 | K30: 59706 | L30: 10553 | M30: 9022
A31: Junho | B31: =C31+D31+E31+F31+G31+H31+I31+J31+K31+L31+M31 -> 4090727 | C31: 60792 | D31: 3046862 | E31: 0 | F31: 0 | G31: 552920 | H31: 42894 | I31: 55615 | J31: 253808 | K31: 57843 | L31: 10422 | M31: 9571
A32: Julho | B32: =C32+D32+E32+F32+G32+H32+I32+J32+K32+L32+M32 -> 4149363 | C32: 58691 | D32: 3122399 | E32: 0 | F32: 0 | G32: 532175 | H32: 36862 | I32: 57250 | J32: 261478 | K32: 60342 | L32: 10563 | M32: 9603
A33: Agosto | B33: =C33+D33+E33+F33+G33+H33+I33+J33+K33+L33+M33 -> 4202120 | C33: 53665 | D33: 3140454 | E33: 0 | F33: 0 | G33: 525293 | H33: 81114 | I33: 60136 | J33: 261693 | K33: 58703 | L33: 11017 | M33: 10045
A34: Setembro | B34: =C34+D34+E34+F34+G34+H34+I34+J34+K34+L34+M34 -> 4009574 | C34: 48525 | D34: 2990898 | E34: 0 | F34: 0 | G34: 510155 | H34: 71131 | I34: 58750 | J34: 250289 | K34: 57496 | L34: 10813 | M34: 11517
A35: Outubro | B35: =C35+D35+E35+F35+G35+H35+I35+J35+K35+L35+M35 -> 4353591 | C35: 50740 | D35: 3235076 | E35: 0 | F35: 0 | G35: 592987 | H35: 71524 | I35: 61509 | J35: 260387 | K35: 58438 | L35: 11309 | M35: 11621
A36: Novembro | B36: =C36+D36+E36+F36+G36+H36+I36+J36+K36+L36+M36 -> 3890533 | C36: 42444 | D36: 2980096 | E36: 0 | F36: 0 | G36: 442705 | H36: 55596 | I36: 56312 | J36: 240893 | K36: 55601 | L36: 9713 | M36: 7173
A37: Dezembro | B37: =C37+D37+E37+F37+G37+H37+I37+J37+K37+L37+M37 -> 4018230 | C37: 42383 | D37: 3017286 | E37: 0 | F37: 0 | G37: 541707 | H37: 34315 | I37: 56412 | J37: 249494 | K37: 58346 | L37: 9731 | M37: 8556
A39: 2023 | B39: =SUM(B40:B51) -> 52062209 | C39: =SUM(C40:C51) -> 1725825 | D39: =SUM(D40:D51) -> 36187368 | E39: =SUM(E40:E51) -> 0 | F39: =SUM(F40:F51) -> 0 | G39: =SUM(G40:G51) -> 9030476 | H39: =SUM(H40:H51) -> 658453 | I39: =SUM(I40:I51) -> 630985 | ... M39: =SUM(M40:M51) -> 138433
A40: Janeiro | B40: =C40+D40+E40+F40+G40+H40+I40+J40+K40+L40+M40 -> 4034054 | C40: 208828 | D40: 2637628 | E40: 0 | F40: 0 | G40: 842762 | H40: 8925 | I40: 47275 | J40: 218415 | K40: 57464 | L40: 1740 | M40: 11017
A41: Fevereiro | B41: =C41+D41+E41+F41+G41+H41+I41+J41+K41+L41+M41 -> 4049378 | C41: 197584 | D41: 2556279 | E41: 0 | F41: 0 | G41: 957419 | H41: 8933 | I41: 47135 | J41: 206216 | K41: 62054 | L41: 2624 | M41: 11134
A42: Março | B42: =C42+D42+E42+F42+G42+H42+I42+J42+K42+L42+M42 -> 4701781 | C42: 241247 | D42: 3062472 | E42: 0 | F42: 0 | G42: 933242 | H42: 66372 | I42: 59546 | J42: 258509 | K42: 65915 | L42: 2229 | M42: 12249
A43: Abril | B43: =C43+D43+E43+F43+G43+H43+I43+J43+K43+L43+M43 -> 4087334 | C43: 164321 | D43: 2758312 | E43: 0 | F43: 0 | G43: 750189 | H43: 61006 | I43: 51262 | J43: 230845 | K43: 58790 | L43: 1836 | M43: 10773
A44: Maio | B44: =C44+D44+E44+F44+G44+H44+I44+J44+K44+L44+M44 -> 4593795 | C44: 146876 | D44: 3239093 | E44: 0 | F44: 0 | G44: 732898 | H44: 82278 | I44: 57499 | J44: 258789 | K44: 63219 | L44: 2042 | M44: 11101
A45: Junho | B45: =C45+D45+E45+F45+G45+H45+I45+J45+K45+L45+M45 -> 4455877 | C45: 132062 | D45: 3159753 | E45: 0 | F45: 0 | G45: 705358 | H45: 79844 | I45: 54779 | J45: 251769 | K45: 59903 | L45: 1912 | M45: 10497
A46: Julho | B46: =C46+D46+E46+F46+G46+H46+I46+J46+K46+L46+M46 -> 4238031 | C46: 118958 | D46: 3023532 | E46: 0 | F46: 0 | G46: 689315 | H46: 32862 | I46: 51672 | J46: 246821 | K46: 60305 | L46: 1733 | M46: 12833
A47: Agosto | B47: =C47+D47+E47+F47+G47+H47+I47+J47+K47+L47+M47 -> 4724942 | C47: 123591 | D47: 3400047 | E47: 0 | F47: 0 | G47: 718779 | H47: 82252 | I47: 56572 | J47: 262313 | K47: 67651 | L47: 2196 | M47: 11541
A48: Setembro | B48: =C48+D48+E48+F48+G48+H48+I48+J48+K48+L48+M48 -> 4379240 | C48: 104758 | D48: 3149643 | E48: 0 | F48: 0 | G48: 678256 | H48: 75540 | I48: 53403 | J48: 242669 | K48: 61789 | L48: 1897 | M48: 11285
A49: Outubro | B49: =C49+D49+E49+F49+G49+H49+I49+J49+K49+L49+M49 -> 4314060 | C49: 100677 | D49: 3167155 | E49: 0 | F49: 0 | G49: 599287 | H49: 71492 | I49: 51466 | J49: 246961 | K49: 60869 | L49: 3308 | M49: 12845
A50: Novembro | B50: =C50+D50+E50+F50+G50+H50+I50+J50+K50+L50+M50 -> 4321882 | C50: 97931 | D50: 3068200 | E50: 0 | F50: 0 | G50: 713262 | H50: 64231 | I50: 51746 | J50: 246310 | K50: 60476 | L50: 7565 | M50: 12161
A51: Dezembro | B51: =C51+D51+E51+F51+G51+H51+I51+J51+K51+L51+M51 -> 4161835 | C51: 88992 | D51: 2965254 | E51: 0 | F51: 0 | G51: 709709 | H51: 24718 | I51: 48630 | J51: 245207 | K51: 60594 | L51: 7734 | M51: 10997
A53: 2022 | B53: =SUM(B54:B65) -> 47845720 | C53: =SUM(C54:C65) -> 3236236 | D53: =SUM(D54:D65) -> 30297783 | E53: =SUM(E54:E65) -> 0 | F53: =SUM(F54:F65) -> 0 | G53: =SUM(G54:G65) -> 9785573 | H53: =SUM(H54:H65) -> 627005 | I53: =SUM(I54:I65) -> 565410 | ... M53: =SUM(M54:M65) -> 123006
A54: Janeiro | B54: =C54+D54+E54+F54+G54+H54+I54+J54+K54+L54+M54 -> 3091736 | C54: 227536 | D54: 1912576 | E54: 0 | F54: 0 | G54: 701544 | H54: 44 | I54: 32483 | J54: 152905 | K54: 47964 | L54: 9078 | M54: 7606
A55: Fevereiro | B55: =C55+D55+E55+F55+G55+H55+I55+J55+K55+L55+M55 -> 3286560 | C55: 257780 | D55: 2029467 | E55: 0 | F55: 0 | G55: 703172 | H55: 12492 | I55: 37700 | J55: 164150 | K55: 52081 | L55: 9842 | M55: 19876
A56: Março | B56: =C56+D56+E56+F56+G56+H56+I56+J56+K56+L56+M56 -> 4052179 | C56: 316947 | D56: 2477703 | E56: 0 | F56: 0 | G56: 896601 | H56: 31925 | I56: 46770 | J56: 201046 | K56: 60066 | L56: 11946 | M56: 9175
A57: Abril | B57: =C57+D57+E57+F57+G57+H57+I57+J57+K57+L57+M57 -> 3830646 | C57: 292258 | D57: 2335954 | E57: 0 | F57: 0 | G57: 848450 | H57: 38329 | I57: 44116 | J57: 194408 | K57: 56721 | L57: 11188 | M57: 9222
A58: Maio | B58: =C58+D58+E58+F58+G58+H58+I58+J58+K58+L58+M58 -> 4296174 | C58: 320245 | D58: 2666892 | E58: 0 | F58: 0 | G58: 876781 | H58: 83109 | I58: 50692 | J58: 219306 | K58: 56120 | L58: 12654 | M58: 10375
A59: Junho | B59: =C59+D59+E59+F59+G59+H59+I59+J59+K59+L59+M59 -> 4062088 | C59: 286524 | D59: 2556936 | E59: 0 | F59: 0 | G59: 810120 | H59: 78249 | I59: 48295 | J59: 203803 | K59: 56278 | L59: 12005 | M59: 9878
A60: Julho | B60: =C60+D60+E60+F60+G60+H60+I60+J60+K60+L60+M60 -> 4217649 | C60: 280250 | D60: 2676654 | E60: 0 | F60: 0 | G60: 861526 | H60: 59494 | I60: 50252 | J60: 217496 | K60: 57875 | L60: 4972 | M60: 9130
A61: Agosto | B61: =C61+D61+E61+F61+G61+H61+I61+J61+K61+L61+M61 -> 4425855 | C61: 288713 | D61: 2893875 | E61: 0 | F61: 0 | G61: 817479 | H61: 73830 | I61: 53420 | J61: 227362 | K61: 59611 | L61: 2518 | M61: 9047
A62: Setembro | B62: =C62+D62+E62+F62+G62+H62+I62+J62+K62+L62+M62 -> 4194983 | C62: 262704 | D62: 2731428 | E62: 0 | F62: 0 | G62: 796776 | H62: 71519 | I62: 51542 | J62: 215120 | K62: 55589 | L62: 2013 | M62: 8292
A63: Outubro | B63: =C63+D63+E63+F63+G63+H63+I63+J63+K63+L63+M63 -> 4172598 | C63: 250241 | D63: 2696038 | E63: 0 | F63: 0 | G63: 811527 | H63: 71803 | I63: 52653 | J63: 221895 | K63: 57730 | L63: 1987 | M63: 8724
A64: Novembro | B64: =C64+D64+E64+F64+G64+H64+I64+J64+K64+L64+M64 -> 4074106 | C64: 235438 | D64: 2642523 | E64: 0 | F64: 0 | G64: 795733 | H64: 66722 | I64: 48988 | J64: 215292 | K64: 57723 | L64: 1771 | M64: 9916
A65: Dezembro | B65: =C65+D65+E65+F65+G65+H65+I65+J65+K65+L65+M65 -> 4141146 | C65: 217600 | D65: 2677737 | E65: 0 | F65: 0 | G65: 865864 | H65: 39489 | I65: 48499 | J65: 219266 | K65: 59035 | L65: 1891 | M65: 11765
A67: 2021 | B67: =SUM(B68:B79) -> 35892965 | C67: =SUM(C68:C79) -> 3075298 | D67: =SUM(D68:D79) -> 22240027 | E67: =SUM(E68:E79) -> 0 | F67: =SUM(F68:F79) -> 0 | G67: =SUM(G68:G79) -> 7550087 | H67: =SUM(H68:H79) -> 53497 | I67: =SUM(I68:I79) -> 398090 | ... M67: =SUM(M68:M79) -> 98397
A68: Janeiro | B68: =C68+D68+E68+F68+G68+H68+I68+J68+K68+L68+M68 -> 2790442 | C68: 223908 | D68: 1674987 | E68: 0 | F68: 0 | G68: 687367 | H68: 0 | I68: 28566 | J68: 115140 | K68: 46443 | L68: 6469 | M68: 7562
A69: Fevereiro | B69: =C69+D69+E69+F69+G69+H69+I69+J69+K69+L69+M69 -> 2627988 | C69: 239133 | D69: 1588430 | E69: 0 | F69: 0 | G69: 590549 | H69: 154 | I69: 29001 | J69: 118050 | K69: 47762 | L69: 7578 | M69: 7331
A70: Março | B70: =C70+D70+E70+F70+G70+H70+I70+J70+K70+L70+M70 -> 2869093 | C70: 260046 | D70: 1777599 | E70: 0 | F70: 0 | G70: 594192 | H70: 303 | I70: 31369 | J70: 131675 | K70: 51755 | L70: 9231 | M70: 12923
A71: Abril | B71: =C71+D71+E71+F71+G71+H71+I71+J71+K71+L71+M71 -> 2513922 | C71: 224672 | D71: 1576992 | E71: 0 | F71: 0 | G71: 498445 | H71: 273 | I71: 28116 | J71: 117276 | K71: 51351 | L71: 10016 | M71: 6781
A72: Maio | B72: =C72+D72+E72+F72+G72+H72+I72+J72+K72+L72+M72 -> 2824616 | C72: 250763 | D72: 1774370 | E72: 0 | F72: 0 | G72: 558714 | H72: 578 | I72: 32079 | J72: 138620 | K72: 51955 | L72: 9897 | M72: 7640
A73: Junho | B73: =C73+D73+E73+F73+G73+H73+I73+J73+K73+L73+M73 -> 2854178 | C73: 255067 | D73: 1792283 | E73: 0 | F73: 0 | G73: 561515 | H73: 956 | I73: 31858 | J73: 144475 | K73: 51449 | L73: 9320 | M73: 7255
A74: Julho | B74: =C74+D74+E74+F74+G74+H74+I74+J74+K74+L74+M74 -> 3020947 | C74: 264525 | D74: 1898114 | E74: 0 | F74: 0 | G74: 598058 | H74: 614 | I74: 34389 | J74: 153433 | K74: 54935 | L74: 9218 | M74: 7661
A75: Agosto | B75: =C75+D75+E75+F75+G75+H75+I75+J75+K75+L75+M75 -> 3139856 | C75: 269230 | D75: 1963882 | E75: 0 | F75: 0 | G75: 637455 | H75: 2276 | I75: 36536 | J75: 157581 | K75: 54385 | L75: 10144 | M75: 8367
A76: Setembro | B76: =C76+D76+E76+F76+G76+H76+I76+J76+K76+L76+M76 -> 3124327 | C76: 265528 | D76: 1953691 | E76: 0 | F76: 0 | G76: 636128 | H76: 4717 | I76: 35675 | J76: 157726 | K76: 51896 | L76: 10735 | M76: 8231
A77: Outubro | B77: =C77+D77+E77+F77+G77+H77+I77+J77+K77+L77+M77 -> 3146408 | C77: 262085 | D77: 1967933 | E77: 0 | F77: 0 | G77: 642417 | H77: 9446 | I77: 35357 | J77: 159483 | K77: 52251 | L77: 9928 | M77: 7508
A78: Novembro | B78: =C78+D78+E78+F78+G78+H78+I78+J78+K78+L78+M78 -> 3382989 | C78: 276913 | D78: 2072261 | E78: 0 | F78: 0 | G78: 728408 | H78: 24760 | I78: 37682 | J78: 171085 | K78: 53521 | L78: 10116 | M78: 8243
A79: Dezembro | B79: =C79+D79+E79+F79+G79+H79+I79+J79+K79+L79+M79 -> 3598199 | C79: 283428 | D79: 2199485 | E79: 0 | F79: 0 | G79: 816839 | H79: 9420 | I79: 37462 | J79: 177005 | K79: 55263 | L79: 10402 | M79: 8895
A81: 2020 | B81: =SUM(B82:B93) -> 33285400 | C81: =SUM(C82:C93) -> 3353817 | D81: =SUM(D82:D93) -> 20276346 | E81: =SUM(E82:E93) -> 0 | F81: =SUM(F82:F93) -> 0 | G81: =SUM(G82:G93) -> 6959429 | H81: =SUM(H82:H93) -> 48027 | I81: =SUM(I82:I93) -> 379873 | ... M81: =SUM(M82:M93) -> 121780
A82: Janeiro | B82: =C82+D82+E82+F82+G82+H82+I82+J82+K82+L82+M82 -> 4645382 | C82: 580919 | D82: 2736820 | E82: 0 | F82: 0 | G82: 954260 | H82: 925 | I82: 55991 | J82: 236462 | K82: 63945 | L82: 0 | M82: 16060
A83: Fevereiro | B83: =C83+D83+E83+F83+G83+H83+I83+J83+K83+L83+M83 -> 4732847 | C83: 532562 | D83: 2747521 | E83: 0 | F83: 0 | G83: 1072711 | H83: 14715 | I83: 55088 | J83: 223415 | K83: 70842 | L83: 0 | M83: 15993
A84: Março | B84: =C84+D84+E84+F84+G84+H84+I84+J84+K84+L84+M84 -> 3387629 | C84: 358216 | D84: 2134874 | E84: 0 | F84: 0 | G84: 596423 | H84: 31867 | I84: 40251 | J84: 152141 | K84: 59326 | L84: 1439 | M84: 13092
A85: Abril | B85: =C85+D85+E85+F85+G85+H85+I85+J85+K85+L85+M85 -> 1236962 | C85: 92109 | D85: 858764 | E85: 0 | F85: 0 | G85: 185925 | H85: 0 | I85: 13917 | J85: 30803 | K85: 40485 | L85: 5170 | M85: 9789
A86: Maio | B86: =C86+D86+E86+F86+G86+H86+I86+J86+K86+L86+M86 -> 1370556 | C86: 104723 | D86: 945830 | E86: 0 | F86: 0 | G86: 212653 | H86: 0 | I86: 14751 | J86: 35842 | K86: 40984 | L86: 4277 | M86: 11496
A87: Junho | B87: =C87+D87+E87+F87+G87+H87+I87+J87+K87+L87+M87 -> 1719768 | C87: 158101 | D87: 1124932 | E87: 0 | F87: 0 | G87: 298974 | H87: 21 | I87: 20539 | J87: 60600 | K87: 42903 | L87: 4399 | M87: 9299
A88: Julho | B88: =C88+D88+E88+F88+G88+H88+I88+J88+K88+L88+M88 -> 2335149 | C88: 214460 | D88: 1457015 | E88: 0 | F88: 0 | G88: 473876 | H88: 50 | I88: 27300 | J88: 93460 | K88: 55241 | L88: 6477 | M88: 7270
A89: Agosto | B89: =C89+D89+E89+F89+G89+H89+I89+J89+K89+L89+M89 -> 2553032 | C89: 237675 | D89: 1549707 | E89: 0 | F89: 0 | G89: 556145 | H89: 76 | I89: 29748 | J89: 111540 | K89: 55280 | L89: 5589 | M89: 7272
A90: Setembro | B90: =C90+D90+E90+F90+G90+H90+I90+J90+K90+L90+M90 -> 2729844 | C90: 259540 | D90: 1620434 | E90: 0 | F90: 0 | G90: 632053 | H90: 25 | I90: 30767 | J90: 120338 | K90: 54112 | L90: 4932 | M90: 7643
A91: Outubro | B91: =C91+D91+E91+F91+G91+H91+I91+J91+K91+L91+M91 -> 2875859 | C91: 283539 | D91: 1717537 | E91: 0 | F91: 0 | G91: 639642 | H91: 50 | I91: 31290 | J91: 133589 | K91: 56219 | L91: 5736 | M91: 8257
A92: Novembro | B92: =C92+D92+E92+F92+G92+H92+I92+J92+K92+L92+M92 -> 2804417 | C92: 266936 | D92: 1665581 | E92: 0 | F92: 0 | G92: 645959 | H92: 205 | I92: 30409 | J92: 130733 | K92: 50505 | L92: 6339 | M92: 7750
A93: Dezembro | B93: =C93+D93+E93+F93+G93+H93+I93+J93+K93+L93+M93 -> 2893955 | C93: 265037 | D93: 1717331 | E93: 0 | F93: 0 | G93: 690808 | H93: 93 | I93: 29822 | J93: 122946 | K93: 53352 | L93: 6707 | M93: 7859
A95: 2019 | B95: =SUM(B96:B107) -> 60195975 | C95: =SUM(C96:C107) -> 8100536 | D95: =SUM(D96:D107) -> 34383950 | E95: =SUM(E96:E107) -> 0 | F95: =SUM(F96:F107) -> 0 | G95: =SUM(G96:G107) -> 12190500 | H95: =SUM(H96:H107) -> 736474 | I95: =SUM(I96:I107) -> 741999 | ... M95: =SUM(M96:M107) -> 243471
A96: Janeiro | B96: =C96+D96+E96+F96+G96+H96+I96+J96+K96+L96+M96 -> 4743660 | C96: 650244 | D96: 2648257 | E96: 0 | F96: 0 | G96: 1064265 | H96: 112 | I96: 58945 | J96: 238702 | K96: 61736 | L96: 0 | M96: 21399
A97: Fevereiro | B97: =C97+D97+E97+F97+G97+H97+I97+J97+K97+L97+M97 -> 4667617 | C97: 658730 | D97: 2610888 | E97: 0 | F97: 0 | G97: 976554 | H97: 50276 | I97: 58761 | J97: 233231 | K97: 59969 | L97: 0 | M97: 19208
A98: Março | B98: =C98+D98+E98+F98+G98+H98+I98+J98+K98+L98+M98 -> 5091329 | C98: 683673 | D98: 2803191 | E98: 0 | F98: 0 | G98: 1148887 | H98: 60588 | I98: 62459 | J98: 240944 | K98: 68654 | L98: 0 | M98: 22933
A99: Abril | B99: =C99+D99+E99+F99+G99+H99+I99+J99+K99+L99+M99 -> 4874833 | C99: 684634 | D99: 2748103 | E99: 0 | F99: 0 | G99: 977965 | H99: 72501 | I99: 62140 | J99: 247937 | K99: 60657 | L99: 0 | M99: 20896
A100: Maio | B100: =C100+D100+E100+F100+G100+H100+I100+J100+K100+L100+M100 -> 5227699 | C100: 753778 | D100: 2933157 | E100: 0 | F100: 0 | G100: 1033773 | H100: 82945 | I100: 67304 | J100: 264417 | K100: 68292 | L100: 0 | M100: 24033
A101: Junho | B101: =C101+D101+E101+F101+G101+H101+I101+J101+K101+L101+M101 -> 4756066 | C101: 680029 | D101: 2633682 | E101: 0 | F101: 0 | G101: 984378 | H101: 75066 | I101: 60118 | J101: 242385 | K101: 61813 | L101: 0 | M101: 18595
A102: Julho | B102: =C102+D102+E102+F102+G102+H102+I102+J102+K102+L102+M102 -> 5119467 | C102: 692002 | D102: 2931864 | E102: 0 | F102: 0 | G102: 1033976 | H102: 40234 | I102: 64773 | J102: 267839 | K102: 67407 | L102: 0 | M102: 21372
A103: Agosto | B103: =C103+D103+E103+F103+G103+H103+I103+J103+K103+L103+M103 -> 5213998 | C103: 706523 | D103: 2992039 | E103: 0 | F103: 0 | G103: 1011363 | H103: 89239 | I103: 64336 | J103: 262555 | K103: 68402 | L103: 0 | M103: 19541
A104: Setembro | B104: =C104+D104+E104+F104+G104+H104+I104+J104+K104+L104+M104 -> 5097600 | C104: 669275 | D104: 2918193 | E104: 0 | F104: 0 | G104: 1023185 | H104: 86819 | I104: 61190 | J104: 251061 | K104: 67524 | L104: 0 | M104: 20353
A105: Outubro | B105: =C105+D105+E105+F105+G105+H105+I105+J105+K105+L105+M105 -> 5430853 | C105: 692209 | D105: 3175743 | E105: 0 | F105: 0 | G105: 1058750 | H105: 77247 | I105: 65027 | J105: 268616 | K105: 70778 | L105: 0 | M105: 22483
A106: Novembro | B106: =C106+D106+E106+F106+G106+H106+I106+J106+K106+L106+M106 -> 4993315 | C106: 620955 | D106: 3025789 | E106: 0 | F106: 0 | G106: 877846 | H106: 74927 | I106: 60163 | J106: 248587 | K106: 65423 | L106: 0 | M106: 19625
A107: Dezembro | B107: =C107+D107+E107+F107+G107+H107+I107+J107+K107+L107+M107 -> 4979538 | C107: 608484 | D107: 2963044 | E107: 0 | F107: 0 | G107: 999558 | H107: 26520 | I107: 56783 | J107: 247664 | K107: 64452 | L107: 0 | M107: 13033
A109: 2018 | B109: =SUM(B110:B121) -> 58084483 | C109: =SUM(C110:C121) -> 8351642 | D109: =SUM(D110:D121) -> 32138647 | E109: =SUM(E110:E121) -> 0 | F109: =SUM(F110:F121) -> 0 | G109: =SUM(G110:G121) -> 12255953 | H109: =SUM(H110:H121) -> 736827 | I109: =SUM(I110:I121) -> 707596 | ... M109: =SUM(M110:M121) -> 261089
...

Sheet PAX - LINHA 4
A1: Tabela 1: Total de passageiros mensal por forma de acesso e linha metroviária - 2016 - 2026
A2: Concessionária MetrôRio - Linha 4
A4: Ano Mês | B4: Total Geral | C4: Pré-Pago | D4: Fetranspor | E4: Jaé | F4: Metrô Na Superfície | G4: Unitário | H4: Estudantes | I4: Pessoas com Necessidades Especiais e Doentes Crônicos | J4: Maior de 65 anos | K4: Funcionário | L4: Força de Segurança | M4: Outros
B5: Linha 4 | C5: Linha 4 | D5: Linha 4 | E5: Linha 4 | F5: Linha 4 | G5: Linha 4 | H5: Linha 4 | I5: Linha 4 | J5: Linha 4 | K5: Linha 4 | L5: Linha 4 | M5: Linha 4
A6: 2026 | B6: =SUM(B7:B9) -> 7405860 | C6: =SUM(C7:C9) -> 122808 | D6: =SUM(D7:D9) -> 2969237 | E6: =SUM(E7:E9) -> 2045666 | F6: =SUM(F7:F9) -> 0 | G6: =SUM(G7:G9) -> 1455470 | H6: =SUM(H7:H9) -> 5813 | I6: =SUM(I7:I9) -> 52280 | ... M6: =SUM(M7:M9) -> 16114
A7: Janeiro | B7: =C7+D7+E7+F7+G7+H7+I7+J7+K7+L7+M7 -> 2294796 | C7: 38305 | D7: 947748 | E7: 615921 | F7: 0 | G7: 434508 | H7: 25 | I7: 15690 | J7: 215432 | K7: 14651 | L7: 7233 | M7: 5283 | N7: 2294796
A8: Fevereiro | B8: =C8+D8+E8+F8+G8+H8+I8+J8+K8+L8+M8 -> 2416501 | C8: 38512 | D8: 934549 | E8: 658774 | F8: 0 | G8: 539507 | H8: 1272 | I8: 16117 | J8: 200284 | K8: 14366 | L8: 7559 | M8: 5561 | N8: 2416501
A9: Março | B9: =C9+D9+E9+F9+G9+H9+I9+J9+K9+L9+M9 -> 2694563 | C9: 45991 | D9: 1086940 | E9: 770971 | F9: 0 | G9: 481455 | H9: 4516 | I9: 20473 | J9: 255268 | K9: 13345 | L9: 10334 | M9: 5270 | N9: 2694563
A11: 2025 | B11: =SUM(B12:B23) -> 34342592 | C11: =SUM(C12:C23) -> 608339 | D11: =SUM(D12:D23) -> 20578554 | E11: =SUM(E12:E23) -> 2860364 | F11: =SUM(F12:F23) -> 0 | G11: =SUM(G12:G23) -> 6374120 | H11: =SUM(H12:H23) -> 65685 | I11: =SUM(I12:I23) -> 250185 | ... M11: =SUM(M12:M23) -> 75631
A12: Janeiro | B12: =C12+D12+E12+F12+G12+H12+I12+J12+K12+L12+M12 -> 3620375 | C12: 52620 | D12: 2454139 | E12: 0 | F12: 0 | G12: 692877 | H12: 1613 | I12: 33325 | J12: 340619 | K12: 29902 | L12: 6522 | M12: 8758
A13: Fevereiro | B13: =C13+D13+E13+F13+G13+H13+I13+J13+K13+L13+M13 -> 3681746 | C13: 58151 | D13: 2479804 | E13: 0 | F13: 0 | G13: 719887 | H13: 7340 | I13: 27946 | J13: 345655 | K13: 26919 | L13: 7305 | M13: 8739
A14: Março | B14: =C14+D14+E14+F14+G14+H14+I14+J14+K14+L14+M14 -> 3920725 | C14: 54738 | D14: 2572404 | E14: 0 | F14: 0 | G14: 861819 | H14: 8980 | I14: 28375 | J14: 346521 | K14: 30440 | L14: 7461 | M14: 9987
A15: Abril | B15: =C15+D15+E15+F15+G15+H15+I15+J15+K15+L15+M15 -> 3481431 | C15: 50233 | D15: 2400497 | E15: 0 | F15: 0 | G15: 608014 | H15: 11576 | I15: 28074 | J15: 339536 | K15: 26368 | L15: 7117 | M15: 10016
A16: Maio | B16: =C16+D16+E16+F16+G16+H16+I16+J16+K16+L16+M16 -> 2483282 | C16: 55692 | D16: 1692106 | E16: 0 | F16: 0 | G16: 458267 | H16: 4833 | I16: 15405 | J16: 229714 | K16: 14507 | L16: 7603 | M16: 5155
A17: Junho | B17: =C17+D17+E17+F17+G17+H17+I17+J17+K17+L17+M17 -> 2250507 | C17: 49247 | D17: 1548961 | E17: 0 | F17: 0 | G17: 391512 | H17: 4866 | I17: 14522 | J17: 215198 | K17: 13861 | L17: 7073 | M17: 5267
A18: Julho | B18: =C18+D18+E18+F18+G18+H18+I18+J18+K18+L18+M18 -> 2394854 | C18: 50570 | D18: 1636776 | E18: 0 | F18: 0 | G18: 428286 | H18: 2631 | I18: 15555 | J18: 234712 | K18: 13756 | L18: 7714 | M18: 4854
A19: Agosto | B19: =C19+D19+E19+F19+G19+H19+I19+J19+K19+L19+M19 -> 2468214 | C19: 51532 | D19: 1323827 | E19: 380521 | F19: 0 | G19: 429069 | H19: 5299 | I19: 16994 | J19: 234966 | K19: 13947 | L19: 7426 | M19: 4633
A20: Setembro | B20: =C20+D20+E20+F20+G20+H20+I20+J20+K20+L20+M20 -> 2549632 | C20: 50401 | D20: 1209358 | E20: 566756 | F20: 0 | G20: 435265 | H20: 5866 | I20: 17287 | J20: 238274 | K20: 13603 | L20: 8086 | M20: 4736
A21: Outubro | B21: =C21+D21+E21+F21+G21+H21+I21+J21+K21+L21+M21 -> 2565471 | C21: 49240 | D21: 1162182 | E21: 625769 | F21: 0 | G21: 435149 | H21: 5470 | I21: 17681 | J21: 244450 | K21: 13672 | L21: 7805 | M21: 4053
A22: Novembro | B22: =C22+D22+E22+F22+G22+H22+I22+J22+K22+L22+M22 -> 2353871 | C22: 42565 | D22: 1029656 | E22: 598029 | F22: 0 | G22: 407362 | H22: 5154 | I22: 16949 | J22: 230135 | K22: 12553 | L22: 7278 | M22: 4190
A23: Dezembro | B23: =C23+D23+E23+F23+G23+H23+I23+J23+K23+L23+M23 -> 2572484 | C23: 43350 | D23: 1068844 | E23: 689289 | F23: 0 | G23: 506613 | H23: 2057 | I23: 18072 | J23: 219356 | K23: 13164 | L23: 6496 | M23: 5243
A25: 2024 | B25: =SUM(B26:B37) -> 44557291 | C25: =SUM(C26:C37) -> 841801 | D25: =SUM(D26:D37) -> 30239823 | E25: =SUM(E26:E37) -> 0 | F25: =SUM(F26:F37) -> 0 | G25: =SUM(G26:G37) -> 8270778 | H25: =SUM(H26:H37) -> 122992 | I25: =SUM(I26:I37) -> 400425 | ... M25: =SUM(M26:M37) -> 160588
A26: Janeiro | B26: =C26+D26+E26+F26+G26+H26+I26+J26+K26+L26+M26 -> 3547141 | C26: 78770 | D26: 2394007 | E26: 0 | F26: 0 | G26: 689697 | H26: 11 | I26: 30371 | J26: 304951 | K26: 30446 | L26: 5188 | M26: 13700
A27: Fevereiro | B27: =C27+D27+E27+F27+G27+H27+I27+J27+K27+L27+M27 -> 3656701 | C27: 79750 | D27: 2339885 | E27: 0 | F27: 0 | G27: 857111 | H27: 5410 | I27: 30133 | J27: 292756 | K27: 32138 | L27: 6104 | M27: 13414
A28: Março | B28: =C28+D28+E28+F28+G28+H28+I28+J28+K28+L28+M28 -> 3735003 | C28: 84851 | D28: 2529924 | E28: 0 | F28: 0 | G28: 700958 | H28: 11012 | I28: 31477 | J28: 325627 | K28: 30450 | L28: 6313 | M28: 14391
A29: Abril | B29: =C29+D29+E29+F29+G29+H29+I29+J29+K29+L29+M29 -> 3817816 | C29: 82395 | D29: 2600584 | E29: 0 | F29: 0 | G29: 685432 | H29: 11583 | I29: 33219 | J29: 352421 | K29: 29583 | L29: 6371 | M29: 16228
A30: Maio | B30: =C30+D30+E30+F30+G30+H30+I30+J30+K30+L30+M30 -> 3798069 | C30: 76532 | D30: 2587933 | E30: 0 | F30: 0 | G30: 692342 | H30: 10514 | I30: 33469 | J30: 346331 | K30: 29362 | L30: 6664 | M30: 14922
A31: Junho | B31: =C31+D31+E31+F31+G31+H31+I31+J31+K31+L31+M31 -> 3649033 | C31: 72197 | D31: 2502904 | E31: 0 | F31: 0 | G31: 632232 | H31: 10631 | I31: 33153 | J31: 346031 | K31: 29297 | L31: 6724 | M31: 15864
A32: Julho | B32: =C32+D32+E32+F32+G32+H32+I32+J32+K32+L32+M32 -> 3739913 | C32: 67781 | D32: 2585233 | E32: 0 | F32: 0 | G32: 634114 | H32: 7391 | I32: 33490 | J32: 360090 | K32: 30651 | L32: 6430 | M32: 14733
A33: Agosto | B33: =C33+D33+E33+F33+G33+H33+I33+J33+K33+L33+M33 -> 3831391 | C33: 68502 | D33: 2644498 | E33: 0 | F33: 0 | G33: 651903 | H33: 17150 | I33: 35556 | J33: 364941 | K33: 30442 | L33: 6440 | M33: 11959
A34: Setembro | B34: =C34+D34+E34+F34+G34+H34+I34+J34+K34+L34+M34 -> 3844032 | C34: 63972 | D34: 2623259 | E34: 0 | F34: 0 | G34: 700133 | H34: 15501 | I34: 36296 | J34: 354858 | K34: 32413 | L34: 6842 | M34: 10758
A35: Outubro | B35: =C35+D35+E35+F35+G35+H35+I35+J35+K35+L35+M35 -> 3869169 | C35: 61282 | D35: 2604051 | E35: 0 | F35: 0 | G35: 741774 | H35: 15119 | I35: 36745 | J35: 361284 | K35: 29885 | L35: 6359 | M35: 12670
A36: Novembro | B36: =C36+D36+E36+F36+G36+H36+I36+J36+K36+L36+M36 -> 3437705 | C36: 52354 | D36: 2378713 | E36: 0 | F36: 0 | G36: 588242 | H36: 11862 | I36: 32529 | J36: 329537 | K36: 28092 | L36: 6483 | M36: 9893
A37: Dezembro | B37: =C37+D37+E37+F37+G37+H37+I37+J37+K37+L37+M37 -> 3631318 | C37: 53415 | D37: 2448832 | E37: 0 | F37: 0 | G37: 696840 | H37: 6808 | I37: 33987 | J37: 343738 | K37: 28937 | L37: 6705 | M37: 12056
A39: 2023 | B39: =SUM(B40:B51) -> 45342063 | C39: =SUM(C40:C51) -> 1476076 | D39: =SUM(D40:D51) -> 29720650 | E39: =SUM(E40:E51) -> 0 | F39: =SUM(F40:F51) -> 0 | G39: =SUM(G40:G51) -> 9357861 | H39: =SUM(H40:H51) -> 143003 | I39: =SUM(I40:I51) -> 365294 | ... M39: =SUM(M40:M51) -> 173304
A40: Janeiro | B40: =C40+D40+E40+F40+G40+H40+I40+J40+K40+L40+M40 -> 3586825 | C40: 154405 | D40: 2233044 | E40: 0 | F40: 0 | G40: 871985 | H40: 1289 | I40: 24929 | J40: 256186 | K40: 29390 | L40: 3148 | M40: 12449
A41: Fevereiro | B41: =C41+D41+E41+F41+G41+H41+I41+J41+K41+L41+M41 -> 3683721 | C41: 150915 | D41: 2167208 | E41: 0 | F41: 0 | G41: 1028648 | H41: 3813 | I41: 26916 | J41: 254469 | K41: 33010 | L41: 4171 | M41: 14571
A42: Março | B42: =C42+D42+E42+F42+G42+H42+I42+J42+K42+L42+M42 -> 4081776 | C42: 188086 | D42: 2509357 | E42: 0 | F42: 0 | G42: 950075 | H42: 14237 | I42: 33414 | J42: 334777 | K42: 32951 | L42: 3435 | M42: 15444
A43: Abril | B43: =C43+D43+E43+F43+G43+H43+I43+J43+K43+L43+M43 -> 3523358 | C43: 129230 | D43: 2297703 | E43: 0 | F43: 0 | G43: 721957 | H43: 11627 | I43: 28513 | J43: 288123 | K43: 29476 | L43: 2834 | M43: 13895
A44: Maio | B44: =C44+D44+E44+F44+G44+H44+I44+J44+K44+L44+M44 -> 3956185 | C44: 128414 | D44: 2665824 | E44: 0 | F44: 0 | G44: 737054 | H44: 17026 | I44: 31761 | J44: 327880 | K44: 30980 | L44: 3053 | M44: 14193
A45: Junho | B45: =C45+D45+E45+F45+G45+H45+I45+J45+K45+L45+M45 -> 3777047 | C45: 116302 | D45: 2549121 | E45: 0 | F45: 0 | G45: 696636 | H45: 16917 | I45: 30532 | J45: 317538 | K45: 30512 | L45: 2924 | M45: 16565
A46: Julho | B46: =C46+D46+E46+F46+G46+H46+I46+J46+K46+L46+M46 -> 3658215 | C46: 105344 | D46: 2463272 | E46: 0 | F46: 0 | G46: 687759 | H46: 7148 | I46: 28498 | J46: 317184 | K46: 31316 | L46: 2940 | M46: 14754
A47: Agosto | B47: =C47+D47+E47+F47+G47+H47+I47+J47+K47+L47+M47 -> 4062454 | C47: 117732 | D47: 2757888 | E47: 0 | F47: 0 | G47: 745815 | H47: 18214 | I47: 32293 | J47: 339857 | K47: 33337 | L47: 3100 | M47: 14218
A48: Setembro | B48: =C48+D48+E48+F48+G48+H48+I48+J48+K48+L48+M48 -> 3764805 | C48: 102700 | D48: 2544751 | E48: 0 | F48: 0 | G48: 719186 | H48: 16101 | I48: 29727 | J48: 305662 | K48: 31047 | L48: 2760 | M48: 12871
A49: Outubro | B49: =C49+D49+E49+F49+G49+H49+I49+J49+K49+L49+M49 -> 3741041 | C49: 97974 | D49: 2558351 | E49: 0 | F49: 0 | G49: 673897 | H49: 15718 | I49: 33607 | J49: 312872 | K49: 31076 | L49: 3409 | M49: 14137
A50: Novembro | B50: =C50+D50+E50+F50+G50+H50+I50+J50+K50+L50+M50 -> 3796230 | C50: 96002 | D50: 2516824 | E50: 0 | F50: 0 | G50: 769073 | H50: 14678 | I50: 33289 | J50: 315092 | K50: 30762 | L50: 5102 | M50: 15408
A51: Dezembro | B51: =C51+D51+E51+F51+G51+H51+I51+J51+K51+L51+M51 -> 3710406 | C51: 88972 | D51: 2457307 | E51: 0 | F51: 0 | G51: 755776 | H51: 6235 | I51: 31815 | J51: 319546 | K51: 30701 | L51: 5255 | M51: 14799
A53: 2022 | B53: =SUM(B54:B65) -> 40354020 | C53: =SUM(C54:C65) -> 2240764 | D53: =SUM(D54:D65) -> 25242461 | E53: =SUM(E54:E65) -> 0 | F53: =SUM(F54:F65) -> 0 | G53: =SUM(G54:G65) -> 8860868 | H53: =SUM(H54:H65) -> 142334 | I53: =SUM(I54:I65) -> 294397 | ... M53: =SUM(M54:M65) -> 192480
A54: Janeiro | B54: =C54+D54+E54+F54+G54+H54+I54+J54+K54+L54+M54 -> 2563114 | C54: 140107 | D54: 1622291 | E54: 0 | F54: 0 | G54: 573343 | H54: 25 | I54: 17101 | J54: 167598 | K54: 25535 | L54: 4455 | M54: 12659
A55: Fevereiro | B55: =C55+D55+E55+F55+G55+H55+I55+J55+K55+L55+M55 -> 2759005 | C55: 165319 | D55: 1740912 | E55: 0 | F55: 0 | G55: 589199 | H55: 3886 | I55: 19082 | J55: 190357 | K55: 26928 | L55: 5457 | M55: 17865
A56: Março | B56: =C56+D56+E56+F56+G56+H56+I56+J56+K56+L56+M56 -> 3384312 | C56: 215187 | D56: 2103866 | E56: 0 | F56: 0 | G56: 748016 | H56: 9414 | I56: 23717 | J56: 229731 | K56: 29597 | L56: 6519 | M56: 18265
A57: Abril | B57: =C57+D57+E57+F57+G57+H57+I57+J57+K57+L57+M57 -> 3228975 | C57: 198168 | D57: 2002700 | E57: 0 | F57: 0 | G57: 711375 | H57: 9144 | I57: 22942 | J57: 230925 | K57: 28465 | L57: 6253 | M57: 19003
A58: Maio | B58: =C58+D58+E58+F58+G58+H58+I58+J58+K58+L58+M58 -> 3531400 | C58: 213619 | D58: 2208939 | E58: 0 | F58: 0 | G58: 748318 | H58: 17879 | I58: 25847 | J58: 264703 | K58: 28410 | L58: 5951 | M58: 17734
A59: Junho | B59: =C59+D59+E59+F59+G59+H59+I59+J59+K59+L59+M59 -> 3249257 | C59: 184504 | D59: 2061064 | E59: 0 | F59: 0 | G59: 667900 | H59: 17375 | I59: 24077 | J59: 242052 | K59: 27816 | L59: 5803 | M59: 18666
A60: Julho | B60: =C60+D60+E60+F60+G60+H60+I60+J60+K60+L60+M60 -> 3424249 | C60: 182337 | D60: 2156036 | E60: 0 | F60: 0 | G60: 746503 | H60: 10375 | I60: 25326 | J60: 258666 | K60: 29218 | L60: 3447 | M60: 12341
A61: Agosto | B61: =C61+D61+E61+F61+G61+H61+I61+J61+K61+L61+M61 -> 3717032 | C61: 208404 | D61: 2358083 | E61: 0 | F61: 0 | G61: 774898 | H61: 17688 | I61: 28221 | J61: 284296 | K61: 30979 | L61: 3184 | M61: 11279
A62: Setembro | B62: =C62+D62+E62+F62+G62+H62+I62+J62+K62+L62+M62 -> 3793198 | C62: 212323 | D62: 2303509 | E62: 0 | F62: 0 | G62: 912356 | H62: 16978 | I62: 28519 | J62: 273398 | K62: 32022 | L62: 3731 | M62: 10362
A63: Outubro | B63: =C63+D63+E63+F63+G63+H63+I63+J63+K63+L63+M63 -> 3570152 | C63: 187003 | D63: 2226530 | E63: 0 | F63: 0 | G63: 783003 | H63: 16272 | I63: 28046 | J63: 282384 | K63: 30360 | L63: 3369 | M63: 13185
A64: Novembro | B64: =C64+D64+E64+F64+G64+H64+I64+J64+K64+L64+M64 -> 3516935 | C64: 171365 | D64: 2188601 | E64: 0 | F64: 0 | G64: 770064 | H64: 15180 | I64: 26022 | J64: 275540 | K64: 38317 | L64: 3131 | M64: 28715
A65: Dezembro | B65: =C65+D65+E65+F65+G65+H65+I65+J65+K65+L65+M65 -> 3616391 | C65: 162428 | D65: 2269930 | E65: 0 | F65: 0 | G65: 835893 | H65: 8118 | I65: 25497 | J65: 268620 | K65: 30513 | L65: 2986 | M65: 12406
A67: 2021 | B67: =SUM(B68:B79) -> 27707098 | C67: =SUM(C68:C79) -> 1719402 | D67: =SUM(D68:D79) -> 18423638 | E67: =SUM(E68:E79) -> 0 | F67: =SUM(F68:F79) -> 0 | G67: =SUM(G68:G79) -> 5160131 | H67: =SUM(H68:H79) -> 14599 | I67: =SUM(I68:I79) -> 174002 | ... M67: =SUM(M68:M79) -> 153931
A68: Janeiro | B68: =C68+D68+E68+F68+G68+H68+I68+J68+K68+L68+M68 -> 2163942 | C68: 125072 | D68: 1384577 | E68: 0 | F68: 0 | G68: 481951 | H68: 0 | I68: 14217 | J68: 117603 | K68: 28356 | L68: 2755 | M68: 9411
A69: Fevereiro | B69: =C69+D69+E69+F69+G69+H69+I69+J69+K69+L69+M69 -> 2045112 | C69: 133125 | D69: 1323597 | E69: 0 | F69: 0 | G69: 415584 | H69: 51 | I69: 13843 | J69: 120328 | K69: 28315 | L69: 321 | M69: 9948
A70: Março | B70: =C70+D70+E70+F70+G70+H70+I70+J70+K70+L70+M70 -> 2180834 | C70: 137736 | D70: 1435524 | E70: 0 | F70: 0 | G70: 413766 | H70: 98 | I70: 14916 | J70: 131788 | K70: 29722 | L70: 3626 | M70: 13658
A71: Abril | B71: =C71+D71+E71+F71+G71+H71+I71+J71+K71+L71+M71 -> 1889588 | C71: 112235 | D71: 1255298 | E71: 0 | F71: 0 | G71: 351559 | H71: 83 | I71: 13119 | J71: 116698 | K71: 27092 | L71: 3363 | M71: 10141
A72: Maio | B72: =C72+D72+E72+F72+G72+H72+I72+J72+K72+L72+M72 -> 1675160 | C72: 129582 | D72: 1434272 | E72: 0 | F72: 0 | G72: 39389 | H72: 115 | I72: 14495 | J72: 14048 | K72: 27805 | L72: 3791 | M72: 11663
A73: Junho | B73: =C73+D73+E73+F73+G73+H73+I73+J73+K73+L73+M73 -> 2196929 | C73: 134214 | D73: 1461986 | E73: 0 | F73: 0 | G73: 394226 | H73: 242 | I73: 14574 | J73: 148201 | K73: 27653 | L73: 4009 | M73: 11824
A74: Julho | B74: =C74+D74+E74+F74+G74+H74+I74+J74+K74+L74+M74 -> 2331679 | C74: 143141 | D74: 1545603 | E74: 0 | F74: 0 | G74: 433326 | H74: 211 | I74: 1586 | J74: 162359 | K74: 28683 | L74: 4066 | M74: 12704
A75: Agosto | B75: =C75+D75+E75+F75+G75+H75+I75+J75+K75+L75+M75 -> 2429299 | C75: 147663 | D75: 1622838 | E75: 0 | F75: 0 | G75: 455887 | H75: 848 | I75: 16555 | J75: 162825 | K75: 2766 | L75: 4643 | M75: 15274
A76: Setembro | B76: =C76+D76+E76+F76+G76+H76+I76+J76+K76+L76+M76 -> 2490060 | C76: 153315 | D76: 1624800 | E76: 0 | F76: 0 | G76: 479172 | H76: 1457 | I76: 17184 | J76: 167634 | K76: 27224 | L76: 4555 | M76: 14719
A77: Outubro | B77: =C77+D77+E77+F77+G77+H77+I77+J77+K77+L77+M77 -> 2541719 | C77: 155065 | D77: 1657533 | E77: 0 | F77: 0 | G77: 489333 | H77: 2607 | I77: 16888 | J77: 174402 | K77: 27058 | L77: 4975 | M77: 13858
A78: Novembro | B78: =C78+D78+E78+F78+G78+H78+I78+J78+K78+L78+M78 -> 2767673 | C78: 170732 | D78: 1774567 | E78: 0 | F78: 0 | G78: 563525 | H78: 6182 | I78: 17839 | J78: 187535 | K78: 26514 | L78: 4621 | M78: 16158
A79: Dezembro | B79: =C79+D79+E79+F79+G79+H79+I79+J79+K79+L79+M79 -> 2995103 | C79: 177522 | D79: 1903043 | E79: 0 | F79: 0 | G79: 642413 | H79: 2705 | I79: 18786 | J79: 202906 | K79: 27718 | L79: 5437 | M79: 14573
A81: 2020 | B81: =SUM(B82:B93) -> 25894757 | C81: =SUM(C82:C93) -> 1990745 | D81: =SUM(D82:D93) -> 16724214 | E81: =SUM(E82:E93) -> 0 | F81: =SUM(F82:F93) -> 0 | G81: =SUM(G82:G93) -> 4903839 | H81: =SUM(H82:H93) -> 10941 | I81: =SUM(I82:I93) -> 183357 | ... M81: =SUM(M82:M93) -> 119260
A82: Janeiro | B82: =C82+D82+E82+F82+G82+H82+I82+J82+K82+L82+M82 -> 4753308 | C82: 463257 | D82: 2860373 | E82: 0 | F82: 0 | G82: 964009 | H82: 386 | I82: 30247 | J82: 372051 | K82: 42051 | L82: 0 | M82: 20934
A83: Fevereiro | B83: =C83+D83+E83+F83+G83+H83+I83+J83+K83+L83+M83 -> 4803606 | C83: 459072 | D83: 2878321 | E83: 0 | F83: 0 | G83: 1035148 | H83: 3589 | I83: 29247 | J83: 330305 | K83: 45007 | L83: 0 | M83: 22917
A84: Março | B84: =C84+D84+E84+F84+G84+H84+I84+J84+K84+L84+M84 -> 3034076 | C84: 266938 | D84: 1957162 | E84: 0 | F84: 0 | G84: 524331 | H84: 6626 | I84: 20688 | J84: 210002 | K84: 33107 | L84: 398 | M84: 14824
A85: Abril | B85: =C85+D85+E85+F85+G85+H85+I85+J85+K85+L85+M85 -> 711696 | C85: 32613 | D85: 540663 | E85: 0 | F85: 0 | G85: 108394 | H85: 0 | I85: 5561 | J85: 2545 | K85: 19558 | L85: 1765 | M85: 597
A86: Maio | B86: =C86+D86+E86+F86+G86+H86+I86+J86+K86+L86+M86 -> 281057 | C86: 38059 | D86: 58784 | E86: 0 | F86: 0 | G86: 122977 | H86: 0 | I86: 5997 | J86: 29896 | K86: 20872 | L86: 1681 | M86: 2791
A87: Junho | B87: =C87+D87+E87+F87+G87+H87+I87+J87+K87+L87+M87 -> 1086820 | C87: 58945 | D87: 753171 | E87: 0 | F87: 0 | G87: 182123 | H87: 15 | I87: 8562 | J87: 52342 | K87: 22789 | L87: 1791 | M87: 7082
A88: Julho | B88: =C88+D88+E88+F88+G88+H88+I88+J88+K88+L88+M88 -> 1504628 | C88: 9737 | D88: 1067314 | E88: 0 | F88: 0 | G88: 288494 | H88: 71 | I88: 11953 | J88: 86325 | K88: 29912 | L88: 2205 | M88: 8617
A89: Agosto | B89: =C89+D89+E89+F89+G89+H89+I89+J89+K89+L89+M89 -> 1793601 | C89: 113795 | D89: 1187236 | E89: 0 | F89: 0 | G89: 340297 | H89: 38 | I89: 13393 | J89: 104959 | K89: 30774 | L89: 2178 | M89: 931
A90: Setembro | B90: =C90+D90+E90+F90+G90+H90+I90+J90+K90+L90+M90 -> 1617685 | C90: 128034 | D90: 1274414 | E90: 0 | F90: 0 | G90: 39937 | H90: 18 | I90: 14386 | J90: 117907 | K90: 31214 | L90: 2324 | M90: 9451
A91: Outubro | B91: =C91+D91+E91+F91+G91+H91+I91+J91+K91+L91+M91 -> 2010775 | C91: 142905 | D91: 1376304 | E91: 0 | F91: 0 | G91: 419412 | H91: 30 | I91: 14772 | J91: 13255 | K91: 31414 | L91: 2415 | M91: 10268
A92: Novembro | B92: =C92+D92+E92+F92+G92+H92+I92+J92+K92+L92+M92 -> 2126900 | C92: 141664 | D92: 1362714 | E92: 0 | F92: 0 | G92: 432195 | H92: 115 | I92: 14319 | J92: 134527 | K92: 28385 | L92: 2719 | M92: 10262
A93: Dezembro | B93: =C93+D93+E93+F93+G93+H93+I93+J93+K93+L93+M93 -> 2170605 | C93: 135726 | D93: 1407758 | E93: 0 | F93: 0 | G93: 446522 | H93: 53 | I93: 14232 | J93: 123092 | K93: 30059 | L93: 2577 | M93: 10586
A95: 2019 | B95: =SUM(B96:B107) -> 54853103 | C95: =SUM(C96:C107) -> 5992767 | D95: =SUM(D96:D107) -> 34158225 | E95: =SUM(E96:E107) -> 0 | F95: =SUM(F96:F107) -> 0 | G95: =SUM(G96:G107) -> 9618468 | H95: =SUM(H96:H107) -> 140493 | I95: =SUM(I96:I107) -> 331639 | ... M95: =SUM(M96:M107) -> 392020
A96: Janeiro | B96: =C96+D96+E96+F96+G96+H96+I96+J96+K96+L96+M96 -> 4236598 | C96: 489384 | D96: 2471941 | E96: 0 | F96: 0 | G96: 871863 | H96: 6 | I96: 29913 | J96: 333421 | K96: 37011 | L96: 0 | M96: 3059
A97: Fevereiro | B97: =C97+D97+E97+F97+G97+H97+I97+J97+K97+L97+M97 -> 4284908 | C97: 516803 | D97: 2527464 | E97: 0 | F97: 0 | G97: 806128 | H97: 9219 | I97: 29633 | J97: 329767 | K97: 36419 | L97: 0 | M97: 29475
A98: Março | B98: =C98+D98+E98+F98+G98+H98+I98+J98+K98+L98+M98 -> 4507898 | C98: 506538 | D98: 2633953 | E98: 0 | F98: 0 | G98: 962265 | H98: 11366 | I98: 30075 | J98: 326533 | K98: 3845 | L98: 0 | M98: 33323
A99: Abril | B99: =C99+D99+E99+F99+G99+H99+I99+J99+K99+L99+M99 -> 4367111 | C99: 527686 | D99: 2595116 | E99: 0 | F99: 0 | G99: 783426 | H99: 14237 | I99: 30776 | J99: 348852 | K99: 34361 | L99: 0 | M99: 32657
A100: Maio | B100: =C100+D100+E100+F100+G100+H100+I100+J100+K100+L100+M100 -> 4013765 | C100: 596517 | D100: 2824632 | E100: 0 | F100: 0 | G100: 86593 | H100: 16661 | I100: 33993 | J100: 384154 | K100: 36188 | L100: 0 | M100: 35027
A101: Junho | B101: =C101+D101+E101+F101+G101+H101+I101+J101+K101+L101+M101 -> 5146457 | C101: 554373 | D101: 2699042 | E101: 0 | F101: 0 | G101: 1367212 | H101: 17659 | I101: 3313 | J101: 372262 | K101: 37483 | L101: 0 | M101: 95113
A102: Julho | B102: =C102+D102+E102+F102+G102+H102+I102+J102+K102+L102+M102 -> 4166952 | C102: 576329 | D102: 2998670 | E102: 0 | F102: 0 | G102: 95081 | H102: 9596 | I102: 3514 | J102: 411895 | K102: 38903 | L102: 0 | M102: 32964
A103: Agosto | B103: =C103+D103+E103+F103+G103+H103+I103+J103+K103+L103+M103 -> 4724012 | C103: 574037 | D103: 3060331 | E103: 0 | F103: 0 | G103: 940403 | H103: 219 | I103: 35356 | J103: 40762 | K103: 40623 | L103: 0 | M103: 32281
A104: Setembro | B104: =C104+D104+E104+F104+G104+H104+I104+J104+K104+L104+M104 -> 4671807 | C104: 539391 | D104: 3041448 | E104: 0 | F104: 0 | G104: 919116 | H104: 21695 | I104: 34405 | J104: 38166 | K104: 43681 | L104: 0 | M104: 33905
A105: Outubro | B105: =C105+D105+E105+F105+G105+H105+I105+J105+K105+L105+M105 -> 5488170 | C105: 567876 | D105: 3381381 | E105: 0 | F105: 0 | G105: 973295 | H105: 19879 | I105: 36761 | J105: 424426 | K105: 45576 | L105: 0 | M105: 38976
A106: Novembro | B106: =C106+D106+E106+F106+G106+H106+I106+J106+K106+L106+M106 -> 4357464 | C106: 49537 | D106: 2980856 | E106: 0 | F106: 0 | G106: 843617 | H106: 19184 | I106: 32637 | J106: 385972 | K106: 42388 | L106: 0 | M106: 3273
A107: Dezembro | B107: =C107+D107+E107+F107+G107+H107+I107+J107+K107+L107+M107 -> 4887961 | C107: 494296 | D107: 2943391 | E107: 0 | F107: 0 | G107: 969469 | H107: 772 | I107: 31263 | J107: 384411 | K107: 42392 | L107: 0 | M107: 21967
A109: 2018 | B109: =SUM(B110:B121) -> 57826019 | C109: =SUM(C110:C121) -> 6438600 | D109: =SUM(D110:D121) -> 34158225 | E109: =SUM(E110:E121) -> 0 | F109: =SUM(F110:F121) -> 0 | G109: =SUM(G110:G121) -> 11253534 | H109: =SUM(H110:H121) -> 169122 | I109: =SUM(I110:I121) -> 393082 | ... M109: =SUM(M110:M121) -> 449008
...
